BEGIN:VCALENDAR
VERSION:2.0
PRODID:-//Hville Blast - ECPv6.15.20//NONSGML v1.0//EN
CALSCALE:GREGORIAN
METHOD:PUBLISH
X-ORIGINAL-URL:https://hvilleblast.com
X-WR-CALDESC:Events for Hville Blast
REFRESH-INTERVAL;VALUE=DURATION:PT1H
X-Robots-Tag:noindex
X-PUBLISHED-TTL:PT1H
BEGIN:VTIMEZONE
TZID:America/Chicago
BEGIN:DAYLIGHT
TZOFFSETFROM:-0600
TZOFFSETTO:-0500
TZNAME:CDT
DTSTART:20240310T080000
END:DAYLIGHT
BEGIN:STANDARD
TZOFFSETFROM:-0500
TZOFFSETTO:-0600
TZNAME:CST
DTSTART:20241103T070000
END:STANDARD
BEGIN:DAYLIGHT
TZOFFSETFROM:-0600
TZOFFSETTO:-0500
TZNAME:CDT
DTSTART:20250309T080000
END:DAYLIGHT
BEGIN:STANDARD
TZOFFSETFROM:-0500
TZOFFSETTO:-0600
TZNAME:CST
DTSTART:20251102T070000
END:STANDARD
BEGIN:DAYLIGHT
TZOFFSETFROM:-0600
TZOFFSETTO:-0500
TZNAME:CDT
DTSTART:20260308T080000
END:DAYLIGHT
BEGIN:STANDARD
TZOFFSETFROM:-0500
TZOFFSETTO:-0600
TZNAME:CST
DTSTART:20261101T070000
END:STANDARD
BEGIN:DAYLIGHT
TZOFFSETFROM:-0600
TZOFFSETTO:-0500
TZNAME:CDT
DTSTART:20270314T080000
END:DAYLIGHT
BEGIN:STANDARD
TZOFFSETFROM:-0500
TZOFFSETTO:-0600
TZNAME:CST
DTSTART:20271107T070000
END:STANDARD
END:VTIMEZONE
BEGIN:VEVENT
DTSTART;TZID=America/Chicago:20260418T163000
DTEND;TZID=America/Chicago:20260418T173000
DTSTAMP:20260421T085609
CREATED:20250301T201057Z
LAST-MODIFIED:20250301T201057Z
UID:10007607-1776529800-1776533400@hvilleblast.com
SUMMARY:Celtic Folk Dance Lessons
DESCRIPTION:Learn Irish English and Scottish social dancing at Saturn Jive Dance Space in Lowe Mills every Saturday from 4:30 to 5:30.  All ages and skill levels welcome!
URL:https://hvilleblast.com/event/celtic-folk-dance-lessons-5/2026-04-18/
LOCATION:Lowe Mill ARTS & Entertainment
CATEGORIES:Adult Education,adult Events,Classes & Wokshops,Evening Events
ATTACH;FMTTYPE=image/jpeg:https://hvilleblast.com/wp-content/uploads/2025/02/Celtic-Dance.jpg
END:VEVENT
BEGIN:VEVENT
DTSTART;TZID=America/Chicago:20260418T163000
DTEND;TZID=America/Chicago:20260418T173000
DTSTAMP:20260421T085609
CREATED:20250211T181008Z
LAST-MODIFIED:20250211T181013Z
UID:10008185-1776529800-1776533400@hvilleblast.com
SUMMARY:Celtic Folk Dance Lessons
DESCRIPTION:Learn Irish English and Scottish social dancing at Saturn Jive Dance Space in Lowe Mills every Saturday from 4:30 to 5:30.  All ages and skill levels welcome!
URL:https://hvilleblast.com/event/celtic-folk-dance-lessons-2/2026-04-18/
LOCATION:Lowe Mill ARTS & Entertainment
CATEGORIES:Adult Education,adult Events,Classes & Wokshops,Evening Events
ATTACH;FMTTYPE=image/jpeg:https://hvilleblast.com/wp-content/uploads/2025/02/Celtic-Dance.jpg
END:VEVENT
BEGIN:VEVENT
DTSTART;TZID=America/Chicago:20260418T163000
DTEND;TZID=America/Chicago:20260418T173000
DTSTAMP:20260421T085609
CREATED:20250206T173647Z
LAST-MODIFIED:20250206T173651Z
UID:10007892-1776529800-1776533400@hvilleblast.com
SUMMARY:Celtic Folk Dance Lessons
DESCRIPTION:Learn Irish English and Scottish social dancing at Saturn Jive Dance Space in Lowe Mills every Saturday from 4:30 to 5:30.  All ages and skill levels welcome!
URL:https://hvilleblast.com/event/celtic-folk-dance-lessons/2026-04-18/
LOCATION:Lowe Mill ARTS & Entertainment
CATEGORIES:Adult Education,adult Events,Classes & Wokshops,Evening Events
ATTACH;FMTTYPE=image/jpeg:https://hvilleblast.com/wp-content/uploads/2025/02/Celtic-Dance.jpg
END:VEVENT
BEGIN:VEVENT
DTSTART;TZID=America/Chicago:20260417T173000
DTEND;TZID=America/Chicago:20260417T190000
DTSTAMP:20260421T085609
CREATED:20260102T170824Z
LAST-MODIFIED:20260102T170824Z
UID:10021333-1776447000-1776452400@hvilleblast.com
SUMMARY:1 / of 9  Friday Night - Fun Night! Paint Your Partner Date or BFF Night!
DESCRIPTION:The “Paint Your Partner” Date Night offers a unique and enjoyable experience for couples to unleash their creativity\, share laughter\, and create lasting memories together. Hosted at “The Happy Place”\, Studio 269 & 270. \nDuring the class\, couples will be provided with all the necessary painting supplies\, including canvases\, brushes\, and paints to paint your partner and share the results in the very end – no peeking\, no perfection – just pure fun! \nWhat sets this date night apart is its playful twist – instead of painting traditional landscapes or still lifes\, couples will be painting portraits of each other! Don’t worry if you’re not a professional artist – the emphasis is on having fun and enjoying the experience together. Feel free to add humorous touches or inside jokes to your paintings to make them truly unique. \nThroughout the class\, couples can sip on their choice of beverages from Ravenwood’s curated selection\, which includes alcoholic and non-alcoholic options. The relaxed atmosphere and cozy setting provide the perfect backdrop for conversation\, playful creation\, laughter\, and relaxation. \nWhether you’re celebrating a special occasion or simply looking for a fun and memorable date night idea\, the “Paint Your Partner” class at The Happy Place in Lowe Mill promises to be an unforgettable experience filled with creativity\, laughter\, and love. So grab your partner\, unleash your inner artist\, and let the painting (and the laughter) begin! \nClass information:\nOnly 10 Couples.\nSelect the Friday Night That Works For You\n5:30-7:00pm\n$55/couple (includes commemorative photo) \nLOCATION:\n2211 Seminole Drive\nStudio 269 & 270\nHuntsville\, AL 35805 \nFOOD/DRINK POLICY:\nLowe Mill has a marvelous selection of restaurants and bar with beer\, and non-alcoholic options. There will be a QR code for you to order your beverages from The Meadery where it will be delivered. In the event you bring food and drink\, please clean up after yourself. \nCANCELLATION POLICY:\nDue to the custom nature of all our classes\, no refunds will be issued for reservations. However\, if you cancel with at least 24 hours’ notice your payment will be turned into a credit that can be used for a future class within 90 days. Please email us (stephanieweaverartist@gmail.com) to cancel. \nIf you no-show\, or don’t give at least 24 hours’ notice\, you forfeit your reservation payment and will not receive a credit. Seats are transferable\, but please notify us at least 3 hours prior to a class with the name change.\nBy completing the reservation process you agree to these terms
URL:https://hvilleblast.com/event/1-of-9-friday-night-fun-night-paint-your-partner-date-or-bff-night/2026-04-17/
LOCATION:Huntsville Art Supplies @ 2211 Seminole Dr SW\, Huntsville\, AL\, United States
CATEGORIES:Adult Education,adult Events,Arts & Culture,Classes & Wokshops,Evening Events,Featured,Studio Event,Wellness
ATTACH;FMTTYPE=image/png:https://hvilleblast.com/wp-content/uploads/2025/12/1761877112_0.png
GEO:34.702327;-86.628864
END:VEVENT
BEGIN:VEVENT
DTSTART;TZID=America/Chicago:20260404T100000
DTEND;TZID=America/Chicago:20260404T160000
DTSTAMP:20260421T085609
CREATED:20260402T174139Z
LAST-MODIFIED:20260402T174139Z
UID:10023743-1775296800-1775318400@hvilleblast.com
SUMMARY:U.S. Veterans Memorial Museum Duck Hunt
DESCRIPTION:🐥🎖️ Duck Hunt at the U.S. Veterans Memorial Museum! 🎖️🐥 \nLooking for a fun and unique activity for the kids this weekend? Join us at the U.S. Veterans Memorial Museum on April 4th for a special Duck Hunt event inspired by the popular Jeep “ducking” tradition! 🦆🚙 \n🦆 Rubber ducks will be hidden throughout the museum—just like the ducks Jeep owners place on one another’s vehicles\n🏅 Each child who finds them earns a special Duck Hunter Badge\n🔍 Please leave the ducks where you find them so the next child can enjoy the hunt too!\n💲 Only $3 per child to participate \nWith Easter on April 5th and our incredible collection of military Jeeps\, this is the perfect way to celebrate the season with a fun twist on a beloved Jeep tradition. \nBring the whole family and make it a day to remember—we can’t wait to see you there!\n#DuckDuckJeep #FamilyFun #EasterWeekend #MuseumAdventure #USVMM
URL:https://hvilleblast.com/event/u-s-veterans-memorial-museum-duck-hunt/
LOCATION:AL
CATEGORIES:Adult Education,Adult Education,adult Events,Adult Events,Adult Events,children's Education,Adult Events,family-friendly,Education,Events,Family-friendly,Youth Education
ATTACH;FMTTYPE=image/png:https://hvilleblast.com/wp-content/uploads/2026/04/2026-04-04-DUCK-HUNT.png
END:VEVENT
BEGIN:VEVENT
DTSTART;TZID=America/Chicago:20260322T130000
DTEND;TZID=America/Chicago:20260322T163000
DTSTAMP:20260421T085609
CREATED:20260309T175541Z
LAST-MODIFIED:20260309T175541Z
UID:10023262-1774184400-1774197000@hvilleblast.com
SUMMARY:Luminous Florals in Oil
DESCRIPTION:A Two-Day Workshop with Ann Moeller\nMarch 21–22\nLowe Mill Studio #271 | Huntsville\, Alabama\nLimited to 10 participants \nSchedule\nSaturday\, March 21\n10:00 AM – 12:00 PM\nLunch Break 12:00 – 1:00 PM\n1:00 – 4:30 PM \nSunday\, March 22\n1:00 – 4:30 PM \nEnrollment closes March 19 at 11:59 PM. \nAbout the Workshop\nFlowers are fleeting. Oil paint allows us to slow down and truly observe them. \nIn this two-day studio workshop\, we will work from live florals to explore how light moves across petals\, how form turns in space\, and how color relationships create atmosphere. \nRather than rushing toward a polished result\, this workshop emphasizes thoughtful seeing\, strong beginnings\, and confident paint handling. \nAnn will guide participants through: \n\n\nDesigning a compelling still life arrangement \n\n\nSetting up simple\, effective lighting for painting from life \n\n\nEstablishing value structure before chasing color \n\n\nMixing clean\, intentional color relationships \n\n\nDeveloping depth through edge control and temperature shifts \n\n\nKnowing when to pause\, adjust\, or simplify \n\n\nStudents will work toward a resolved floral study over the weekend at their own pace. Individual progress will vary\, and personalized feedback will be offered throughout. \nLive flowers will be provided. \nWhat’s Included\nThe following materials are provided for use during the workshop: \n\n\nProfessional oil paints \n\n\nOne prepared 12×16 painting panel \n\n\nA curated brush set (for use during the workshop) \n\n\nLive floral still life setup \n\n\nStudio mediums and shared materials \n\n\nPrinted handout / reference guide \n\n\nParticipants are welcome to bring their favorite brushes or materials if they prefer. \nPlease note:\nFor studio safety\, no turpentine or solvent-heavy products may be used. We will work with odorless\, low-toxicity mediums only. \nBrush sets used during the workshop will be available for purchase at the conclusion of the weekend. \nSkill Level\nIdeal for: \n\n\nArtists with some drawing or painting experience \n\n\nAcrylic painters curious about oil \n\n\nOil painters wanting to strengthen fundamentals \n\n\nIf unsure whether this workshop is a good fit\, feel free to reach out. \nTuition\nIn-Person Studio Workshop\n$465 per participant\nLimited to 10 painters \nIncludes: \n\n\n10 hours of instruction \n\n\nMaterials for use \n\n\nIndividual feedback \n\n\nPrepared panel \n\n\nLive floral setup \n\n\nOnline Recorded + Live Critique Option\n$295 per participant \nIncludes: \n\n\nAccess to recorded workshop sessions \n\n\nReference photo provided in advance \n\n\nSetup and material guidance \n\n\nLive group critique the following weekend (date announced during workshop) \n\n\nOnline participants must register by March 19 to receive prep instructions. \nRegistration\n\n\nEnrollment limited to 10 in-person participants. \n\n\nRegistration closes March 19. \n\n\nSignups must be completed at least 48 hours in advance. \n\n\nTuition is non-refundable unless a seat can be filled from the waitlist.
URL:https://hvilleblast.com/event/luminous-florals-in-oil/2026-03-22/
LOCATION:Lowe Mill A&E
CATEGORIES:Adult Education,Adult Education,adult Events,Adult Events,Arts & Culture,Classes & Wokshops
ATTACH;FMTTYPE=image/jpeg:https://hvilleblast.com/wp-content/uploads/2026/03/tempImageGA58sj-scaled.jpg
END:VEVENT
BEGIN:VEVENT
DTSTART;TZID=America/Chicago:20260319T173000
DTEND;TZID=America/Chicago:20260319T190000
DTSTAMP:20260421T085609
CREATED:20260209T165202Z
LAST-MODIFIED:20260209T165202Z
UID:10022603-1773941400-1773946800@hvilleblast.com
SUMMARY:Watercolor Class: Silhouettes & Starry Skies
DESCRIPTION:Create a dreamy\, story-filled watercolor galaxy inspired by iconic love stories\, fantasy\, and fandom culture. Students will be guided step-by-step and provided with silhouette templates to trace\, making this class approachable and fun for all skill levels.\nLimited spots available – register now for Watercolor Class: Silhouettes & Starry Skies! \nDetails: \nDate: 3/19/2026\nTime: 5:30pm – 7pm\nLocation: Huntsville Art Supplies\,\n2211 Seminole Drive\,\nStudio 269\nHuntsville\, AL 35805 \nTicket Price:\n$30 if you bring your supplies\n$40 for instructor provided supplies \nMaximum Class Size: 12 \nAbout the Artist: \nLexie is an award-winning watercolor artist born and raised in Huntsville\, Alabama\, with a lifelong love for color\, storytelling\, and the Southern landscape. Her work celebrates the beauty of everyday life\, blending history\, faith\, and imagination through luminous watercolor washes. Lexie’s paintings have been featured in galleries\, museums\, and shops across North Alabama\, and she continues to share her art through exhibitions\, local retailers\, and her online studio. When she’s not painting\, she enjoys exploring new creative outlets and spending time with her family and beloved pets. \nWhat You’ll Learn: \n\nHow to create a glowing watercolor galaxy using wet-on-wet techniques\nBlending rich\, luminous colors to build depth and atmosphere\nCreating stars\, light effects\, and cosmic texture\nHow to use provided silhouette templates to create clean\, bold focal points\nTips for controlling watercolor flow while keeping things loose and expressive\n\nStudents will choose from a selection of pre-made silhouette templates — ranging from classic romantic imagery to fun\, fandom-inspired couples — allowing everyone to focus on painting while still creating a personal\, finished piece. \nSpace is limited\, so reserve your spot now to ensure you don’t miss this opportunity to paint something magical! \nWHAT TO BRING: \nIf you’re bringing your own supplies\, here’s what you may want to have. You may also use instructor supplies for an additional fee: \n\n\nWatercolor paper (I can purchase an Arches pad if that makes sense)\n\n\nBrushes\n\n\nDaniel Smith colors: Carb Violet\, Phthalo Green (Blue Shade)\, Indigo\, Quinacridone Magenta\n\n\nBleed Proof White\n\nPencils\, paper towels\, water cups are provided.\n\nAll of these supplies are available at Huntsville Art Supplies!
URL:https://hvilleblast.com/event/watercolor-class-silhouettes-starry-skies/
LOCATION:Huntsville Art Supplies @ 2211 Seminole Dr SW\, Huntsville\, AL\, United States
CATEGORIES:Adult Education,adult Events,Adult Events,family-friendly,Arts & Culture,Classes & Wokshops,Coming Soon,Evening Events,Family-friendly,Featured,Galleries,Homeschool,On Event Calendar,Social Events,Things to Do *Featured*,Youth Education
ATTACH;FMTTYPE=image/jpeg:https://hvilleblast.com/wp-content/uploads/2026/02/WatercolorClassatHuntsvilleArtSuppliesFeyreandRhysandGalaxyMedium_bae08f50-5470-4d9b-8bf3-7160ca96ce40.jpg
GEO:34.702327;-86.628864
END:VEVENT
BEGIN:VEVENT
DTSTART;TZID=America/Chicago:20260217T140000
DTEND;TZID=America/Chicago:20260217T153000
DTSTAMP:20260421T085609
CREATED:20260122T155119Z
LAST-MODIFIED:20260122T155119Z
UID:10022418-1771336800-1771342200@hvilleblast.com
SUMMARY:The Calorie
DESCRIPTION:Learn the history of the Calorie\, its origina and how it became associate with diet and nutrition. \nBrought to you by LearningQUEST \nFREE TO THE PUBLIC
URL:https://hvilleblast.com/event/the-calorie/
LOCATION:Downtown Huntsville Library @ 915 Monroe St.\, Huntsville\, AL\, United States
CATEGORIES:Adult Education,adult Events
ATTACH;FMTTYPE=image/jpeg:https://hvilleblast.com/wp-content/uploads/2026/01/LQ-Flyer-Calorie.jpg
GEO:34.718428;-86.556439
END:VEVENT
BEGIN:VEVENT
DTSTART;TZID=America/Chicago:20251212T100000
DTEND;TZID=America/Chicago:20251212T180000
DTSTAMP:20260421T085609
CREATED:20251105T224727Z
LAST-MODIFIED:20251105T224727Z
UID:10019662-1765533600-1765562400@hvilleblast.com
SUMMARY:Patterson Place Open House
DESCRIPTION:Discover Patterson Place at our Open House!Take a tour of our space\, see our program come to life\, and meet the Citizens who make this community so special. You’ll also be able to shop our handmade goods—fudge\, candles\, dog treats\, artwork\, and more—with every purchase supporting our mission. Bring a friend and come experience how love\, acceptance\, and purpose are woven into every day at Patterson Place.
URL:https://hvilleblast.com/event/patterson-place-open-house/
LOCATION:AL
CATEGORIES:Adult Education,adult Events,Artists Market,Downtown Huntsville,Events,Family-friendly,Free Events,Holiday,Holiday Market,Market,North Alabama,Seasonal,Social Events,Volunteer Opportunities
ATTACH;FMTTYPE=image/png:https://hvilleblast.com/wp-content/uploads/2025/11/Open-House.png
END:VEVENT
BEGIN:VEVENT
DTSTART;TZID=America/Chicago:20251207T140000
DTEND;TZID=America/Chicago:20251207T160000
DTSTAMP:20260421T085609
CREATED:20251201T170655Z
LAST-MODIFIED:20251201T170655Z
UID:10020419-1765116000-1765123200@hvilleblast.com
SUMMARY:Pearl Harbor Remembrance Day Lecture
DESCRIPTION:Join us at VFW Post 2702 for the 5th Annual Pearl Harbor Remembrance Day. Guest Speaker Mr. Cledo “Clay” Davis\, PMP\, Commander\, US Navy (Ret.) and President of the Madison County Heritage Commission will be honoring the WWII heroes who made the ultimate sacrifice. \n🇺🇸 FREE Event \n🗓 Dec 7\, 2025 | 2–4 PM CST \n📍 VFW Post 2702\, 2900 N Memorial Pkwy\, Huntsville\, AL \nThis free community event is open to all. \nContact: (Ret.) John Perry | 256-658-2010 | john.perry@irtc-hq.com \nLet’s remember and honor together. 🇺🇸
URL:https://hvilleblast.com/event/pearl-harbor-remembrance-day-lecture/
LOCATION:AL
CATEGORIES:Adult Education,Adult Education,adult Events,Education,Free Events,History,Speaker Series
ATTACH;FMTTYPE=image/jpeg:https://hvilleblast.com/wp-content/uploads/2025/11/1000051035.jpg
END:VEVENT
BEGIN:VEVENT
DTSTART;TZID=America/Chicago:20251206T110000
DTEND;TZID=America/Chicago:20251206T160000
DTSTAMP:20260421T085609
CREATED:20251020T202445Z
LAST-MODIFIED:20251020T202445Z
UID:10018909-1765018800-1765036800@hvilleblast.com
SUMMARY:Winter Wonders of Woo: A Free Community Wellness Festival
DESCRIPTION:Join The MVMNT Collective Nonprofit for Winter Wonders of Woo\, a free\, family-friendly community event celebrating holistic wellness\, movement\, and mindful connection. \n📅 Date: Saturday\, December 6th🕚 Time: 11:00 AM – 4:00 PM📍 Location: Movement Massage and Breathwork; 2227 Drake Ave SW Building 3A\, Huntsville\, AL 35805🌐 Website: movementbyleah.com \nThis immersive wellness gathering will feature a diverse lineup of activities designed to nurture body\, mind\, and community. Enjoy free yoga and movement practices\, explore a local vendor market\, and savor delicious offerings from food trucks throughout the day. \nThe event will also include a community panel\, performance art\, and opportunities to connect with local practitioners in holistic health\, bodywork\, and massage. Attendees are encouraged to stay for the Ecstatic Dance following the main event — a joyful movement experience open to all (registration available on the website). \nWhether you’re passionate about wellness or simply looking for a meaningful way to spend the day with your community\, Winter Wonders of Woo invites you to connect\, move\, and celebrate the magic of mindful living.
URL:https://hvilleblast.com/event/winter-wonders-of-woo-a-free-community-wellness-festival/
LOCATION:AL
CATEGORIES:Adult Education,Adult Education,adult Events,Adult Events,Adult Events,family-friendly,Artists Market,Dance,Events,Family-friendly,Festivals,Free Events,Holiday Market,Market,North Alabama,Outdoors,Seasonal,Wellness,Wellness & Education
ATTACH;FMTTYPE=image/jpeg:https://hvilleblast.com/wp-content/uploads/2025/10/Winter-Wonders-of-Woo.jpeg
END:VEVENT
BEGIN:VEVENT
DTSTART;TZID=America/Chicago:20251122T160000
DTEND;TZID=America/Chicago:20251122T183000
DTSTAMP:20260421T085609
CREATED:20250918T164157Z
LAST-MODIFIED:20250918T164157Z
UID:10015819-1763827200-1763836200@hvilleblast.com
SUMMARY:Paint Your Pet - Pop Art Pets with Stephanie Weaver
DESCRIPTION:Pop Art Pets Painting Class with Stephanie Weaver\nUnleash your inner artist and create a vibrant\, pop art-style portrait of your beloved pet! Join Stephanie Weaver for a fun and creative painting class where you’ll transform your pet’s photo into a bold\, colorful masterpiece. Perfect for beginners and pet lovers alike\, this hands-on workshop provides all the tools you need to paint like a pro—no experience required! \nClass Details\n\nWhat to Expect: Before the class\, submit a clear photo of ONE pet\, and Stephanie will pre-draw your pet’s outline on a canvas\, ready for you to paint. When you arrive\, choose your pop art color palette (think Andy Warhol vibes!) and dive into painting with step-by-step guidance. Watch two short prep videos (provided upon registration) to get inspired and ready.\nMaterials: All supplies are included—10×10″ panel canvas\, acrylic paints\, brushes\, and more. Just bring your pet’s photo (digital submission required before the event).\nBYOB or Sip in Style: Feel free to bring your own beverage to enjoy while you paint\, or purchase a commemorative wine tumbler featuring your pet’s sketch for $45\, complete with complimentary beverages during the class.\nPrice: $75 per person (base price). Add a custom pet sketch wine tumbler for $45.\nPicture of Your Pet: Please submit the photo you would like for the artist to pre-draw on your canvas at least 3 days prior to the event.  Send to info@huntsvilleartsupplies.com.\nVibe: Fun\, relaxed\, and pet-obsessed! Connect with other pet lovers in a supportive\, creative environment.\n\nWhy You’ll Love It\nStephanie’s classes are all about empowering \nWhen & Where: \nChoose the date that works for you.  Class available in: \n\n\n\nAugust 23rd\, 4-6:30pm (picture of your pet is due by August 20th)\nOctober 25th\, 4-6:30pm (picture of your pet is due by October 22nd)\nNovember 22nd\, 4-6:30pm (picture of your pet is due by November 19th)
URL:https://hvilleblast.com/event/paint-your-pet-pop-art-pets-with-stephanie-weaver-2/2025-11-22/
LOCATION:Huntsville Art Supplies @ 2211 Seminole Dr SW\, Huntsville\, AL\, United States
CATEGORIES:Adult Education,adult Events,Adult Events,family-friendly,Arts & Culture,Classes & Wokshops,Dogs,family-friendly,Evening Events,Kids & Family,North Alabama
ATTACH;FMTTYPE=image/png:https://hvilleblast.com/wp-content/uploads/2025/09/sketch_of_animals_5.png
GEO:34.702327;-86.628864
END:VEVENT
BEGIN:VEVENT
DTSTART;TZID=America/Chicago:20251025T090000
DTEND;TZID=America/Chicago:20251025T133000
DTSTAMP:20260421T085609
CREATED:20251020T202418Z
LAST-MODIFIED:20251020T202418Z
UID:10019137-1761382800-1761399000@hvilleblast.com
SUMMARY:Huntsville Women’s Health Conference
DESCRIPTION:Huntsville Women’s Health Conference is Huntsville’s first ever free community workshop aimed at advancing women’s health education. \nWhat to Expect: \n\nExpert Speakers\nPanels\nQ&A\nMobile Medical Unit\nDoor Prizes/Raffle\nHealthcare Information & Resources\nExpert-Led Yoga Session\n& MORE!
URL:https://hvilleblast.com/event/huntsville-womens-health-conference-3/
LOCATION:AL
CATEGORIES:Adult Education,Adult Education,adult Events,Adult Events,Classes & Wokshops,Education,Events,Free Events,Wellness
ATTACH;FMTTYPE=image/png:https://hvilleblast.com/wp-content/uploads/2025/10/Conferencelogo.png
END:VEVENT
END:VCALENDAR