BEGIN:VCALENDAR
VERSION:2.0
PRODID:-//Hville Blast - ECPv6.15.20//NONSGML v1.0//EN
CALSCALE:GREGORIAN
METHOD:PUBLISH
X-WR-CALNAME:Hville Blast
X-ORIGINAL-URL:https://hvilleblast.com
X-WR-CALDESC:Events for Hville Blast
REFRESH-INTERVAL;VALUE=DURATION:PT1H
X-Robots-Tag:noindex
X-PUBLISHED-TTL:PT1H
BEGIN:VTIMEZONE
TZID:America/Chicago
BEGIN:DAYLIGHT
TZOFFSETFROM:-0600
TZOFFSETTO:-0500
TZNAME:CDT
DTSTART:20250309T080000
END:DAYLIGHT
BEGIN:STANDARD
TZOFFSETFROM:-0500
TZOFFSETTO:-0600
TZNAME:CST
DTSTART:20251102T070000
END:STANDARD
BEGIN:DAYLIGHT
TZOFFSETFROM:-0600
TZOFFSETTO:-0500
TZNAME:CDT
DTSTART:20260308T080000
END:DAYLIGHT
BEGIN:STANDARD
TZOFFSETFROM:-0500
TZOFFSETTO:-0600
TZNAME:CST
DTSTART:20261101T070000
END:STANDARD
BEGIN:DAYLIGHT
TZOFFSETFROM:-0600
TZOFFSETTO:-0500
TZNAME:CDT
DTSTART:20270314T080000
END:DAYLIGHT
BEGIN:STANDARD
TZOFFSETFROM:-0500
TZOFFSETTO:-0600
TZNAME:CST
DTSTART:20271107T070000
END:STANDARD
END:VTIMEZONE
BEGIN:VEVENT
DTSTART;TZID=America/Chicago:20260422T190000
DTEND;TZID=America/Chicago:20260422T213000
DTSTAMP:20260422T110402
CREATED:20260419T112807Z
LAST-MODIFIED:20260422T122804Z
UID:10024842-1776884400-1776893400@hvilleblast.com
SUMMARY:Improv-Ment: Level Up Your Improv Skills
DESCRIPTION:Ages 17+: Ready to take your improv skills to the next level? Join our Improv-Ment class\, a drop-in session designed for improvisers who have completed a Level 1 improv class. In this hour-and-a-half session\, you’ll explore advanced techniques\, receive personalized coaching\, and gain valuable feedback from experienced instructors.For just $10\, you’ll have the opportunity to:* Hone your improv fundamentals\, including active listening\, agreement\, and character development* Learn new improv games and exercises to challenge and expand your skills* Receive one-on-one coaching and feedback from experienced instructors* Collaborate with fellow improvisers in a supportive and encouraging environmentWhether you’re aiming to perform on stage or simply want to enhance your creativity and spontaneity\, Improv-Ment will help you elevate your improv game. \nDuration: 90 minutes \nLocation: Black Box Theater \nPrerequisites: Completion of a Level 1 improv class \nTickets
URL:https://hvilleblast.com/event/improv-ment-level-up-your-improv-skills-5/
LOCATION:Shenanigans Comedy Theatre @ 2650 Leeman Ferry Road Southwest\, Huntsville\, AL\, United States
CATEGORIES:Comedy
ATTACH;FMTTYPE=image/jpeg:https://timelyapp-prod.s3.us-west-2.amazonaws.com/images/54704218/Improv-Ment_bqIt.png
GEO:34.718428;-86.556439
END:VEVENT
BEGIN:VEVENT
DTSTART;TZID=America/Chicago:20260422T210000
DTEND;TZID=America/Chicago:20260422T230000
DTSTAMP:20260422T110402
CREATED:20251006T153209Z
LAST-MODIFIED:20251006T153209Z
UID:10018574-1776891600-1776898800@hvilleblast.com
SUMMARY:Phat Sammy's Phusion Comedy Open Mic
DESCRIPTION:Weekly comedy open mic hosted by Black Panther/Hidden Dragon AKA Branden Willis of Clown College Podcast and Alex Zee! Sign up at 8:30pm\, show starts at 9pm!
URL:https://hvilleblast.com/event/phat-sammys-phusion-comedy-open-mic/2026-04-22/
LOCATION:Phat Sammys @ 104 Jefferson Street South\, Huntsville\, AL\, United States
CATEGORIES:Comedy,Evening Events,Events
ATTACH;FMTTYPE=image/png:https://hvilleblast.com/wp-content/uploads/2025/10/phatsammys2.png
GEO:34.718428;-86.556439
END:VEVENT
END:VCALENDAR