BEGIN:VCALENDAR
VERSION:2.0
PRODID:-//Hville Blast - ECPv6.15.20//NONSGML v1.0//EN
CALSCALE:GREGORIAN
METHOD:PUBLISH
X-WR-CALNAME:Hville Blast
X-ORIGINAL-URL:https://hvilleblast.com
X-WR-CALDESC:Events for Hville Blast
REFRESH-INTERVAL;VALUE=DURATION:PT1H
X-Robots-Tag:noindex
X-PUBLISHED-TTL:PT1H
BEGIN:VTIMEZONE
TZID:America/Chicago
BEGIN:DAYLIGHT
TZOFFSETFROM:-0600
TZOFFSETTO:-0500
TZNAME:CDT
DTSTART:20240310T080000
END:DAYLIGHT
BEGIN:STANDARD
TZOFFSETFROM:-0500
TZOFFSETTO:-0600
TZNAME:CST
DTSTART:20241103T070000
END:STANDARD
BEGIN:DAYLIGHT
TZOFFSETFROM:-0600
TZOFFSETTO:-0500
TZNAME:CDT
DTSTART:20250309T080000
END:DAYLIGHT
BEGIN:STANDARD
TZOFFSETFROM:-0500
TZOFFSETTO:-0600
TZNAME:CST
DTSTART:20251102T070000
END:STANDARD
BEGIN:DAYLIGHT
TZOFFSETFROM:-0600
TZOFFSETTO:-0500
TZNAME:CDT
DTSTART:20260308T080000
END:DAYLIGHT
BEGIN:STANDARD
TZOFFSETFROM:-0500
TZOFFSETTO:-0600
TZNAME:CST
DTSTART:20261101T070000
END:STANDARD
END:VTIMEZONE
BEGIN:VEVENT
DTSTART;TZID=America/Chicago:20250919T190000
DTEND;TZID=America/Chicago:20250919T235900
DTSTAMP:20260425T052231
CREATED:20250916T015736Z
LAST-MODIFIED:20250918T025748Z
UID:10015974-1758308400-1758326340@hvilleblast.com
SUMMARY:Mark Normand: Ya Don't Say
DESCRIPTION:Tickets: https://www.ticketmaster.com/mark-normand-ya-dont-say-tour-huntsville-alabama-09-19-2025/event/2000622AC8D41FF3.
URL:https://hvilleblast.com/event/mark-normand-ya-dont-say/
LOCATION:Von Braun Center Mark C. Smith Concert Hall @ 700 Monroe Street Southwest\, Huntsville\, AL\, United States
CATEGORIES:Comedy
ATTACH;FMTTYPE=image/jpeg:https://timelyapp-prod.s3.us-west-2.amazonaws.com/images/54704218/MarkNormand_HUNTS-AL_1920x1080_LOGO_F49016BB-02E4-1FE1-233F4A94B8C73255_f49a19ca-f2e3-6335-d9bbdea413b11827_7wJI.jpg
GEO:34.718428;-86.556439
END:VEVENT
END:VCALENDAR