BEGIN:VCALENDAR
VERSION:2.0
PRODID:-//Hville Blast - ECPv6.15.20//NONSGML v1.0//EN
CALSCALE:GREGORIAN
METHOD:PUBLISH
X-ORIGINAL-URL:https://hvilleblast.com
X-WR-CALDESC:Events for Hville Blast
REFRESH-INTERVAL;VALUE=DURATION:PT1H
X-Robots-Tag:noindex
X-PUBLISHED-TTL:PT1H
BEGIN:VTIMEZONE
TZID:America/Chicago
BEGIN:DAYLIGHT
TZOFFSETFROM:-0600
TZOFFSETTO:-0500
TZNAME:CDT
DTSTART:20250309T080000
END:DAYLIGHT
BEGIN:STANDARD
TZOFFSETFROM:-0500
TZOFFSETTO:-0600
TZNAME:CST
DTSTART:20251102T070000
END:STANDARD
BEGIN:DAYLIGHT
TZOFFSETFROM:-0600
TZOFFSETTO:-0500
TZNAME:CDT
DTSTART:20260308T080000
END:DAYLIGHT
BEGIN:STANDARD
TZOFFSETFROM:-0500
TZOFFSETTO:-0600
TZNAME:CST
DTSTART:20261101T070000
END:STANDARD
BEGIN:DAYLIGHT
TZOFFSETFROM:-0600
TZOFFSETTO:-0500
TZNAME:CDT
DTSTART:20270314T080000
END:DAYLIGHT
BEGIN:STANDARD
TZOFFSETFROM:-0500
TZOFFSETTO:-0600
TZNAME:CST
DTSTART:20271107T070000
END:STANDARD
END:VTIMEZONE
BEGIN:VEVENT
DTSTART;TZID=America/Chicago:20260722T190000
DTEND;TZID=America/Chicago:20260722T230000
DTSTAMP:20260422T124424
CREATED:20260127T210056Z
LAST-MODIFIED:20260127T210056Z
UID:10022443-1784746800-1784761200@hvilleblast.com
SUMMARY:Creed: Summer of '99 Tour with Mammoth & Hinder
DESCRIPTION:GRAMMY® and American Music Award–winning rock band CREED formed in Tallahassee\, Florida\, in 1994. \nWith more than one billion Spotify streams across hits such as “Higher\,” “My Sacrifice\,” “One Last Breath\,” “With Arms Wide Open\,” and “My Own Prison\,” their music continues to resonate with new generations. \nNearly 30 years later\, the songs crafted by vocalist Scott Stapp\, guitarist Mark Tremonti\, bassist Brian Marshall and drummer Scott Phillips remain essential to modern rock and alternative music.
URL:https://hvilleblast.com/event/creed-summer-of-99-tour-with-mammoth-hinder/
LOCATION:The Orion Amphitheater @ 701 Amphitheater Drive\, Huntsville\, AL\, United States
CATEGORIES:Concerts at Three Caves,Live Music
ATTACH;FMTTYPE=image/jpeg:https://hvilleblast.com/wp-content/uploads/2026/01/Static_Social-Instagram_1080x1080_Creed_2025_Regional_TheOrionAmphitheater_0722-1.jpg
GEO:34.702327;-86.628864
END:VEVENT
END:VCALENDAR