BEGIN:VCALENDAR
VERSION:2.0
PRODID:-//Hville Blast - ECPv6.15.20//NONSGML v1.0//EN
CALSCALE:GREGORIAN
METHOD:PUBLISH
X-WR-CALNAME:Hville Blast
X-ORIGINAL-URL:https://hvilleblast.com
X-WR-CALDESC:Events for Hville Blast
REFRESH-INTERVAL;VALUE=DURATION:PT1H
X-Robots-Tag:noindex
X-PUBLISHED-TTL:PT1H
BEGIN:VTIMEZONE
TZID:America/Chicago
BEGIN:DAYLIGHT
TZOFFSETFROM:-0600
TZOFFSETTO:-0500
TZNAME:CDT
DTSTART:20250309T080000
END:DAYLIGHT
BEGIN:STANDARD
TZOFFSETFROM:-0500
TZOFFSETTO:-0600
TZNAME:CST
DTSTART:20251102T070000
END:STANDARD
BEGIN:DAYLIGHT
TZOFFSETFROM:-0600
TZOFFSETTO:-0500
TZNAME:CDT
DTSTART:20260308T080000
END:DAYLIGHT
BEGIN:STANDARD
TZOFFSETFROM:-0500
TZOFFSETTO:-0600
TZNAME:CST
DTSTART:20261101T070000
END:STANDARD
BEGIN:DAYLIGHT
TZOFFSETFROM:-0600
TZOFFSETTO:-0500
TZNAME:CDT
DTSTART:20270314T080000
END:DAYLIGHT
BEGIN:STANDARD
TZOFFSETFROM:-0500
TZOFFSETTO:-0600
TZNAME:CST
DTSTART:20271107T070000
END:STANDARD
END:VTIMEZONE
BEGIN:VEVENT
DTSTART;TZID=America/Chicago:20260421T183000
DTEND;TZID=America/Chicago:20260421T193000
DTSTAMP:20260419T074032
CREATED:20250710T202234Z
LAST-MODIFIED:20250710T202236Z
UID:10012540-1776796200-1776799800@hvilleblast.com
SUMMARY:Urban Cookhouse Trivia Night
DESCRIPTION:Trivia Tuesdays are on at Urban Cookhouse Bridge Street!Join us every Tuesday at 6:30 PM for a fun night of trivia. Whether you’re a trivia newbie or a seasoned know-it-all\, there’s a seat (and a prize) waiting for you. Bring your crew\, grab a bite\, and see how your brain stacks up! Stay tuned for our themed trivia on the first Tuesday of every month!
URL:https://hvilleblast.com/event/urban-cookhouse-trivia-night/2026-04-21/
CATEGORIES:Adult Events,family-friendly,Evening Events,Events,Family-friendly
ATTACH;FMTTYPE=image/png:https://hvilleblast.com/wp-content/uploads/2025/07/trivia-story-2.png
END:VEVENT
BEGIN:VEVENT
DTSTART;TZID=America/Chicago:20260422T110000
DTEND;TZID=America/Chicago:20260422T190000
DTSTAMP:20260419T074032
CREATED:20251006T153230Z
LAST-MODIFIED:20251006T153230Z
UID:10017291-1776855600-1776884400@hvilleblast.com
SUMMARY:Huntsville Art Cafe
DESCRIPTION:Huntsville Art Cafe\, pick your creative experience from our art menu —just like ordering at a restaurant!\nWe serve you table-side with top-quality supplies then clean up the mess and provide inspiration cards along with tips and tricks for each experience. Create solo or with friends in a cozy\, self-guided setting\, surrounded by art books\, unique objects\, and fresh flowers to spark your inspiration. \nCharcoal Experience:\nSavor the art of creation at Huntsville Art Supplies with our SmokySketch Charcoal Experience! Dive into the rich\, velvety textures of premium charcoals\, like General Pencil compressed charcoal or Winsor & Newton Vine Charcoal\, on high-quality papers such as Strathmore 400 Series sketchbooks or Mi-Teintes samples. Elevate your work with studio essentials like erasers\, blending stumps\, and chamois cloth\, all provided tableside in our cozy\, self-guided cafe. Supplies may vary for a fresh creative twist!\n\n\nZig CleanColor Real Brush Experience:\nIndulge in smooth and color-saturated to stunning artwork using Zig CleanColor Real Brush Pens on Hahnemühle Watercolor Postcards or unique Round Cards. Perfect for bold\, colorful designs in our cozy\, self-guided cafe\, with all tools provided table-side for your mini-masterpiece!* \n\nGouache Experience:\nSavor the rich Holbein Gouache on Hahnemühle Watercolor Postcards or unique Round Cards\, paired with versatile Princeton Snap Brushes and a sample of Aquabord.* \nWatercolor Experience:\nRelish lush Daniel Smith or M. Graham Watercolors on Hahnemühle Watercolor Postcards or unique Round Cards and a sample of Aquabord.\, using top-tier Princeton Snap\, Heritage\, Nocturna\, or Rosemary & Co. brushes.* \nSpeedball Printmaking Experience:\nCraft your own unique stamp using Speedball carving tools and materials in our cozy\, self-guided cafe. Perfect for creating custom designs to keep or share (think custom stamps for your wedding invitations\, marking your designs\, artworks\, and more)! Ages 16 and up. \n*Studio essentials like pencils\, erasers\, blending stumps\, black microns and chamois cloth\, all provided table-side in our cozy\, self-guided cafe. \nKids Menu:\nPOSCA:  Selection of POSCA pens to create a colorful work of art on heavy paper. \nDRAWING: Selection of varying pencils on smooth paper. \nCOLORED PENCIL: Selection of color pencils to create your colorful masterpiece on smooth paper. \nSides:\nHahnemuehle SKETCH DIARY  (5 x 3.5″” A5) \nSTRATHMORE BLANK WATERCOLOR CARDS (2) \nHahnemuehle Sketch & Note Booklet (5.8 x 8.7″” A6)
URL:https://hvilleblast.com/event/huntsville-art-cafe/2026-04-22/
LOCATION:Huntsville Art Supplies @ 2211 Seminole Dr SW\, Huntsville\, AL\, United States
CATEGORIES:Adult Events,family-friendly,Arts & Culture,Classes & Wokshops,Dogs,family-friendly,Family-friendly,Holiday,Homeschool,Kids & Family,Open Studio Nights,Social Events,Studio Event
ATTACH;FMTTYPE=image/png:https://hvilleblast.com/wp-content/uploads/2025/10/Art-Cafe-Photo.png
GEO:34.702327;-86.628864
END:VEVENT
BEGIN:VEVENT
DTSTART;TZID=America/Chicago:20260422T180000
DTEND;TZID=America/Chicago:20260422T200000
DTSTAMP:20260419T074032
CREATED:20260402T174116Z
LAST-MODIFIED:20260402T174116Z
UID:10023746-1776880800-1776888000@hvilleblast.com
SUMMARY:Family Movie Nights: The Wild Robot
DESCRIPTION:🎬 Family Movie Night at Field Day: “The Wild Robot” (PG) 🍿 \nJoin us every Wednesday for a FREE Family Movie Night on our outdoor patio! \nOn April 22nd\, we’re showing “The Wild Robot” on our 20′ and 25′ outdoor big screens\, starting at 6 PM. \nBring the whole crew\, grab a spot on the turf\, and settle in for a fun night under the lights. Blankets and lawn chairs are welcome! \n🍔 We’ll have a concession-style food stand available with burgers\, chicken tenders\, pizza by the slice\, and more. \n🚫 Please note: outside food is not allowed. \nFamily Movie Night happens every Wednesday at 6 PM\, with a new movie each week—so there’s always something new to watch. Check our social media page for the full movie schedule! \nWe’ll see you on the field! 🍿✨
URL:https://hvilleblast.com/event/family-movie-nights-the-wild-robot/
CATEGORIES:Family-friendly,Free Events
ATTACH;FMTTYPE=image/png:https://hvilleblast.com/wp-content/uploads/2026/04/2-scaled.png
END:VEVENT
BEGIN:VEVENT
DTSTART;TZID=America/Chicago:20260424T180000
DTEND;TZID=America/Chicago:20260424T190000
DTSTAMP:20260419T074032
CREATED:20250710T202317Z
LAST-MODIFIED:20250710T202319Z
UID:10012802-1777053600-1777057200@hvilleblast.com
SUMMARY:Urban Cookhouse Bingo Night
DESCRIPTION:Bingo Night is on at Urban Cookhouse Whitesburg!Join us every Friday at 6:00 PM for a fun night of Bingo\, great food\, and prizes! Whether you’re bringing the family or starting your weekend with friends\, it’s the perfect way to unwind and enjoy your Friday night. All ages welcome—just grab a seat\, order your favorites\, and get ready to play!
URL:https://hvilleblast.com/event/urban-cookhouse-bingo-night/2026-04-24/
CATEGORIES:Family-friendly,Social Events
ATTACH;FMTTYPE=image/png:https://hvilleblast.com/wp-content/uploads/2025/07/Bingo-Night-Door-Sign.png
END:VEVENT
BEGIN:VEVENT
DTSTART;TZID=America/Chicago:20260425T080000
DTEND;TZID=America/Chicago:20260425T170000
DTSTAMP:20260419T074032
CREATED:20260415T164703Z
LAST-MODIFIED:20260415T164703Z
UID:10024662-1777104000-1777136400@hvilleblast.com
SUMMARY:The National Cornbread Festival
DESCRIPTION:The National Cornbread Festival welcomes you to South Pittsburg\, TN April 25th and 26th for the Twenty-Ninth festival. Featuring music\, food\, arts & crafts\, a themed children’s corner\, a carnival\, and much more.
URL:https://hvilleblast.com/event/the-national-cornbread-festival/
CATEGORIES:Arts & Culture,Concerts,Events,Family-friendly,Live Music
ATTACH;FMTTYPE=image/jpeg:https://hvilleblast.com/wp-content/uploads/2026/04/LWS_6014-scaled.jpg
END:VEVENT
BEGIN:VEVENT
DTSTART;TZID=America/Chicago:20260508T173000
DTEND;TZID=America/Chicago:20260508T190000
DTSTAMP:20260419T074032
CREATED:20260413T175213Z
LAST-MODIFIED:20260413T175217Z
UID:10024419-1778261400-1778266800@hvilleblast.com
SUMMARY:Date Night: Paint By Numbers
DESCRIPTION:🌺🐦🎨 Date Night or Girls Night – you are in for a treat!!! \nThis is your time to relax\, paint\, watch a movie and grab a beverage from our local meadery!  🌺🐦🎨💑” This is an activity night like no other\, where you\, your friends and/or your partner create a gorgeous piece that you choose! \nAs you step into our welcoming studio\, you’ll have the opportunity to order your favorite beverage from the local Meadery to enhance the evening’s enjoyment. Sip on your chosen libations and let them awaken your inner artist as you prepare to unleash your creativity on canvas. \nBut that’s not all! To set the perfect mood for our painting session\, we’ll be screening a captivating film that complements the theme of the night\, creating an atmosphere of romance and artistic inspiration. \nAs the movie unfolds\, our skilled instructor\, Stephanie\, will guide you through some tips and tricks to painting by numbers so you can work on the piece that night and be prepared to continue it in your home space! \nPrepare for a night of shared creativity\, laughter\, and cinematic magic. Choose which piece you’d like to work on\, then\, paint\, sip\, and create unforgettable memories together. Don’t miss out on this special couples’ or escape with friends experience – reserve your spot now and let’s celebrate the beauty of nature as a team! 🌺🐦🎨🌟👫 \nClass information:\nAGE POLICY: Guests 16 and under are allowed with an accompanying adult. All guests must have a paid seat in order to stay. Any underage guest will be asked to leave. \nLOCATION:\n2211 Seminole Drive\nStudio 269\nHuntsville\, AL 35805 \nFOOD/DRINK POLICY:\nLowe Mill has a marvelous selection of restaurants and bar with beer\, and non-alcoholic options. There will be a QR code for you to order your beverages from The Meadery where it will be delivered. In the event you bring food and drink\, please clean up after yourself. \nCANCELLATION POLICY:\nDue to the custom nature of all our classes\, no refunds will be issued for reservations. However\, if you cancel with at least 24 hours’ notice your payment will be turned into a credit that can be used for a future class within 90 days. Please email us (stephanieweaverartist@gmail.com) to cancel. \nIf you no-show\, or don’t give at least 24 hours’ notice\, you forfeit your reservation payment and will not receive a credit. Seats are transferable\, but please notify us at least 3 hours prior to a class with the name change.\n*By completing the reservation process you agree to these terms* \n\n 
URL:https://hvilleblast.com/event/date-night-paint-by-numbers/2026-05-08/
LOCATION:Huntsville Art Supplies @ 2211 Seminole Dr SW\, Huntsville\, AL\, United States
CATEGORIES:Adult Events,family-friendly,Arts & Culture,Children's Education,family-friendly,Classes & Wokshops,Evening Events,Family-friendly,Kids & Family,Social Events,Studio Event,Wellness & Education
ATTACH;FMTTYPE=image/png:https://hvilleblast.com/wp-content/uploads/2026/04/IMG_4072-scaled.png
GEO:34.702327;-86.628864
END:VEVENT
BEGIN:VEVENT
DTSTART;TZID=America/Chicago:20260509T100000
DTEND;TZID=America/Chicago:20260509T120000
DTSTAMP:20260419T074032
CREATED:20260305T201344Z
LAST-MODIFIED:20260305T201344Z
UID:10023258-1778320800-1778328000@hvilleblast.com
SUMMARY:Walk for Epilepsy - Huntsville
DESCRIPTION:The Walk for Epilepsy – Huntsville is a free\, family-friendly community event hosted by the Epilepsy Foundation Alabama that brings together families\, friends\, and supporters to raise awareness and funds for people living with epilepsy and seizures. It’s all about walking side by side\, celebrating strength and connection\, and showing purple pride while supporting those affected by epilepsy in North Alabama. \nWalkers will enjoy fun activities\, music\, refreshments\, and plenty of community spirit as they take steps together to support epilepsy awareness. Whether you walk in person or join virtually\, every step and every donation brings us closer to a future where no one faces epilepsy alone.
URL:https://hvilleblast.com/event/walk-for-epilepsy-huntsville/
LOCATION:Butler Green at Campus 805 @ 2620 Clinton Ave West\, Huntsville\, AL\, United States
CATEGORIES:Family-friendly,Free Events,Fundraisers,Outdoors
ATTACH;FMTTYPE=image/jpeg:https://hvilleblast.com/wp-content/uploads/2026/03/Walk-for-Epilepsy-2026-Huntsville-600-x-422-px.jpg
GEO:34.709368;-86.62029
END:VEVENT
BEGIN:VEVENT
DTSTART;TZID=America/Chicago:20260522T160000
DTEND;TZID=America/Chicago:20260522T190000
DTSTAMP:20260419T074032
CREATED:20260406T154150Z
LAST-MODIFIED:20260406T154150Z
UID:10023962-1779465600-1779476400@hvilleblast.com
SUMMARY:Friday Night at The Museum
DESCRIPTION:Special Extended Hours at the U.S. Veterans Memorial Museum! \nFor ONE DAY ONLY – Friday\, May 22\, we’re keeping our doors open until 7 PM! Normally closing at 4 PM\, this is your chance to enjoy more time exploring our exhibits. \nSpecial Pricing from 3:30 PM – 7:00 PM only: \n\nAdults: $10 (regular $5)\nKids: $6 (regular $3)\nSeniors: $4\n\nCome celebrate and honor our veterans with us for a special Friday night before Memorial Day!
URL:https://hvilleblast.com/event/friday-night-at-the-museum/
CATEGORIES:Adult Education,adult Events,Adult Events,Adult Events,children's Education,Adult Events,family-friendly,Children's Education,Education,Evening Events,Events,Exhibits,Family Education,Family-friendly
ATTACH;FMTTYPE=image/png:https://hvilleblast.com/wp-content/uploads/2026/04/2026-05-22-Friday-Night.png
END:VEVENT
BEGIN:VEVENT
DTSTART;TZID=America/Chicago:20260615T090000
DTEND;TZID=America/Chicago:20260617T120000
DTSTAMP:20260419T074032
CREATED:20260304T213744Z
LAST-MODIFIED:20260304T213744Z
UID:10023249-1781514000-1781697600@hvilleblast.com
SUMMARY:🎨The Curious Artist Camp🎨
DESCRIPTION:🎨 The Curious Artist Camp🎨 \nCreativity Starts with Curiosity\nA 3-Day Kids Art Summer Camp \nAges 8–12 \nJune 15-17\, 2026 \n9:00 AM – 12:00 PM \nStudio 269 | Huntsville Art Supplies \nThe Curious Artist Camp invites young creators to explore texture\, color\, recycled materials\, and functional design in a welcoming studio environment. Over three creative mornings\, campers will experiment with new techniques\, build confidence\, and create artwork they’re proud to take home. \nWith a maximum of 12 students\, this small-group camp allows for individualized guidance\, hands-on exploration\, and plenty of room for curiosity to lead the way. \nWhat We’ll Explore\n🌿 Texture Hunters\nWe’ll head outside to discover natural textures and bring our findings back into the studio to create layered prints using simple printmaking techniques. \n♻️ Recycled Mosaic Magnets\nCampers will transform bottle caps and mixed materials into colorful mosaic magnets while exploring pattern\, composition\, and creative reuse. \n🐉 Posca Monster Mugs\nStudents will design and decorate their own ceramic mug using professional Posca paint markers\, combining character design with functional art. \nWhat’s Included\nThe $225 fee covers the following in-class and take home supplies: \n\nAll art materials\nSketchbook\nPosca marker set\nPlay dough\nThree completed projects\nOptional take-home creative prompts\n\nWhat to Bring\n\nA snack and drink each day\nClothes that can get messy\n\nAbout the Instructor\nHannah Johnson is a certified educator with years of experience working with children of all ages. She is passionate about hands-on creativity and creating welcoming spaces where young artists can explore\, experiment\, and build confidence. Hannah brings a thoughtful\, encouraging approach to the studio\, helping campers try new techniques while having fun and taking pride in their work. She is proud to be part of the Huntsville creative community and loves creating opportunities for young artists to grow right here at Huntsville Art Supplies. \nQuestions? Don’t hesitate to email info@huntsvilleartsupplies.com or visit www.huntsvilleartsupplies.com for details 🙂
URL:https://hvilleblast.com/event/%f0%9f%8e%a8the-curious-artist-camp%f0%9f%8e%a8/
LOCATION:Huntsville Art Supplies @ 2211 Seminole Dr SW\, Huntsville\, AL\, United States
CATEGORIES:Arts & Culture,Children's Education,Children's Education,family-friendly,Classes & Wokshops,Coming Soon,Day Camp,Education,Events,Family-friendly,Featured,Just for Kids,Nature Academy,North Alabama,North Huntsville,On Event Calendar,Seasonal,Social Events,South Huntsville,Studio Event,Things to Do *Featured*,Wellness & Education,Youth Education
ATTACH;FMTTYPE=image/png:https://hvilleblast.com/wp-content/uploads/2026/03/1.png
GEO:34.702327;-86.628864
END:VEVENT
END:VCALENDAR