BEGIN:VCALENDAR
VERSION:2.0
PRODID:-//Hville Blast - ECPv6.15.20//NONSGML v1.0//EN
CALSCALE:GREGORIAN
METHOD:PUBLISH
X-ORIGINAL-URL:https://hvilleblast.com
X-WR-CALDESC:Events for Hville Blast
REFRESH-INTERVAL;VALUE=DURATION:PT1H
X-Robots-Tag:noindex
X-PUBLISHED-TTL:PT1H
BEGIN:VTIMEZONE
TZID:America/Chicago
BEGIN:DAYLIGHT
TZOFFSETFROM:-0600
TZOFFSETTO:-0500
TZNAME:CDT
DTSTART:20240310T080000
END:DAYLIGHT
BEGIN:STANDARD
TZOFFSETFROM:-0500
TZOFFSETTO:-0600
TZNAME:CST
DTSTART:20241103T070000
END:STANDARD
BEGIN:DAYLIGHT
TZOFFSETFROM:-0600
TZOFFSETTO:-0500
TZNAME:CDT
DTSTART:20250309T080000
END:DAYLIGHT
BEGIN:STANDARD
TZOFFSETFROM:-0500
TZOFFSETTO:-0600
TZNAME:CST
DTSTART:20251102T070000
END:STANDARD
BEGIN:DAYLIGHT
TZOFFSETFROM:-0600
TZOFFSETTO:-0500
TZNAME:CDT
DTSTART:20260308T080000
END:DAYLIGHT
BEGIN:STANDARD
TZOFFSETFROM:-0500
TZOFFSETTO:-0600
TZNAME:CST
DTSTART:20261101T070000
END:STANDARD
END:VTIMEZONE
BEGIN:VEVENT
DTSTART;TZID=America/Chicago:20250927T100000
DTEND;TZID=America/Chicago:20250927T170000
DTSTAMP:20260421T104234
CREATED:20250912T173317Z
LAST-MODIFIED:20250912T173317Z
UID:10015786-1758967200-1758992400@hvilleblast.com
SUMMARY:The Snail's Birthday Party
DESCRIPTION:You’re invited to The Snail on the Wall’s birthday party\, as we celebrate 8 bookstore years and 1 brick-and-mortar year! This will be a two-day event with activities\, giveaways\, and more. \nThe best part is that we have gifts for you! \n\nWith a $30 purchase: Get a Snail sticker\nWith a $50 purchase: Spin the prize wheel to win something bookish\nWith a $100 purchase: Get a chance to win the “Snail 30-Second Sweep\,” where one winner gets 30 seconds to grab as many books as they can hold\n\nEvery visitor can enter our Grand Prize drawing\, with several prizes each day including Snail gift certificates\, Libro.fm audiobook bundles\, and Snail merch. \nEach morning\, we’ll have coffee drinks from local Coffee Break\, as long as supplies last. \nIt’s going to be a party! Come see us!
URL:https://hvilleblast.com/event/the-snails-birthday-party/2025-09-27/
LOCATION:The Snail on the Wall\, 816 Wellman Avenue\, Huntsville\, AL\, 35801\, United States
CATEGORIES:Adult Events,Family-friendly
ATTACH;FMTTYPE=image/png:https://hvilleblast.com/wp-content/uploads/2025/09/4.png
END:VEVENT
BEGIN:VEVENT
DTSTART;TZID=America/Chicago:20250920T183000
DTEND;TZID=America/Chicago:20250920T193000
DTSTAMP:20260421T104234
CREATED:20250131T190529Z
LAST-MODIFIED:20250131T190529Z
UID:10006340-1758393000-1758396600@hvilleblast.com
SUMMARY:Laser Holidays @ Campus805
DESCRIPTION:A different way to enjoy the festive season! Featuring a mix of everyone’s favorite holiday music – both classic and modern\, all set to fantasy laser artwork\, this is an eclectic mix to get you in the holiday spirit! \nPlaylist: \n\nSleigh Ride\nUp on the Housetop (Jackson 5)\nRudolph the Red-Nosed Reindeer (Burl Ives)\nWinter Wonderland (Eurythmics)\nDeck the Halls (Royal Philharmonic Orchestra)\nJingle Bell Rock (Randy Travis)\nWhite Christmas (Bing Crosby)\nThe Chipmunk Song\nAll I Want for Christmas\nFeliz Navidad\nRockin’ Around the Christmas Tree (Darlene Love)\nFrosty the Snowman (Cocteau Twins)\nCarol of the Bells\nThe Christmas Song (Nat King Cole)\nAll I Want for Christmase is You (Maria Carey)\nWe Wish You a Merry Christmas\n\nOptionally don our 3D glasses (provided) and turn the experience up to 11! \nLaser Shows contain intense flickering lights\, loud music and haze/fog. They are not suitable for people with disorders triggered by flashing lights. \nThis show is all ages\, family friendly and played loud. Children under the age of 8 sensitive to noise may want to bring/wear ear protection. \nOur theater is wheelchair and stroller accessible. \nShowings at 6:30pm and 7:30pm Saturday Dec 7\, Dec 14 and Dec 21 \nTickets $10 per person + taxes/fees at tickets.rocketcitylasers.com
URL:https://hvilleblast.com/event/laser-holidays-campus805/2025-09-20/
CATEGORIES:Events,Family-friendly
ATTACH;FMTTYPE=image/jpeg:https://hvilleblast.com/wp-content/uploads/2024/12/Laser_Holidays_RG_for-web.jpg
END:VEVENT
BEGIN:VEVENT
DTSTART;TZID=America/Chicago:20250920T140000
DTEND;TZID=America/Chicago:20250920T190000
DTSTAMP:20260421T104234
CREATED:20250908T143917Z
LAST-MODIFIED:20250908T143917Z
UID:10015682-1758376800-1758394800@hvilleblast.com
SUMMARY:Art Cafe Grand Opening: Unleash Your Creativity! 🎨
DESCRIPTION:Date: September 20\, 2025\nTime: 2:00 PM CDT\nLocation: Huntsville Art Supplies\, Huntsville\, AL\n2211 Seminole Drive\, Studio 269\nHuntsville\, AL 35805\nRegister: www.HuntsvilleArtCafe.com \nJoin us for the grand opening of the Art Cafe\, your new creative haven\, on September 20 at 2:00 PM at Huntsville Art Supplies located in the historic Lowe Mill Arts & Entertainment building! \nThis event is designed for artists and creatives who ready to spark their creativity and get hands-on experience with premium art products. Whether you’re a beginner or advanced artist or\, as my husband says “not a creative bone” in your body\, this is your chance to dive into a supportive\, fun\, and inspiring space! \nWhat to Expect\n\n\nKick-Off Celebration: Get the first look at the Art Cafe\, where you’ll select from a menu of art experiences and feed your soul. \n\n\nDoor Prizes Galore: Come in to Huntsville Art Supplies\, check out the Art Cafe menu\, then enter for a chance to win awesome goodies\, including Princeton brushes\, Williamsburg paints\, Golden paints\, QOR paints and MORE! \n\n\nCommunity Vibes: Connect with fellow artists\, share your creative journey\, and nerd out over paint pigments in a welcoming\, no-gatekeeping zone. \n\n\nHow to Join\n\n\nRegister Now: Secure your spot for a creative experience in the Art Cafe\, go to HuntsvilleArtCafe.com —space is limited! \n\n\nBring Your Spark: No supplies needed\, but feel free to bring your favorite brush or sketchbook for the open studio. \n\n\nStay for the Fun: Stick around. Lowe Mill Arts & Entertainment will have open studio night starting at 5pm – 7pm. \n\n\nDon’t miss this chance to paint\, connect\, and grow your art career with a community that’s all about empowering your creativity. Grab your spot\, and let’s make some magic at the Art Cafe Grand Opening!
URL:https://hvilleblast.com/event/art-cafe-grand-opening-unleash-your-creativity-%f0%9f%8e%a8/
LOCATION:Huntsville Art Supply | Studios 269 and 270
CATEGORIES:Adult Events,family-friendly,Arts & Culture,Classes & Wokshops,Events,Family-friendly,Open Studio Nights,Studio Event
ATTACH;FMTTYPE=image/gif:https://hvilleblast.com/wp-content/uploads/2025/09/Shopify-Banner-1920-×-1080-px.gif
END:VEVENT
BEGIN:VEVENT
DTSTART;TZID=America/Chicago:20250920T140000
DTEND;TZID=America/Chicago:20250920T170000
DTSTAMP:20260421T104234
CREATED:20250912T173310Z
LAST-MODIFIED:20250912T173310Z
UID:10015788-1758376800-1758387600@hvilleblast.com
SUMMARY:Ready for Launch!
DESCRIPTION:We are excited to invite you to the Future Technologies and Enabling Plasma Processes (FTPP) Ready for Launch event on Saturday\, September 20\, at The University of Alabama in Huntsville (UAH). This event is open to the public and will be happening during the UAH Family and Friends Weekend. \nThe Interstellar Mapping and Acceleration Probe (IMAP)\, a NASA mission led by Princeton University\, is scheduled to launch into space at the end of September 2025. To celebrate this exciting milestone\, we are partnering with IMAP to host a special event filled with space-themed activities. Join us to learn more about IMAP\, its mission goals\, and the science behind it… All while enjoying fun\, hands-on activities for all ages. This event is open to everyone\, so bring your curiosity and come be part of the excitement! \nEvent Details: \n\nDate: Saturday\, September 20\, 2025\nTime: 2 PM — 5 PM\nLocation: UAH Campus – Shelby Center (SST) 301\nFREE Event\n\nActivities: \nAttendees will dive into the fascinating world of space science and technology. Our interactive workshops will cover a range of topics\, including: \n\nThe 4 States of Matter\nParticle Detection in Space\nCommunicating in Code\nAll About IMAP\nAnd much more!
URL:https://hvilleblast.com/event/ready-for-launch/
LOCATION:The University of Alabama in Huntsville\, 301 Sparkman Drive\, Huntsville\, 35899\, United States
CATEGORIES:Adult Events,children's Education,Adult Events,family-friendly,Children's Education,Children's Education,family-friendly,Education,Family Education,Family-friendly,Free Events,Kids & Family
ATTACH;FMTTYPE=image/png:https://hvilleblast.com/wp-content/uploads/2025/09/RCM-Event-Ready-for-Launch-Web.png
END:VEVENT
BEGIN:VEVENT
DTSTART;TZID=America/Chicago:20250918T160000
DTEND;TZID=America/Chicago:20250918T190000
DTSTAMP:20260421T104234
CREATED:20250625T174101Z
LAST-MODIFIED:20250625T174104Z
UID:10010378-1758211200-1758222000@hvilleblast.com
SUMMARY:Autumn Chase Fun Run
DESCRIPTION:The time has come again and the Delta Zeta Huntsville Alumnae Chapter in partnership with the Huntsville Track Club is excited to host the Autumn Chase Fun Run at John Hunt Park this September! The Autumn Chase Fun Run (ACFR) is a 1-mile fun run promoting healthy habits in our community’s youth through running with a local philanthropic impact! This event is open to children in preschool through 8th grade\, and free to everyone. This year will be our 43nd year running and we hope that you will be there to join us on September 18th\, 2025 from 4pm to 7pm at John Hunt Park! \n\nSign up for the run here!\n\nIf you would like more information or to sponsor the event\, please email acfrhuntsville@gmail.com
URL:https://hvilleblast.com/event/autumn-chase-fun-run-2/
LOCATION:John Hunt Park\, 2151 Airport Rd SW\, Huntsville\, AL\, 35801\, United States
CATEGORIES:Family-friendly,Kids & Family,Runs & Walks
ATTACH;FMTTYPE=image/png:https://hvilleblast.com/wp-content/uploads/2025/06/Capture.png
END:VEVENT
BEGIN:VEVENT
DTSTART;TZID=America/Chicago:20250918T160000
DTEND;TZID=America/Chicago:20250918T190000
DTSTAMP:20260421T104234
CREATED:20250624T144553Z
LAST-MODIFIED:20250624T144557Z
UID:10010388-1758211200-1758222000@hvilleblast.com
SUMMARY:Autumn Chase Fun Run
DESCRIPTION:The time has come again and the Delta Zeta Huntsville Alumnae Chapter in partnership with the Huntsville Track Club is excited to host the Autumn Chase Fun Run at John Hunt Park this September! The Autumn Chase Fun Run (ACFR) is a 1-mile fun run promoting healthy habits in our community’s youth through running with a local philanthropic impact! This event is open to children in preschool through 8th grade\, and free to everyone. This year will be our 43nd year running and we hope that you will be there to join us on September 18th\, 2025 from 4pm to 7pm at John Hunt Park! \n\nSign up for the run here!\n\nIf you would like more information or to sponsor the event\, please email acfrhuntsville@gmail.com
URL:https://hvilleblast.com/event/autumn-chase-fun-run/
LOCATION:John Hunt Park\, 2151 Airport Rd SW\, Huntsville\, AL\, 35801\, United States
CATEGORIES:Family-friendly,Kids & Family,Runs & Walks
ATTACH;FMTTYPE=image/png:https://hvilleblast.com/wp-content/uploads/2025/06/Capture.png
END:VEVENT
END:VCALENDAR