BEGIN:VCALENDAR
VERSION:2.0
PRODID:-//Hville Blast - ECPv6.15.20//NONSGML v1.0//EN
CALSCALE:GREGORIAN
METHOD:PUBLISH
X-ORIGINAL-URL:https://hvilleblast.com
X-WR-CALDESC:Events for Hville Blast
REFRESH-INTERVAL;VALUE=DURATION:PT1H
X-Robots-Tag:noindex
X-PUBLISHED-TTL:PT1H
BEGIN:VTIMEZONE
TZID:America/Chicago
BEGIN:DAYLIGHT
TZOFFSETFROM:-0600
TZOFFSETTO:-0500
TZNAME:CDT
DTSTART:20240310T080000
END:DAYLIGHT
BEGIN:STANDARD
TZOFFSETFROM:-0500
TZOFFSETTO:-0600
TZNAME:CST
DTSTART:20241103T070000
END:STANDARD
BEGIN:DAYLIGHT
TZOFFSETFROM:-0600
TZOFFSETTO:-0500
TZNAME:CDT
DTSTART:20250309T080000
END:DAYLIGHT
BEGIN:STANDARD
TZOFFSETFROM:-0500
TZOFFSETTO:-0600
TZNAME:CST
DTSTART:20251102T070000
END:STANDARD
BEGIN:DAYLIGHT
TZOFFSETFROM:-0600
TZOFFSETTO:-0500
TZNAME:CDT
DTSTART:20260308T080000
END:DAYLIGHT
BEGIN:STANDARD
TZOFFSETFROM:-0500
TZOFFSETTO:-0600
TZNAME:CST
DTSTART:20261101T070000
END:STANDARD
BEGIN:DAYLIGHT
TZOFFSETFROM:-0600
TZOFFSETTO:-0500
TZNAME:CDT
DTSTART:20270314T080000
END:DAYLIGHT
BEGIN:STANDARD
TZOFFSETFROM:-0500
TZOFFSETTO:-0600
TZNAME:CST
DTSTART:20271107T070000
END:STANDARD
END:VTIMEZONE
BEGIN:VEVENT
DTSTART;TZID=America/Chicago:20260227T130000
DTEND;TZID=America/Chicago:20260227T150000
DTSTAMP:20260422T110657
CREATED:20260215T152714Z
LAST-MODIFIED:20260228T063206Z
UID:10022930-1772197200-1772204400@hvilleblast.com
SUMMARY:Trail Care: Green Mountain
DESCRIPTION:Help perform cutbacks and general trail maintenance throughout the preserve. Hiking distance and elevation vary. Please prepare for a hike over uneven\, rocky and rooted terrain. \nNo experience required. Wear sturdy\, closed-toe shoes. Please bring water\, snacks\, and work gloves. Extra water\, work gloves and tools will be provided. Complete a separate registration for each individual participating (each person must sign a waiver). Guardians may sign up on behalf of minors. Registration Required. \nSign Up! \nIf this event is canceled due to weather or trail conditions\, we will send a notification to registered participants to the email address provided at sign up.
URL:https://hvilleblast.com/event/trail-care-green-mountain-16/
LOCATION:Green Mountain Nature Preserve (Alum Hollow Trailhead)\, 13800 South Shawdee Road\, Huntsville\, 35803\, United States
CATEGORIES:Green Mountain,Volunteer Opportunities
ATTACH;FMTTYPE=image/jpeg:http://landtrustnal.org/wp-content/uploads/2026-Trail-Care-Sponsor-300x186.png
END:VEVENT
BEGIN:VEVENT
DTSTART;TZID=America/Chicago:20260103T140000
DTEND;TZID=America/Chicago:20260103T160000
DTSTAMP:20260422T110657
CREATED:20251211T050616Z
LAST-MODIFIED:20251227T142733Z
UID:10020974-1767448800-1767456000@hvilleblast.com
SUMMARY:Hike at Green Mountain South
DESCRIPTION:(Moderate / Around 2 hours / 2.1 miles) This hike\, along Green Mountain’s Alum Hollow Trail\, will take hikers to Alum Falls and the rock shelter nearby\, two scenic spots on the preserve. The overhang served as a shelter for native residents and travelers over this area’s human history. The trail is relatively easy\, with the exception of a steep hill leading down to the waterfall and shelter at the half-way point. \nLocation: Green Mountain Nature Preserve Alum Hollow Trailhead – 13800 South Shawdee Road\, Huntsville\, AL 35803 \nSign up \nIn the event that this hike must be canceled due to weather or trail conditions\, an email will be sent to the address you use to register. \n 
URL:https://hvilleblast.com/event/hike-at-green-mountain-south-2/
LOCATION:Green Mountain Nature Preserve (Alum Hollow Trailhead)\, 13800 South Shawdee Road\, Huntsville\, 35803\, United States
CATEGORIES:Education,Green Mountain,Guided Hikes
ATTACH;FMTTYPE=image/png:https://hvilleblast.com/wp-content/uploads/2025/05/green-mountain-1-FHPSyf.png
END:VEVENT
BEGIN:VEVENT
DTSTART;TZID=America/Chicago:20251129T130000
DTEND;TZID=America/Chicago:20251129T160000
DTSTAMP:20260422T110657
CREATED:20251122T031845Z
LAST-MODIFIED:20251202T042928Z
UID:10020169-1764421200-1764432000@hvilleblast.com
SUMMARY:Hike at Green Mountain North
DESCRIPTION:(Moderate/around 3 hours/around 4.4 miles) Come and check out Land Trust’s newest trail on Green Mountain Nature Preserve! Beginning at the Astalot trailhead\, be prepared for a beautiful afternoon climbing the west side of Green Mountain. This trail ascends a total of a little over seven hundred feet\, but there are plenty of comfortable sections along the trail to catch your breath after the more strenuous climbs. Note the three distinct sections of species on the mountain as you walk along the trail–especially the smoke trees about halfway along! \nNote: Please consider carpooling with other participants to this trailhead\, as it is in a neighborhood with limited parking. Also this preserve has several trailheads – be sure to come to the right one. \nLocation: Green Mountain Nature Preserve Astalot Trailhead–15004 Astalot Dr SE\, Huntsville\, AL 35803 \nSign up \nIf this event is canceled due to weather or trail conditions\, we will send a notification to registered participants to the email address provided at sign up.
URL:https://hvilleblast.com/event/hike-at-green-mountain-north-2/
LOCATION:Green Mountain Nature Preserve (Astalot Trailhead)\, 15002 Astalot Drive\, Huntsville\, AL\, 35803\, United States
CATEGORIES:Green Mountain,Guided Hikes
ATTACH;FMTTYPE=image/png:https://hvilleblast.com/wp-content/uploads/2025/05/green-mountain-1-FHPSyf.png
END:VEVENT
BEGIN:VEVENT
DTSTART;TZID=America/Chicago:20251112T083000
DTEND;TZID=America/Chicago:20251112T120000
DTSTAMP:20260422T110657
CREATED:20251024T211232Z
LAST-MODIFIED:20251026T212734Z
UID:10019299-1762936200-1762948800@hvilleblast.com
SUMMARY:Trail Care: Green Mountain
DESCRIPTION:Help our stewards work on a reroute of the Talus Trail at Green Mountain Nature Preserve. No experience required. Please wear sturdy\, closed-toe shoes. Bug spray\, sunscreen\, work gloves\, eye protection\, and water recommended. Complete a separate registration for each individual participating (each person must sign a waiver). Guardians may sign up on behalf of minors. Registration Required. \nMeeting Location: Alum Hollow Trailhead – 13800 South Shawdee Road\, Huntsville\, AL 35803 \nLed by Land Steward Tim Barnack \nSign Up! \nIf this event is canceled due to weather or trail conditions\, we will send a notification to registered participants to the email address provided at sign up.
URL:https://hvilleblast.com/event/trail-care-green-mountain-15/
LOCATION:Green Mountain Nature Preserve (Alum Hollow Trailhead)\, 13800 South Shawdee Road\, Huntsville\, 35803\, United States
CATEGORIES:Green Mountain,Volunteer Opportunities
ATTACH;FMTTYPE=image/png:https://hvilleblast.com/wp-content/uploads/2025/05/Trail-Care-Green-Mtn-Nature-Preserve-zvwfaS.png
END:VEVENT
BEGIN:VEVENT
DTSTART;TZID=America/Chicago:20251105T083000
DTEND;TZID=America/Chicago:20251105T120000
DTSTAMP:20260422T110657
CREATED:20251024T211224Z
LAST-MODIFIED:20251026T212730Z
UID:10019297-1762331400-1762344000@hvilleblast.com
SUMMARY:Trail Care: Green Mountain
DESCRIPTION:Help our stewards work on a reroute of the Talus Trail at Green Mountain Nature Preserve. No experience required. Please wear sturdy\, closed-toe shoes. Bug spray\, sunscreen\, work gloves\, eye protection\, and water recommended. Complete a separate registration for each individual participating (each person must sign a waiver). Guardians may sign up on behalf of minors. Registration Required. \nMeeting Location: Alum Hollow Trailhead – 13800 South Shawdee Road\, Huntsville\, AL 35803 \nLed by Land Steward Tim Barnack \nSign Up! \nIf this event is canceled due to weather or trail conditions\, we will send a notification to registered participants to the email address provided at sign up.
URL:https://hvilleblast.com/event/trail-care-green-mountain-14/
LOCATION:Green Mountain Nature Preserve (Alum Hollow Trailhead)\, 13800 South Shawdee Road\, Huntsville\, 35803\, United States
CATEGORIES:Green Mountain,Volunteer Opportunities
ATTACH;FMTTYPE=image/png:https://hvilleblast.com/wp-content/uploads/2025/05/Trail-Care-Green-Mtn-Nature-Preserve-zvwfaS.png
END:VEVENT
BEGIN:VEVENT
DTSTART;TZID=America/Chicago:20251029T083000
DTEND;TZID=America/Chicago:20251029T120000
DTSTAMP:20260422T110657
CREATED:20251005T134320Z
LAST-MODIFIED:20251026T212723Z
UID:10018272-1761726600-1761739200@hvilleblast.com
SUMMARY:Trail Care: Green Mountain
DESCRIPTION:Help our stewards work on a reroute of the Talus Trail at Green Mountain Nature Preserve. No experience required. Please wear sturdy\, closed-toe shoes. Bug spray\, sunscreen\, work gloves\, eye protection\, and water recommended. Complete a separate registration for each individual participating (each person must sign a waiver). Guardians may sign up on behalf of minors. Registration Required. \nMeeting Location: Alum Hollow Trailhead – 13800 South Shawdee Road\, Huntsville\, AL 35803 \nLed by Land Steward Tim Barnack \nSign Up! \nIf this event is canceled due to weather or trail conditions\, we will send a notification to registered participants to the email address provided at sign up.
URL:https://hvilleblast.com/event/trail-care-green-mountain-13/
LOCATION:Green Mountain Nature Preserve (Alum Hollow Trailhead)\, 13800 South Shawdee Road\, Huntsville\, 35803\, United States
CATEGORIES:Green Mountain,Volunteer Opportunities
ATTACH;FMTTYPE=image/png:https://hvilleblast.com/wp-content/uploads/2025/05/Trail-Care-Green-Mtn-Nature-Preserve-zvwfaS.png
END:VEVENT
BEGIN:VEVENT
DTSTART;TZID=America/Chicago:20251027T093000
DTEND;TZID=America/Chicago:20251027T113000
DTSTAMP:20260422T110657
CREATED:20251006T135751Z
LAST-MODIFIED:20251026T212722Z
UID:10018821-1761557400-1761564600@hvilleblast.com
SUMMARY:Monday Mountain Explorers
DESCRIPTION:Families with elementary aged children are invited to attend these homeschool enrichment program events focused on exploring the natural environment to develop a connection to the land\, to wildlife and to each other. We will learn about Alabama’s biodiversity and natural resources through weekly seasonal nature-based themes. \nWe will read literature together to spark curiosity about the natural world\, we will discover and explore our natural environment together through walks and family-led activities\, we will introduce the concept of field journaling as a way to capture our discoveries\, and ultimately we will foster community through interactions in our natural environment. \nAdditional Notes: \n\nPlease dress appropriately and bring your own water/snacks for a short hike.\nParticipants will be provided with a field journal; participants are encouraged to keep the field journal and bring to future events.\nFamilies are invited to bring a picnic lunch to enjoy after the event.\n\nAges: Elementary aged children (ages 5-11) and their caregivers \nLeader: Kelly Turner \nLocation: Green Mountain Nature Preserve\,  Alum Hollow Trailhead – 13800 South Shawdee Road\, Huntsville\, AL 35803 \n\n\nLocated about .5 mile past the entrance to Madison County Nature Trail \n\n\n\n\nSign up
URL:https://hvilleblast.com/event/monday-mountain-explorers-4/
LOCATION:Green Mountain Nature Preserve (Alum Hollow Trailhead)\, 13800 South Shawdee Road\, Huntsville\, 35803\, United States
CATEGORIES:Education,Green Mountain,Homeschool
ATTACH;FMTTYPE=image/png:https://hvilleblast.com/wp-content/uploads/2025/08/Monday-Mountain-Exploreres-IO46K2.png
END:VEVENT
BEGIN:VEVENT
DTSTART;TZID=America/Chicago:20251022T083000
DTEND;TZID=America/Chicago:20251022T120000
DTSTAMP:20260422T110657
CREATED:20251005T134317Z
LAST-MODIFIED:20251022T202756Z
UID:10018271-1761121800-1761134400@hvilleblast.com
SUMMARY:Trail Care: Green Mountain
DESCRIPTION:Help our stewards work on a reroute of the Talus Trail at Green Mountain Nature Preserve. No experience required. Please wear sturdy\, closed-toe shoes. Bug spray\, sunscreen\, work gloves\, eye protection\, and water recommended. Complete a separate registration for each individual participating (each person must sign a waiver). Guardians may sign up on behalf of minors. Registration Required. \nMeeting Location: Alum Hollow Trailhead – 13800 South Shawdee Road\, Huntsville\, AL 35803 \nLed by Land Steward Tim Barnack \nSign Up! \nIf this event is canceled due to weather or trail conditions\, we will send a notification to registered participants to the email address provided at sign up.
URL:https://hvilleblast.com/event/trail-care-green-mountain-12/
LOCATION:Green Mountain Nature Preserve (Alum Hollow Trailhead)\, 13800 South Shawdee Road\, Huntsville\, 35803\, United States
CATEGORIES:Green Mountain,Volunteer Opportunities
ATTACH;FMTTYPE=image/png:https://hvilleblast.com/wp-content/uploads/2025/05/Trail-Care-Green-Mtn-Nature-Preserve-zvwfaS.png
END:VEVENT
BEGIN:VEVENT
DTSTART;TZID=America/Chicago:20251008T083000
DTEND;TZID=America/Chicago:20251008T120000
DTSTAMP:20260422T110657
CREATED:20251005T134227Z
LAST-MODIFIED:20251008T142750Z
UID:10018266-1759912200-1759924800@hvilleblast.com
SUMMARY:Trail Care: Green Mountain
DESCRIPTION:Help our stewards work on a reroute of the Talus Trail at Green Mountain Nature Preserve. No experience required. Please wear sturdy\, closed-toe shoes. Bug spray\, sunscreen\, work gloves\, eye protection\, and water recommended. Complete a separate registration for each individual participating (each person must sign a waiver). Guardians may sign up on behalf of minors. Registration Required. \nMeeting Location: Alum Hollow Trailhead – 13800 South Shawdee Road\, Huntsville\, AL 35803 \nLed by Land Steward Tim Barnack \nSign Up! \nIf this event is canceled due to weather or trail conditions\, we will send a notification to registered participants to the email address provided at sign up.
URL:https://hvilleblast.com/event/trail-care-green-mountain-11/
LOCATION:Green Mountain Nature Preserve (Alum Hollow Trailhead)\, 13800 South Shawdee Road\, Huntsville\, 35803\, United States
CATEGORIES:Green Mountain,Volunteer Opportunities
ATTACH;FMTTYPE=image/png:https://hvilleblast.com/wp-content/uploads/2025/05/Trail-Care-Green-Mtn-Nature-Preserve-zvwfaS.png
END:VEVENT
BEGIN:VEVENT
DTSTART;TZID=America/Chicago:20251001T083000
DTEND;TZID=America/Chicago:20251001T120000
DTSTAMP:20260422T110657
CREATED:20250921T175731Z
LAST-MODIFIED:20250929T225730Z
UID:10016464-1759307400-1759320000@hvilleblast.com
SUMMARY:Trail Care: Green Mountain
DESCRIPTION:Help our stewards work on a reroute of the Talus Trail at Green Mountain Nature Preserve. No experience required. Please wear sturdy\, closed-toe shoes. Bug spray\, sunscreen\, work gloves\, eye protection\, and water recommended. Complete a separate registration for each individual participating (each person must sign a waiver). Guardians may sign up on behalf of minors. Registration Required. \nMeeting Location: Alum Hollow Trailhead – 13800 South Shawdee Road\, Huntsville\, AL 35803 \nLed by Land Steward Tim Barnack \nSign Up! \nIf this event is canceled due to weather or trail conditions\, we will send a notification to registered participants to the email address provided at sign up.
URL:https://hvilleblast.com/event/trail-care-green-mountain-10/
LOCATION:Green Mountain Nature Preserve (Alum Hollow Trailhead)\, 13800 South Shawdee Road\, Huntsville\, 35803\, United States
CATEGORIES:Green Mountain,Volunteer Opportunities
ATTACH;FMTTYPE=image/png:https://hvilleblast.com/wp-content/uploads/2025/05/Trail-Care-Green-Mtn-Nature-Preserve-zvwfaS.png
END:VEVENT
BEGIN:VEVENT
DTSTART;TZID=America/Chicago:20250924T083000
DTEND;TZID=America/Chicago:20250924T120000
DTSTAMP:20260422T110657
CREATED:20250830T011550Z
LAST-MODIFIED:20250924T183958Z
UID:10015150-1758702600-1758715200@hvilleblast.com
SUMMARY:Trail Care: Green Mountain
DESCRIPTION:Help our stewards work on a reroute of the Talus Trail at Green Mountain Nature Preserve. No experience required. Please wear sturdy\, closed-toe shoes. Bug spray\, sunscreen\, work gloves\, eye protection\, and water recommended. Complete a separate registration for each individual participating (each person must sign a waiver). Guardians may sign up on behalf of minors. Registration Required. \nMeeting Location: Alum Hollow Trailhead – 13800 South Shawdee Road\, Huntsville\, AL 35803 \nLed by Land Steward Tim Barnack \nSign Up! \nIf this event is canceled due to weather or trail conditions\, we will send a notification to registered participants to the email address provided at sign up.
URL:https://hvilleblast.com/event/trail-care-green-mountain-9/
LOCATION:Green Mountain Nature Preserve (Alum Hollow Trailhead)\, 13800 South Shawdee Road\, Huntsville\, 35803\, United States
CATEGORIES:Green Mountain,Volunteer Opportunities
ATTACH;FMTTYPE=image/png:https://hvilleblast.com/wp-content/uploads/2025/05/Trail-Care-Green-Mtn-Nature-Preserve-zvwfaS.png
END:VEVENT
END:VCALENDAR