BEGIN:VCALENDAR
VERSION:2.0
PRODID:-//Hville Blast - ECPv6.15.20//NONSGML v1.0//EN
CALSCALE:GREGORIAN
METHOD:PUBLISH
X-WR-CALNAME:Hville Blast
X-ORIGINAL-URL:https://hvilleblast.com
X-WR-CALDESC:Events for Hville Blast
REFRESH-INTERVAL;VALUE=DURATION:PT1H
X-Robots-Tag:noindex
X-PUBLISHED-TTL:PT1H
BEGIN:VTIMEZONE
TZID:America/Chicago
BEGIN:DAYLIGHT
TZOFFSETFROM:-0600
TZOFFSETTO:-0500
TZNAME:CDT
DTSTART:20250309T080000
END:DAYLIGHT
BEGIN:STANDARD
TZOFFSETFROM:-0500
TZOFFSETTO:-0600
TZNAME:CST
DTSTART:20251102T070000
END:STANDARD
BEGIN:DAYLIGHT
TZOFFSETFROM:-0600
TZOFFSETTO:-0500
TZNAME:CDT
DTSTART:20260308T080000
END:DAYLIGHT
BEGIN:STANDARD
TZOFFSETFROM:-0500
TZOFFSETTO:-0600
TZNAME:CST
DTSTART:20261101T070000
END:STANDARD
BEGIN:DAYLIGHT
TZOFFSETFROM:-0600
TZOFFSETTO:-0500
TZNAME:CDT
DTSTART:20270314T080000
END:DAYLIGHT
BEGIN:STANDARD
TZOFFSETFROM:-0500
TZOFFSETTO:-0600
TZNAME:CST
DTSTART:20271107T070000
END:STANDARD
END:VTIMEZONE
BEGIN:VEVENT
DTSTART;TZID=America/Chicago:20260505T080000
DTEND;TZID=America/Chicago:20260505T090000
DTSTAMP:20260424T122236
CREATED:20260419T102805Z
LAST-MODIFIED:20260420T102804Z
UID:10024820-1777968000-1777971600@hvilleblast.com
SUMMARY:Member Exclusive: Early Access Tuesdays
DESCRIPTION:@ 			\n			\n							 \n\n\nGarden Member Exclusive \nStart your Tuesday mornings surrounded by the peaceful beauty of the Garden. From May through October\, Garden Members enjoy exclusive\, early access to the Garden every Tuesday from 8:00 to 9:00 a.m. — perfect for a quiet stroll\, birdwatching\, or simply soaking in the serenity before the day begins. \nNo reservation required\, just check in at the Admissions desk.  \nNot a Garden Member yet? Join today to connect with nature\, enjoy exclusive perks like Early Access Tuesdays\, and save on events\, shopping\, and dining at the Garden. \n\n\n		\n\n\n\n				\n			\n \n\n\n\n\n\n						\n							Add to calendar						 \n\n\n\n									\n										Google Calendar									\n								\n\n									\n										iCalendar									\n								\n\n									\n										Outlook 365									\n								\n\n									\n										Outlook Live
URL:https://hvilleblast.com/event/member-exclusive-early-access-tuesdays-27/
LOCATION:Huntsville Botanical Garden\, 4747 Bob Wallace Ave SW\, Huntsville\, AL\, 35805\, United States
CATEGORIES:Members Only
ATTACH;FMTTYPE=image/png:https://hvilleblast.com/wp-content/uploads/2025/04/Early-Morning-Access-Gnzf9J.tmp_.png
END:VEVENT
BEGIN:VEVENT
DTSTART;TZID=America/Chicago:20260512T080000
DTEND;TZID=America/Chicago:20260512T090000
DTSTAMP:20260424T122236
CREATED:20260419T102809Z
LAST-MODIFIED:20260420T102807Z
UID:10024827-1778572800-1778576400@hvilleblast.com
SUMMARY:Member Exclusive: Early Access Tuesdays
DESCRIPTION:@ 			\n			\n							 \n\n\nGarden Member Exclusive \nStart your Tuesday mornings surrounded by the peaceful beauty of the Garden. From May through October\, Garden Members enjoy exclusive\, early access to the Garden every Tuesday from 8:00 to 9:00 a.m. — perfect for a quiet stroll\, birdwatching\, or simply soaking in the serenity before the day begins. \nNo reservation required\, just check in at the Admissions desk.  \nNot a Garden Member yet? Join today to connect with nature\, enjoy exclusive perks like Early Access Tuesdays\, and save on events\, shopping\, and dining at the Garden. \n\n\n		\n\n\n\n				\n			\n \n\n\n\n\n\n						\n							Add to calendar						 \n\n\n\n									\n										Google Calendar									\n								\n\n									\n										iCalendar									\n								\n\n									\n										Outlook 365									\n								\n\n									\n										Outlook Live
URL:https://hvilleblast.com/event/member-exclusive-early-access-tuesdays-28/
LOCATION:Huntsville Botanical Garden\, 4747 Bob Wallace Ave SW\, Huntsville\, AL\, 35805\, United States
CATEGORIES:Members Only
ATTACH;FMTTYPE=image/png:https://hvilleblast.com/wp-content/uploads/2025/04/Early-Morning-Access-Gnzf9J.tmp_.png
END:VEVENT
BEGIN:VEVENT
DTSTART;TZID=America/Chicago:20260519T080000
DTEND;TZID=America/Chicago:20260519T090000
DTSTAMP:20260424T122236
CREATED:20260419T102811Z
LAST-MODIFIED:20260420T102808Z
UID:10024832-1779177600-1779181200@hvilleblast.com
SUMMARY:Member Exclusive: Early Access Tuesdays
DESCRIPTION:@ 			\n			\n							 \n\n\nGarden Member Exclusive \nStart your Tuesday mornings surrounded by the peaceful beauty of the Garden. From May through October\, Garden Members enjoy exclusive\, early access to the Garden every Tuesday from 8:00 to 9:00 a.m. — perfect for a quiet stroll\, birdwatching\, or simply soaking in the serenity before the day begins. \nNo reservation required\, just check in at the Admissions desk.  \nNot a Garden Member yet? Join today to connect with nature\, enjoy exclusive perks like Early Access Tuesdays\, and save on events\, shopping\, and dining at the Garden. \n\n\n		\n\n\n\n				\n			\n \n\n\n\n\n\n						\n							Add to calendar						 \n\n\n\n									\n										Google Calendar									\n								\n\n									\n										iCalendar									\n								\n\n									\n										Outlook 365									\n								\n\n									\n										Outlook Live
URL:https://hvilleblast.com/event/member-exclusive-early-access-tuesdays-29/
LOCATION:Huntsville Botanical Garden\, 4747 Bob Wallace Ave SW\, Huntsville\, AL\, 35805\, United States
CATEGORIES:Members Only
ATTACH;FMTTYPE=image/png:https://hvilleblast.com/wp-content/uploads/2025/04/Early-Morning-Access-Gnzf9J.tmp_.png
END:VEVENT
END:VCALENDAR