BEGIN:VCALENDAR
VERSION:2.0
PRODID:-//Hville Blast - ECPv6.15.20//NONSGML v1.0//EN
CALSCALE:GREGORIAN
METHOD:PUBLISH
X-ORIGINAL-URL:https://hvilleblast.com
X-WR-CALDESC:Events for Hville Blast
REFRESH-INTERVAL;VALUE=DURATION:PT1H
X-Robots-Tag:noindex
X-PUBLISHED-TTL:PT1H
BEGIN:VTIMEZONE
TZID:America/Chicago
BEGIN:DAYLIGHT
TZOFFSETFROM:-0600
TZOFFSETTO:-0500
TZNAME:CDT
DTSTART:20240310T080000
END:DAYLIGHT
BEGIN:STANDARD
TZOFFSETFROM:-0500
TZOFFSETTO:-0600
TZNAME:CST
DTSTART:20241103T070000
END:STANDARD
BEGIN:DAYLIGHT
TZOFFSETFROM:-0600
TZOFFSETTO:-0500
TZNAME:CDT
DTSTART:20250309T080000
END:DAYLIGHT
BEGIN:STANDARD
TZOFFSETFROM:-0500
TZOFFSETTO:-0600
TZNAME:CST
DTSTART:20251102T070000
END:STANDARD
BEGIN:DAYLIGHT
TZOFFSETFROM:-0600
TZOFFSETTO:-0500
TZNAME:CDT
DTSTART:20260308T080000
END:DAYLIGHT
BEGIN:STANDARD
TZOFFSETFROM:-0500
TZOFFSETTO:-0600
TZNAME:CST
DTSTART:20261101T070000
END:STANDARD
END:VTIMEZONE
BEGIN:VEVENT
DTSTART;TZID=America/Chicago:20251121T190000
DTEND;TZID=America/Chicago:20251121T235900
DTSTAMP:20260425T062000
CREATED:20251126T013030Z
LAST-MODIFIED:20251127T023610Z
UID:10020282-1763751600-1763769540@hvilleblast.com
SUMMARY:ROCKET CITY CLASSIC
DESCRIPTION:ROCKET CITY CLASSICpresented byAkima \nVon Braun Center’sPropst ArenaSunday\, December 21\, 2025 \n TICKETS AVAILABLE TUESDAY\, AUGUST 19\, 2025 at 10:00 A.M. \nHuntsville\, Alabama (August 14\, 2025) – The 2025 Rocket City Classic presented by Akima will be a reunion in a familiar place as Huntsville Mayor Tommy Battle announced that Alabama will face Kennesaw State at VBC Propst Arena on December 21. \nThe Crimson Tide return for the second straight year to the Rocket City Classic for a regular season game\, their first in Propst Arena since 2019.  Their matchup is against one of the favorites to contend in Conference USA\, Kennesaw State\, led by former Tide star and assistant coach Antoine Pettway. \n“College basketball has never been bigger in the state and we’re excited to welcome Alabama and Kennesaw State back to Huntsville this year\,” Battle said.  “This event continues to grow each year and we look forward to celebrating all things Huntsville during the game.” \nAlabama is coming off a season that finished with a 28-9 record and a trip to the Elite Eight\, just one game shy of a second trip to the Final Four.  The Tide made the trip to Huntsville during the preseason for a matchup with Memphis\, prevailing 96-88 in front of a sold-out crowd. \n‘We are excited to return to Huntsville and face an exceptional program in Kennesaw State\, led by Antoine Pettway who is synonymous with Alabama basketball\,” said Alabama head coach Nate Oats. “The Rocket City Classic provides an amazing atmosphere and we are looking forward to playing in front of Tide fans at the Von Braun Center.” \nIn its second season under Pettway\, Kennesaw State made major strides in its first year as a member of Conference USA.  The Owls put together a 19-14 record and advanced to the semifinals of the CUSA Championships in Huntsville before falling to a late rally by eventual champion Liberty.  The Owls look to return to the Rocket City in March and cut down the nets to book their trip to the NCAA Tournament. \n“I’m extremely excited for the opportunity to travel to Huntsville and play one of the best programs in the country in the University of Alabama\,” said KSU head coach Antoine Pettway. “It’s no secret how I feel about what Nate Oats and his staff have been able to accomplish since arriving in Tuscaloosa.  We are grateful to the Rocket City Classic for inviting us and we look forward to competing against high level competition in front some amazing fans in the city of Huntsville.” \nThe game will highlight some of the unique elements of Huntsville thanks to the partnership with Akima. Home to the Army’s Redstone Arsenal\, a swearing in of new recruits will happen at halftime.  With the FBI’s growing presence on the Arsenal\, the game also serves as FBI Appreciation Night to thank them for their service.  \n“We are excited to bring Alabama back and create a unique matchup with our partners at Conference USA to highlight one of their top programs in Kennesaw State\,” said Joel Lamp\, Sports Development Manager for Huntsville/Madison County Convention & Visitors Bureau.  “Thanks to our friends at Akima\, we are able to make this an event that recognizes and honors those who enable our city to grow.” \nThe third edition of the Rocket City Classic builds off the sellouts of the past two years\, which have featured Alabama and Auburn.  This year’s game deepens the ties with Conference USA\, which will host their championship in March for the third straight year in Huntsville. \n“With a strong basketball community\, we welcome both teams to Huntsville and look forward to a great experience for everyone\,” said Mark Russell\, Executive Director of the Huntsville Sports Commission.  “We encourage everyone to buy their tickets early as the game has sold out each of the last two years.” \n# # # \nTickets go on-sale Tuesday\, August 19\, 2025 at 10:00 a.m.  Tickets will be available at the VBC Box Office and online at ticketmaster.com.  All dates\, acts and ticket prices are subject to change.  A service charge is added to each ticket.\n\n\n\n\n\n\n\n\n\n\n\n\n\n\n\n\n\n\n\n\n\n\n\n\n\n\n\n\n\n\n\n\n\n\n\n\n\n\n\n\n\n\n\n\n\n\n\n\n\n\n\n\n\n\n\n\n\n\n\n\n\n\n\n\n\n\n\n\n\n\n\n\n\n\n\n\n\n\n\n\n\n\n\n\n\n\n\n\n\n\n\n\n\n\n\n\n\n\n\n\n\n\n\n\n\n\n\n\n\n\n\n\n\n\n\n\n\n\n\n\n\n\n\n\n\n\n\n\n\n\n\n\n\n\n\n\n\n\n\n\n\n\n\n\n\n\n\n\n \n\n\n\n\n\n\n\n\n\n\n\n\n\n\n\nFor further information\, please contact: \nSamantha NielsenDirector of Marketing & Public Relationssnielsen@vonbrauncenter.com256.551.2231 \nVon Braun Center700 Monroe St.Huntsville\, AL 35801  \nCopyright © 2025 Von Braun Center. All rights reserved.\n\n\n\n\n\n\n\n\n\n\n\nTickets: https://www.vonbrauncenter.com/event/rocket-city-classic-presented-by-akima/7852/.
URL:https://hvilleblast.com/event/rocket-city-classic/
LOCATION:Von Braun Center Propst Arena @ 700 Monroe Street Southwest\, Huntsville\, AL\, United States
CATEGORIES:Live Music,Runs & Walks,Things to Do *Featured*
ATTACH;FMTTYPE=image/jpeg:https://timelyapp-prod.s3.us-west-2.amazonaws.com/images/54704218/unnamed%201_imkv.png
GEO:34.718428;-86.556439
END:VEVENT
BEGIN:VEVENT
DTSTART;TZID=America/Chicago:20251018T083000
DTEND;TZID=America/Chicago:20251018T235900
DTSTAMP:20260425T062000
CREATED:20251011T161248Z
LAST-MODIFIED:20251017T223043Z
UID:10019003-1760776200-1760831940@hvilleblast.com
SUMMARY:HCFC Liz Hurley Ribbon Run 5K
DESCRIPTION:We’re proud to rally together as Team HCFC in support of the Liz Hurley Ribbon Run and the fight against breast cancer. This cause is close to our hearts\, and we’re lacing up our cleats (and running shoes!) to raise awareness\, honor survivors\, and help fund life-saving technology\, diagnostics\, and support for those impacted right here in our community.\nWhether you’re a player\, coach\, fan\, friend\, or family—your support means everything. Every donation\, every step\, and every cheer brings us closer to a future without breast cancer.\nLet’s run with purpose. Let’s run together.\nPacket Pickup will be Thur-Fri Oct.16-17th at Wicks Family Field at Joe Davis Stadium.
URL:https://hvilleblast.com/event/hcfc-liz-hurley-ribbon-run-5k/
LOCATION:Downtown Huntsville
CATEGORIES:Runs & Walks,Things to Do *Featured*
ATTACH;FMTTYPE=image/jpeg:https://timelyapp-prod.s3.us-west-2.amazonaws.com/images/54704218/536496003_752418114205100_2468685780687116749_n_ZHnI.jpg
END:VEVENT
END:VCALENDAR