BEGIN:VCALENDAR
VERSION:2.0
PRODID:-//Hville Blast - ECPv6.15.20//NONSGML v1.0//EN
CALSCALE:GREGORIAN
METHOD:PUBLISH
X-ORIGINAL-URL:https://hvilleblast.com
X-WR-CALDESC:Events for Hville Blast
REFRESH-INTERVAL;VALUE=DURATION:PT1H
X-Robots-Tag:noindex
X-PUBLISHED-TTL:PT1H
BEGIN:VTIMEZONE
TZID:America/Chicago
BEGIN:DAYLIGHT
TZOFFSETFROM:-0600
TZOFFSETTO:-0500
TZNAME:CDT
DTSTART:20250309T080000
END:DAYLIGHT
BEGIN:STANDARD
TZOFFSETFROM:-0500
TZOFFSETTO:-0600
TZNAME:CST
DTSTART:20251102T070000
END:STANDARD
BEGIN:DAYLIGHT
TZOFFSETFROM:-0600
TZOFFSETTO:-0500
TZNAME:CDT
DTSTART:20260308T080000
END:DAYLIGHT
BEGIN:STANDARD
TZOFFSETFROM:-0500
TZOFFSETTO:-0600
TZNAME:CST
DTSTART:20261101T070000
END:STANDARD
BEGIN:DAYLIGHT
TZOFFSETFROM:-0600
TZOFFSETTO:-0500
TZNAME:CDT
DTSTART:20270314T080000
END:DAYLIGHT
BEGIN:STANDARD
TZOFFSETFROM:-0500
TZOFFSETTO:-0600
TZNAME:CST
DTSTART:20271107T070000
END:STANDARD
END:VTIMEZONE
BEGIN:VEVENT
DTSTART;TZID=America/Chicago:20261128T083000
DTEND;TZID=America/Chicago:20261128T235900
DTSTAMP:20260424T181523
CREATED:20260404T071536Z
LAST-MODIFIED:20260420T031406Z
UID:10023903-1795854600-1795910340@hvilleblast.com
SUMMARY:MidCity Stroller Club 2026
DESCRIPTION:Join the MidCity Stroller Club!! Stroll with us on the 4th Saturday of the month for a fun morning of fresh air\, coffee\, community\, and stroller strides through MidCity!\nEVERYONE IS WELCOME! Walk your pets\, bring your kids\, get your steps in\, and make connections! \nMidCity Stroller Club is FREE to join! SPREAD THE WORD!\nSaturday\, March 28 @ 8:30am (Meet at The Greenroom)Saturday\, April 25 @ 8:30am (Meet at Tous Les Jours)Saturday\, May 23 @ 8:30am (Meet at Pythian Parlour)Saturday\, June 27 @ 8:30am (Meet at Starbucks)Saturday\, July 25 @ 8:30am (Meet at The Greenroom)Saturday\, August 22 @ 8:30am (Meet at Tous Les Jours)Saturday\, September 26 @ 8:30am (Meet at Pythian Parlour)Saturday\, October 24 @ 8:30am (Meet at Starbucks)Saturday\, November 28 @ 8:30am (Meet at The Greenroom)\nSee you there!
URL:https://hvilleblast.com/event/midcity-stroller-club-2026-69/
LOCATION:Midcity District @ 5901 University Drive\, Huntsville\, AL\, United States
CATEGORIES:Social Events,Things to Do *Featured*
ATTACH;FMTTYPE=image/jpeg:https://timelyapp-prod.s3.us-west-2.amazonaws.com/images/54704218/619627745_1300974922066304_1279960925276434011_n_z58D.jpg
GEO:34.762538;-86.685033
END:VEVENT
BEGIN:VEVENT
DTSTART;TZID=America/Chicago:20261202T190000
DTEND;TZID=America/Chicago:20261202T210000
DTSTAMP:20260424T181523
CREATED:20260404T071538Z
LAST-MODIFIED:20260420T031407Z
UID:10023904-1796238000-1796245200@hvilleblast.com
SUMMARY:Bingo
DESCRIPTION:BINGO is on at The Camp every other Wednesday! Happy hour runs from 4-7pm\, and BINGO kicks off at 7pm.\nPRIZES FOR THE WINNERS! Bring your friends and family out for a night of good fun.\nNO COVER CHARGE TO PLAY AND HANGOUT!
URL:https://hvilleblast.com/event/bingo-29/
LOCATION:The Camp @ University Drive\, 2401 Alabama St SW\, Huntsville\, AL\, United States
CATEGORIES:Social Events
ATTACH;FMTTYPE=image/jpeg:https://timelyapp-prod.s3.us-west-2.amazonaws.com/images/54704218/612528690_877026478159049_1510608603187295778_n_ut3W.jpg
GEO:34.712571;-86.575819
X-APPLE-STRUCTURED-LOCATION;VALUE=URI;X-ADDRESS=The Camp @ University Drive 2401 Alabama St SW Huntsville AL United States;X-APPLE-RADIUS=500;X-TITLE=2401 Alabama St SW:geo:-86.575819,34.712571
END:VEVENT
BEGIN:VEVENT
DTSTART;TZID=America/Chicago:20261209T190000
DTEND;TZID=America/Chicago:20261209T210000
DTSTAMP:20260424T181523
CREATED:20260404T071541Z
LAST-MODIFIED:20260420T031408Z
UID:10023905-1796842800-1796850000@hvilleblast.com
SUMMARY:Trivia
DESCRIPTION:Join us for trivia every other Wednesday at The Camp! Happy hour is from 4-7pm\, and Trivia begins at 7pm with Dan the Host.\nGet your team together\, create an awesome team name\, and come ready to play and win!!! Prizes for 1st\, 2nd\, and 3rd place. NO COVER CHARGE to play and hangout.\nWe occasionally host themed trivia and will update on our social channels and in the FB event when we do!\nSee you at Trivia\, Campers!
URL:https://hvilleblast.com/event/trivia-22/
LOCATION:The Camp @ University Drive\, 2401 Alabama St SW\, Huntsville\, AL\, United States
CATEGORIES:Social Events
ATTACH;FMTTYPE=image/jpeg:https://timelyapp-prod.s3.us-west-2.amazonaws.com/images/54704218/612322879_876984258163271_3924711686792159677_n_n6sg.jpg
GEO:34.712571;-86.575819
X-APPLE-STRUCTURED-LOCATION;VALUE=URI;X-ADDRESS=The Camp @ University Drive 2401 Alabama St SW Huntsville AL United States;X-APPLE-RADIUS=500;X-TITLE=2401 Alabama St SW:geo:-86.575819,34.712571
END:VEVENT
BEGIN:VEVENT
DTSTART;TZID=America/Chicago:20261216T190000
DTEND;TZID=America/Chicago:20261216T210000
DTSTAMP:20260424T181523
CREATED:20260404T071544Z
LAST-MODIFIED:20260420T031409Z
UID:10023906-1797447600-1797454800@hvilleblast.com
SUMMARY:Bingo
DESCRIPTION:BINGO is on at The Camp every other Wednesday! Happy hour runs from 4-7pm\, and BINGO kicks off at 7pm.\nPRIZES FOR THE WINNERS! Bring your friends and family out for a night of good fun.\nNO COVER CHARGE TO PLAY AND HANGOUT!
URL:https://hvilleblast.com/event/bingo-30/
LOCATION:The Camp @ University Drive\, 2401 Alabama St SW\, Huntsville\, AL\, United States
CATEGORIES:Social Events
ATTACH;FMTTYPE=image/jpeg:https://timelyapp-prod.s3.us-west-2.amazonaws.com/images/54704218/612528690_877026478159049_1510608603187295778_n_ut3W.jpg
GEO:34.712571;-86.575819
X-APPLE-STRUCTURED-LOCATION;VALUE=URI;X-ADDRESS=The Camp @ University Drive 2401 Alabama St SW Huntsville AL United States;X-APPLE-RADIUS=500;X-TITLE=2401 Alabama St SW:geo:-86.575819,34.712571
END:VEVENT
BEGIN:VEVENT
DTSTART;TZID=America/Chicago:20261223T190000
DTEND;TZID=America/Chicago:20261223T210000
DTSTAMP:20260424T181523
CREATED:20260404T071547Z
LAST-MODIFIED:20260420T031410Z
UID:10023907-1798052400-1798059600@hvilleblast.com
SUMMARY:Trivia
DESCRIPTION:Join us for trivia every other Wednesday at The Camp! Happy hour is from 4-7pm\, and Trivia begins at 7pm with Dan the Host.\nGet your team together\, create an awesome team name\, and come ready to play and win!!! Prizes for 1st\, 2nd\, and 3rd place. NO COVER CHARGE to play and hangout.\nWe occasionally host themed trivia and will update on our social channels and in the FB event when we do!\nSee you at Trivia\, Campers!
URL:https://hvilleblast.com/event/trivia-23/
LOCATION:The Camp @ University Drive\, 2401 Alabama St SW\, Huntsville\, AL\, United States
CATEGORIES:Social Events
ATTACH;FMTTYPE=image/jpeg:https://timelyapp-prod.s3.us-west-2.amazonaws.com/images/54704218/612322879_876984258163271_3924711686792159677_n_n6sg.jpg
GEO:34.712571;-86.575819
X-APPLE-STRUCTURED-LOCATION;VALUE=URI;X-ADDRESS=The Camp @ University Drive 2401 Alabama St SW Huntsville AL United States;X-APPLE-RADIUS=500;X-TITLE=2401 Alabama St SW:geo:-86.575819,34.712571
END:VEVENT
BEGIN:VEVENT
DTSTART;TZID=America/Chicago:20261230T190000
DTEND;TZID=America/Chicago:20261230T210000
DTSTAMP:20260424T181523
CREATED:20260404T071549Z
LAST-MODIFIED:20260420T031411Z
UID:10023908-1798657200-1798664400@hvilleblast.com
SUMMARY:Bingo
DESCRIPTION:BINGO is on at The Camp every other Wednesday! Happy hour runs from 4-7pm\, and BINGO kicks off at 7pm.\nPRIZES FOR THE WINNERS! Bring your friends and family out for a night of good fun.\nNO COVER CHARGE TO PLAY AND HANGOUT!
URL:https://hvilleblast.com/event/bingo-31/
LOCATION:The Camp @ University Drive\, 2401 Alabama St SW\, Huntsville\, AL\, United States
CATEGORIES:Social Events
ATTACH;FMTTYPE=image/jpeg:https://timelyapp-prod.s3.us-west-2.amazonaws.com/images/54704218/612528690_877026478159049_1510608603187295778_n_ut3W.jpg
GEO:34.712571;-86.575819
X-APPLE-STRUCTURED-LOCATION;VALUE=URI;X-ADDRESS=The Camp @ University Drive 2401 Alabama St SW Huntsville AL United States;X-APPLE-RADIUS=500;X-TITLE=2401 Alabama St SW:geo:-86.575819,34.712571
END:VEVENT
END:VCALENDAR