BEGIN:VCALENDAR
VERSION:2.0
PRODID:-//Hville Blast - ECPv6.15.20//NONSGML v1.0//EN
CALSCALE:GREGORIAN
METHOD:PUBLISH
X-WR-CALNAME:Hville Blast
X-ORIGINAL-URL:https://hvilleblast.com
X-WR-CALDESC:Events for Hville Blast
REFRESH-INTERVAL;VALUE=DURATION:PT1H
X-Robots-Tag:noindex
X-PUBLISHED-TTL:PT1H
BEGIN:VTIMEZONE
TZID:America/Chicago
BEGIN:DAYLIGHT
TZOFFSETFROM:-0600
TZOFFSETTO:-0500
TZNAME:CDT
DTSTART:20240310T080000
END:DAYLIGHT
BEGIN:STANDARD
TZOFFSETFROM:-0500
TZOFFSETTO:-0600
TZNAME:CST
DTSTART:20241103T070000
END:STANDARD
BEGIN:DAYLIGHT
TZOFFSETFROM:-0600
TZOFFSETTO:-0500
TZNAME:CDT
DTSTART:20250309T080000
END:DAYLIGHT
BEGIN:STANDARD
TZOFFSETFROM:-0500
TZOFFSETTO:-0600
TZNAME:CST
DTSTART:20251102T070000
END:STANDARD
BEGIN:DAYLIGHT
TZOFFSETFROM:-0600
TZOFFSETTO:-0500
TZNAME:CDT
DTSTART:20260308T080000
END:DAYLIGHT
BEGIN:STANDARD
TZOFFSETFROM:-0500
TZOFFSETTO:-0600
TZNAME:CST
DTSTART:20261101T070000
END:STANDARD
END:VTIMEZONE
BEGIN:VEVENT
DTSTART;TZID=America/Chicago:20251201T160000
DTEND;TZID=America/Chicago:20251201T170000
DTSTAMP:20260422T142631
CREATED:20251206T055939Z
LAST-MODIFIED:20251207T034507Z
UID:10020925-1764604800-1764608400@hvilleblast.com
SUMMARY:Teen Writers Hangout
DESCRIPTION:Work on your writers craft! Teens ages 12-17 can join us in the Kids Classroom at South Huntsville Public Library most Mondays for a writers hangout. \n  \nIn this laid back group for young writers\, teens can do the following: work on their writing in a group setting\, do writing exercises; discuss their writing or writing in general with other teens; receive feedback on a 3-6 page typed\, double-spaced & printed excerpt of their writing. \n  \nThis is not a writing class\, but a chance work on writing while engaging with peers.
URL:https://hvilleblast.com/event/teen-writers-hangout-6/
LOCATION:South Huntsville Public Library @ 7901-L Bailey Cove Road\, Huntsville\, AL\, United States
CATEGORIES:Arts & Culture,Education,Free Events,North Alabama,Social Events,South Huntsville
ATTACH;FMTTYPE=image/jpeg:https://timelyapp-prod.s3.us-west-2.amazonaws.com/images/54704218/12-1-TeenWriters-TV_uJbH.png
GEO:34.660866;-86.560608
END:VEVENT
BEGIN:VEVENT
DTSTART;TZID=America/Chicago:20251124T160000
DTEND;TZID=America/Chicago:20251124T170000
DTSTAMP:20260422T142631
CREATED:20251124T032804Z
LAST-MODIFIED:20251129T055847Z
UID:10020238-1764000000-1764003600@hvilleblast.com
SUMMARY:Teen Writers Hangout
DESCRIPTION:Work on your writers craft! Teens ages 12-17 can join us in the Kids Classroom at South Huntsville Public Library most Mondays for a writers hangout. \n  \nIn this laid back group for young writers\, teens can do the following: work on their writing in a group setting\, do writing exercises; discuss their writing or writing in general with other teens; receive feedback on a 3-6 page typed\, double-spaced & printed excerpt of their writing. \n  \nThis is not a writing class\, but a chance work on writing while engaging with peers.
URL:https://hvilleblast.com/event/teen-writers-hangout-5/
LOCATION:South Huntsville Public Library @ 7901-L Bailey Cove Road\, Huntsville\, AL\, United States
CATEGORIES:Arts & Culture,Education,Free Events,North Alabama,Social Events,South Huntsville
ATTACH;FMTTYPE=image/jpeg:https://timelyapp-prod.s3.us-west-2.amazonaws.com/images/54704218/11-24-TeenWriters-TV_KxGG.png
GEO:34.660866;-86.560608
END:VEVENT
BEGIN:VEVENT
DTSTART;TZID=America/Chicago:20251119T160000
DTEND;TZID=America/Chicago:20251119T170000
DTSTAMP:20260422T142631
CREATED:20251124T032737Z
LAST-MODIFIED:20251125T042125Z
UID:10020203-1763568000-1763571600@hvilleblast.com
SUMMARY:Teen Craft: Turkey Thank You Cards
DESCRIPTION:Gobble\, gobble! Teens ages 12-18 can join us in the Kids Classroom at South Huntsville Library every Wednesday for a new craft or activity. No prior experience required; all crafts can be taught to any skill level\, and all supplies are provided in this free program. \nThis week we will make Turkey themed thank you cards for Thanksgiving.
URL:https://hvilleblast.com/event/teen-craft-turkey-thank-you-cards/
LOCATION:South Huntsville Public Library @ 7901-L Bailey Cove Road\, Huntsville\, AL\, United States
CATEGORIES:Arts & Culture,Cultural,Free Events,North Alabama,Seasonal,Social Events,South Huntsville
ATTACH;FMTTYPE=image/jpeg:https://timelyapp-prod.s3.us-west-2.amazonaws.com/images/54704218/11-19-TeenCraft-TV_X8py.png
GEO:34.660866;-86.560608
END:VEVENT
BEGIN:VEVENT
DTSTART;TZID=America/Chicago:20251118T110000
DTEND;TZID=America/Chicago:20251118T190000
DTSTAMP:20260422T142631
CREATED:20251124T032735Z
LAST-MODIFIED:20251125T042123Z
UID:10020202-1763463600-1763492400@hvilleblast.com
SUMMARY:Book Club Jamboree
DESCRIPTION:Do you love reading and want to share your enthusiasm for your latest book? The Book Club Jamboree will connect you with other readers of a favorite genre or introduce you to a fun new activity you can explore at your local library in 2026. This drop-in event is free and open to all adults. \n  \nLearn about our new book club offerings in 2026 and meet the hosts of several of the book clubs. We will have special book club crafts and ideas for readers who want to share their passion for reading.  \n  \nJoin us for book club meetups during the Jamboree at the following times: \n  \n12:00 p.m. – Love Fest Book Club – Reader’s Choice Holiday-themed book – Adult Reading Room \n  \n6:00 p.m. – Classics Book Club – ‘Picture of Dorian Gray’ by Oscar Wilde – Adult Reading Room \n  \n6:30 p.m. – It’s All a Mystery – ‘Memory Man’ by David Baldacci – Adult Reading Room
URL:https://hvilleblast.com/event/book-club-jamboree/
LOCATION:South Huntsville Public Library @ 7901-L Bailey Cove Road\, Huntsville\, AL\, United States
CATEGORIES:Arts & Culture,Education,Festivals,Free Events,North Alabama,Seasonal,Social Events,South Huntsville
ATTACH;FMTTYPE=image/jpeg:https://timelyapp-prod.s3.us-west-2.amazonaws.com/images/54704218/BookClubJam-Insta_qDSN.png
GEO:34.660866;-86.560608
END:VEVENT
BEGIN:VEVENT
DTSTART;TZID=America/Chicago:20251112T160000
DTEND;TZID=America/Chicago:20251112T170000
DTSTAMP:20260422T142631
CREATED:20251115T224540Z
LAST-MODIFIED:20251118T030608Z
UID:10019961-1762963200-1762966800@hvilleblast.com
SUMMARY:Teen Craft: Scrapbook Paper Owls
DESCRIPTION:Come and have a hoot of a time! Teens ages 12-18 can join us in the Kids Classroom at South Huntsville Public Library every Wednesday for a new craft or activity. No prior experience required; all crafts can be taught to any skill level\, and all supplies are provided in this free program. \n  \nThis week we will make Owls out of scrapbook paper in this sweet fall-themed craft.
URL:https://hvilleblast.com/event/teen-craft-scrapbook-paper-owls/
LOCATION:South Huntsville Public Library @ 7901-L Bailey Cove Road\, Huntsville\, AL\, United States
CATEGORIES:Arts & Culture,Education,Free Events,North Alabama,Seasonal,Social Events,South Huntsville
ATTACH;FMTTYPE=image/jpeg:https://timelyapp-prod.s3.us-west-2.amazonaws.com/images/54704218/11-12-TeenCraft-TV_DASr.png
GEO:34.660866;-86.560608
END:VEVENT
BEGIN:VEVENT
DTSTART;TZID=America/Chicago:20251103T160000
DTEND;TZID=America/Chicago:20251103T170000
DTSTAMP:20260422T142631
CREATED:20251026T212820Z
LAST-MODIFIED:20251106T142752Z
UID:10019502-1762185600-1762189200@hvilleblast.com
SUMMARY:Teen Writers Hangout
DESCRIPTION:Work on your writers craft! \n  \nTeens ages 12-17 can join us in the Kids Classroom at South Huntsville Public Library most Mondays for a writers hangout. \n  \nIn this laid back group for young writers\, teens can do the following: work on their writing in a group setting\, do writing exercises; discuss their writing or writing in general with other teens; receive feedback on a 3-6 page typed\, double-spaced & printed excerpt of their writing. \n  \nThis is not a writing class\, but a chance work on writing while engaging with peers.
URL:https://hvilleblast.com/event/teen-writers-hangout-4/
LOCATION:South Huntsville Public Library @ 7901-L Bailey Cove Road\, Huntsville\, AL\, United States
CATEGORIES:Arts & Culture,Education,Free Events,North Alabama,Social Events,South Huntsville
ATTACH;FMTTYPE=image/jpeg:https://timelyapp-prod.s3.us-west-2.amazonaws.com/images/54704218/11-3-TeenWriters-TV_sMXw.png
GEO:34.660866;-86.560608
END:VEVENT
BEGIN:VEVENT
DTSTART;TZID=America/Chicago:20251027T160000
DTEND;TZID=America/Chicago:20251027T170000
DTSTAMP:20260422T142631
CREATED:20251026T212747Z
LAST-MODIFIED:20251026T212747Z
UID:10019470-1761580800-1761584400@hvilleblast.com
SUMMARY:Teen Writers Hangout
DESCRIPTION:Work on your writers craft! Teens ages 12-17 can join us in the Kids Classroom at South Huntsville Public Library most Mondays for a writers hangout. \n  \nIn this laid back group for young writers\, teens can do the following: work on their writing in a group setting\, do writing exercises; discuss their writing or writing in general with other teens; receive feedback on a 3-6 page typed\, double-spaced & printed excerpt of their writing. \n  \nThis is not a writing class\, but a chance work on writing while engaging with peers.
URL:https://hvilleblast.com/event/teen-writers-hangout-3/
LOCATION:South Huntsville Public Library @ 7901-L Bailey Cove Road\, Huntsville\, AL\, United States
CATEGORIES:Arts & Culture,Education,Free Events,North Alabama,Social Events,South Huntsville
ATTACH;FMTTYPE=image/jpeg:https://timelyapp-prod.s3.us-west-2.amazonaws.com/images/54704218/10-27-TeenWriters-TV_Fnve.png
GEO:34.660866;-86.560608
END:VEVENT
BEGIN:VEVENT
DTSTART;TZID=America/Chicago:20251022T160000
DTEND;TZID=America/Chicago:20251022T170000
DTSTAMP:20260422T142631
CREATED:20251018T201237Z
LAST-MODIFIED:20251019T095825Z
UID:10019183-1761148800-1761152400@hvilleblast.com
SUMMARY:Teen Craft: Bat Garland
DESCRIPTION:Let’s get batty! Teens ages 12-18 can join us in the Kids Classroom at South Huntsville Library every Wednesday for a new craft or activity. No prior experience required; all crafts can be taught to any skill level\, and all supplies are provided in this free program. \nThis week we will make a garland out of paper bats in assorted spooooky colors perfect for spooky season decor.
URL:https://hvilleblast.com/event/teen-craft-bat-garland/
LOCATION:South Huntsville Public Library @ 7901-L Bailey Cove Road\, Huntsville\, AL\, United States
CATEGORIES:Arts & Culture,Education,Free Events,Holiday,North Alabama,Seasonal,Social Events,South Huntsville
ATTACH;FMTTYPE=image/jpeg:https://timelyapp-prod.s3.us-west-2.amazonaws.com/images/54704218/10-22-TeenCraft-TV_yP1g.png
GEO:34.660866;-86.560608
END:VEVENT
BEGIN:VEVENT
DTSTART;TZID=America/Chicago:20251019T110000
DTEND;TZID=America/Chicago:20251019T160000
DTSTAMP:20260422T142631
CREATED:20250926T190528Z
LAST-MODIFIED:20250926T190528Z
UID:10016716-1760871600-1760889600@hvilleblast.com
SUMMARY:The Hunt: An All Women-Owned Vintage and Maker's Market
DESCRIPTION:The Hunt is an all women-owned vintage and maker’s market hosted by local vintage shop AM Collective! The inaugural event will take place on Sunday\, October 19th at Back Forty Brewing Company from 11-4. \nOver 40 local artists and businesses will be represented and offering everything from vintage clothing and accessories\, original artwork\, jewelry\, handmade clothing\, baked goods\, stationery\, ceramics\, books and more! Fauna & Film will have a polaroid photo booth on site and our community partner\, The Greater Huntsville Humane Society\, will have adoptables to meet! \nNight L!fe has live music lined up from DJ Phantazii and local folk group Moondance. Back Forty is keeping the drinks flowing and will have their full menu available throughout the event.
URL:https://hvilleblast.com/event/the-hunt-an-all-women-owned-vintage-and-makers-market/
LOCATION:AL
CATEGORIES:Artists Market,Arts & Culture,Family-friendly,Free Events,Live Music,Market,South Huntsville
ATTACH;FMTTYPE=image/png:https://hvilleblast.com/wp-content/uploads/2025/09/the-Hunt-HSV-insta.png
END:VEVENT
BEGIN:VEVENT
DTSTART;TZID=America/Chicago:20251015T160000
DTEND;TZID=America/Chicago:20251015T170000
DTSTAMP:20260422T142631
CREATED:20251011T142732Z
LAST-MODIFIED:20251015T164208Z
UID:10018938-1760544000-1760547600@hvilleblast.com
SUMMARY:Teen Craft: Patchwork Pumpkin Collage
DESCRIPTION:Pick your perfect pumpkin! Teens ages 12-18 can join us in the Kids Classroom at South Huntsville Library every Wednesday for a new craft or activity. No prior experience required; all crafts can be taught to any skill level\, and all supplies are provided in this free program. \nThis week we will make our very own patch of patchwork pumpkins using scrapbook paper and collage technique.
URL:https://hvilleblast.com/event/teen-craft-patchwork-pumpkin-collage/
LOCATION:South Huntsville Public Library @ 7901-L Bailey Cove Road\, Huntsville\, AL\, United States
CATEGORIES:Arts & Culture,Education,Free Events,North Alabama,Social Events,South Huntsville
ATTACH;FMTTYPE=image/jpeg:https://timelyapp-prod.s3.us-west-2.amazonaws.com/images/54704218/10-15-TeenCraft-TV_QioN.png
GEO:34.660866;-86.560608
END:VEVENT
BEGIN:VEVENT
DTSTART;TZID=America/Chicago:20251012T130000
DTEND;TZID=America/Chicago:20251012T190000
DTSTAMP:20260422T142631
CREATED:20250820T183923Z
LAST-MODIFIED:20250820T183923Z
UID:10014956-1760274000-1760295600@hvilleblast.com
SUMMARY:Bluegrass & BBQ Festival at Southside Park
DESCRIPTION: Bluegrass & BBQ Festival 2025  Saturday\, October 11\, 2025 1:00 PM – 7:00 PM (Food trucks open at 12:00 PM) Southside Park\, Chaney Thompson Rd – Huntsville\, AL FREE Admission!\n\nIt’s time for the the 2025 Bluegrass & BBQ Festival! Hosted by the South Huntsville Main Business Association and County Commissioner Phil Riddick\, this FREE family-friendly event is back and bigger than ever.\n\nFeaturing performances by:\nThe GrasstronautsBaileytown Bluegrass BandThe Ancient TonesAppalachian Road Show\n\nFood Trucks Open at Noon: Come hungry! Enjoy BBQ favorites\, sweet treats\, and more from:\nFast Frankie’s Wicked EatsBig John’s BBQ & CompanyNick’s World-Famous BBQIce Works Shaved Ice\n\nBring your blanket or lawn chair and enjoy a full day of great music\, good eats\, and fun in the heart of South Huntsville.\n\nSpecial thanks to LeeHouse Homebuilding\, our 2025 Stage Sponsor\, for supporting this incredible event!\n\nFREE and open to the public – perfect for families\, friends\, and bluegrass fans alike.
URL:https://hvilleblast.com/event/bluegrass-bbq-festival-at-southside-park/
LOCATION:AL
CATEGORIES:Adult Events,family-friendly,Concerts,Events,Family-friendly,Festivals,Free Events,Live Music,South Huntsville
ATTACH;FMTTYPE=image/jpeg:https://static.xx.fbcdn.net/images/emoji.php/v9/tbe/2/16/1f3b6.png
END:VEVENT
BEGIN:VEVENT
DTSTART;TZID=America/Chicago:20251011T140000
DTEND;TZID=America/Chicago:20251011T150000
DTSTAMP:20260422T142631
CREATED:20251011T142708Z
LAST-MODIFIED:20251011T142708Z
UID:10018918-1760191200-1760194800@hvilleblast.com
SUMMARY:Concert: Pete Harrison\, Jazz Pianist
DESCRIPTION: Enjoy the sounds of Pete Harrison at the South Huntsville Public Library!Pete Harrison is the owner of Quality Music Services. He has played piano for almost 43 years\, 27 of them spent playing in military bands all over the world.Grab a snack from Hatch\, sit back and relax for an hour in our Creative Commons.
URL:https://hvilleblast.com/event/concert-pete-harrison-jazz-pianist/
LOCATION:South Huntsville Public Library @ 7901-L Bailey Cove Road\, Huntsville\, AL\, United States
CATEGORIES:Arts & Culture,Cultural,Free Events,North Alabama,Social Events,South Huntsville
ATTACH;FMTTYPE=image/jpeg:https://timelyapp-prod.s3.us-west-2.amazonaws.com/images/54704218/10-11-PeteHarrison-TV_fU3F.png
GEO:34.660866;-86.560608
END:VEVENT
BEGIN:VEVENT
DTSTART;TZID=America/Chicago:20251008T160000
DTEND;TZID=America/Chicago:20251008T170000
DTSTAMP:20260422T142631
CREATED:20251008T135734Z
LAST-MODIFIED:20251008T135734Z
UID:10018839-1759939200-1759942800@hvilleblast.com
SUMMARY:Teen Craft: DIY Wands
DESCRIPTION:Abra Kadabra! Teens ages 12-18 can join us in the Kids Classroom at South Huntsville Library every Wednesday for a new craft or activity. No prior experience required; all crafts can be taught to any skill level\, and all supplies are provided in this free program. \nThis week we will mold\, shape\, and paint to create our own wands using a chop stick base\, various decor\, and acrylic paint.
URL:https://hvilleblast.com/event/teen-craft-diy-wands/
LOCATION:South Huntsville Public Library @ 7901-L Bailey Cove Road\, Huntsville\, AL\, United States
CATEGORIES:Arts & Culture,Education,Free Events,North Alabama,Social Events,South Huntsville
ATTACH;FMTTYPE=image/jpeg:https://timelyapp-prod.s3.us-west-2.amazonaws.com/images/54704218/10-8-TeenCraft-TV_FeyF.png
GEO:34.660866;-86.560608
END:VEVENT
BEGIN:VEVENT
DTSTART;TZID=America/Chicago:20250929T160000
DTEND;TZID=America/Chicago:20250929T170000
DTSTAMP:20260422T142631
CREATED:20250927T215740Z
LAST-MODIFIED:20250927T215740Z
UID:10016737-1759161600-1759165200@hvilleblast.com
SUMMARY:Teen Writers Hangout
DESCRIPTION:Work on your writers craft! Teens ages 12-17 can join us in the Kids Classroom at South Huntsville Library most Mondays for a writers hangout. \n  \nIn this laid back group for young writers\, teens can do the following: work on their writing in a group setting\, do writing exercises; discuss their writing or writing in general with other teens; receive feedback on a 3-6 page typed\, double-spaced & printed excerpt of their writing. \n  \nThis is not a writing class\, but a chance work on writing while engaging with peers.
URL:https://hvilleblast.com/event/teen-writers-hangout-2/
LOCATION:South Huntsville Public Library @ 7901-L Bailey Cove Road\, Huntsville\, AL\, United States
CATEGORIES:Arts & Culture,Education,Free Events,North Alabama,Social Events,South Huntsville
ATTACH;FMTTYPE=image/jpeg:https://timelyapp-prod.s3.us-west-2.amazonaws.com/images/54704218/9-29-TeenWriters-TV_rA0D.png
GEO:34.660866;-86.560608
END:VEVENT
BEGIN:VEVENT
DTSTART;TZID=America/Chicago:20250927T093000
DTEND;TZID=America/Chicago:20250927T163000
DTSTAMP:20260422T142631
CREATED:20250917T021328Z
LAST-MODIFIED:20250921T181239Z
UID:10016090-1758965400-1758990600@hvilleblast.com
SUMMARY:Craft Supply Swap
DESCRIPTION:Eager to try your hand at a craft before the holidays? Do you have some craft items you can no longer use?Join us at the South Huntsville Public Library to swap your unused craft supplies and feel free to take home some new items. Bring in your unused craft supplies and trade them for some new free items and meet with fellow crafters. Craft supplies can be donated beginning September 2\, 2025.All craft supplies donated are free.
URL:https://hvilleblast.com/event/craft-supply-swap/
LOCATION:South Huntsville Public Library @ 7901-L Bailey Cove Road\, Huntsville\, AL\, United States
CATEGORIES:Arts & Culture,Free Events,North Alabama,Social Events,South Huntsville
ATTACH;FMTTYPE=image/jpeg:https://timelyapp-prod.s3.us-west-2.amazonaws.com/images/54704218/9-27-CraftSwap-TV_ByWg.png
GEO:34.660866;-86.560608
END:VEVENT
BEGIN:VEVENT
DTSTART;TZID=America/Chicago:20250924T160000
DTEND;TZID=America/Chicago:20250924T170000
DTSTAMP:20260422T142631
CREATED:20250916T015803Z
LAST-MODIFIED:20250924T185903Z
UID:10015997-1758729600-1758733200@hvilleblast.com
SUMMARY:Teen Craft: Folksy Paper Chickens
DESCRIPTION:Bock bock! Teens ages 12-18 can join us in the Kids Classroom at South Huntsville Library every Wednesday for a new craft or activity. No prior experience required; all crafts can be taught to any skill level\, and all supplies are provided in this free program. \nThis week we will craft and paint folk art inspired (and shockingly cute) chickens using paper plates and acrylic paints
URL:https://hvilleblast.com/event/teen-craft-folksy-paper-chickens/
LOCATION:South Huntsville Public Library @ 7901-L Bailey Cove Road\, Huntsville\, AL\, United States
CATEGORIES:Arts & Culture,Education,Free Events,North Alabama,Social Events,South Huntsville
ATTACH;FMTTYPE=image/jpeg:https://timelyapp-prod.s3.us-west-2.amazonaws.com/images/54704218/9-24-TeenCraft-TV_NAX8.png
GEO:34.660866;-86.560608
END:VEVENT
END:VCALENDAR