BEGIN:VCALENDAR
VERSION:2.0
PRODID:-//Hville Blast - ECPv6.15.20//NONSGML v1.0//EN
CALSCALE:GREGORIAN
METHOD:PUBLISH
X-WR-CALNAME:Hville Blast
X-ORIGINAL-URL:https://hvilleblast.com
X-WR-CALDESC:Events for Hville Blast
REFRESH-INTERVAL;VALUE=DURATION:PT1H
X-Robots-Tag:noindex
X-PUBLISHED-TTL:PT1H
BEGIN:VTIMEZONE
TZID:America/Chicago
BEGIN:DAYLIGHT
TZOFFSETFROM:-0600
TZOFFSETTO:-0500
TZNAME:CDT
DTSTART:20250309T080000
END:DAYLIGHT
BEGIN:STANDARD
TZOFFSETFROM:-0500
TZOFFSETTO:-0600
TZNAME:CST
DTSTART:20251102T070000
END:STANDARD
BEGIN:DAYLIGHT
TZOFFSETFROM:-0600
TZOFFSETTO:-0500
TZNAME:CDT
DTSTART:20260308T080000
END:DAYLIGHT
BEGIN:STANDARD
TZOFFSETFROM:-0500
TZOFFSETTO:-0600
TZNAME:CST
DTSTART:20261101T070000
END:STANDARD
BEGIN:DAYLIGHT
TZOFFSETFROM:-0600
TZOFFSETTO:-0500
TZNAME:CDT
DTSTART:20270314T080000
END:DAYLIGHT
BEGIN:STANDARD
TZOFFSETFROM:-0500
TZOFFSETTO:-0600
TZNAME:CST
DTSTART:20271107T070000
END:STANDARD
END:VTIMEZONE
BEGIN:VEVENT
DTSTART;TZID=America/Chicago:20260422T160000
DTEND;TZID=America/Chicago:20260422T170000
DTSTAMP:20260422T110449
CREATED:20260410T083026Z
LAST-MODIFIED:20260420T042903Z
UID:10024327-1776873600-1776877200@hvilleblast.com
SUMMARY:CREATIVE KIDS ART CLASS
DESCRIPTION:Art Education Group Class\nCreative Kids© Monthly Art\, all supplies included. We experiment with a variety of materials\, tools\, and media to create unique and expressive works of art in a fun\, creative and non-competitive environment. Allowing young artists the freedom to explore their own potential and nurture their self-esteem\, will instill in them a strong repertoire of techniques and skills. This monthly kids class includes 4 one hour sessions (drawing\, sculpture\, painting and design) schedule your monthly Denise Onwere Gallery Art classes today. \n\n\n\n\n\n\nClick on Learn More below to sign up and for additional information.
URL:https://hvilleblast.com/event/creative-kids-art-class-152/
LOCATION:Denise Onwere Gallery | Studio 203
CATEGORIES:Classes & Wokshops
ATTACH;FMTTYPE=image/jpeg:https://hvilleblast.com/wp-content/uploads/2025/07/203_creativekids-Xyy9Kj.jpg
END:VEVENT
BEGIN:VEVENT
DTSTART;TZID=America/Chicago:20260429T160000
DTEND;TZID=America/Chicago:20260429T170000
DTSTAMP:20260422T110449
CREATED:20260410T083048Z
LAST-MODIFIED:20260420T042919Z
UID:10024367-1777478400-1777482000@hvilleblast.com
SUMMARY:CREATIVE KIDS ART CLASS
DESCRIPTION:Art Education Group Class\nCreative Kids© Monthly Art\, all supplies included. We experiment with a variety of materials\, tools\, and media to create unique and expressive works of art in a fun\, creative and non-competitive environment. Allowing young artists the freedom to explore their own potential and nurture their self-esteem\, will instill in them a strong repertoire of techniques and skills. This monthly kids class includes 4 one hour sessions (drawing\, sculpture\, painting and design) schedule your monthly Denise Onwere Gallery Art classes today. \n\n\n\n\n\n\nClick on Learn More below to sign up and for additional information.
URL:https://hvilleblast.com/event/creative-kids-art-class-153/
LOCATION:Denise Onwere Gallery | Studio 203
CATEGORIES:Classes & Wokshops
ATTACH;FMTTYPE=image/jpeg:https://hvilleblast.com/wp-content/uploads/2025/07/203_creativekids-Xyy9Kj.jpg
END:VEVENT
BEGIN:VEVENT
DTSTART;TZID=America/Chicago:20260506T160000
DTEND;TZID=America/Chicago:20260506T170000
DTSTAMP:20260422T110449
CREATED:20260410T083117Z
LAST-MODIFIED:20260420T042930Z
UID:10024406-1778083200-1778086800@hvilleblast.com
SUMMARY:CREATIVE KIDS ART CLASS
DESCRIPTION:Art Education Group Class\nCreative Kids© Monthly Art\, all supplies included. We experiment with a variety of materials\, tools\, and media to create unique and expressive works of art in a fun\, creative and non-competitive environment. Allowing young artists the freedom to explore their own potential and nurture their self-esteem\, will instill in them a strong repertoire of techniques and skills. This monthly kids class includes 4 one hour sessions (drawing\, sculpture\, painting and design) schedule your monthly Denise Onwere Gallery Art classes today. \n\n\n\n\n\n\nClick on Learn More below to sign up and for additional information.
URL:https://hvilleblast.com/event/creative-kids-art-class-154/
LOCATION:Denise Onwere Gallery | Studio 203
CATEGORIES:Classes & Wokshops
ATTACH;FMTTYPE=image/jpeg:https://hvilleblast.com/wp-content/uploads/2025/07/203_creativekids-Xyy9Kj.jpg
END:VEVENT
BEGIN:VEVENT
DTSTART;TZID=America/Chicago:20260513T160000
DTEND;TZID=America/Chicago:20260513T170000
DTSTAMP:20260422T110449
CREATED:20260419T041359Z
LAST-MODIFIED:20260420T042941Z
UID:10024741-1778688000-1778691600@hvilleblast.com
SUMMARY:CREATIVE KIDS ART CLASS
DESCRIPTION:Art Education Group Class\nCreative Kids© Monthly Art\, all supplies included. We experiment with a variety of materials\, tools\, and media to create unique and expressive works of art in a fun\, creative and non-competitive environment. Allowing young artists the freedom to explore their own potential and nurture their self-esteem\, will instill in them a strong repertoire of techniques and skills. This monthly kids class includes 4 one hour sessions (drawing\, sculpture\, painting and design) schedule your monthly Denise Onwere Gallery Art classes today. \n\n\n\n\n\n\nClick on Learn More below to sign up and for additional information.
URL:https://hvilleblast.com/event/creative-kids-art-class-155/
LOCATION:Denise Onwere Gallery | Studio 203
CATEGORIES:Classes & Wokshops
ATTACH;FMTTYPE=image/jpeg:https://hvilleblast.com/wp-content/uploads/2025/07/203_creativekids-Xyy9Kj.jpg
END:VEVENT
BEGIN:VEVENT
DTSTART;TZID=America/Chicago:20260520T160000
DTEND;TZID=America/Chicago:20260520T170000
DTSTAMP:20260422T110449
CREATED:20260420T042955Z
LAST-MODIFIED:20260420T042955Z
UID:10024858-1779292800-1779296400@hvilleblast.com
SUMMARY:CREATIVE KIDS ART CLASS
DESCRIPTION:Art Education Group Class\nCreative Kids© Monthly Art\, all supplies included. We experiment with a variety of materials\, tools\, and media to create unique and expressive works of art in a fun\, creative and non-competitive environment. Allowing young artists the freedom to explore their own potential and nurture their self-esteem\, will instill in them a strong repertoire of techniques and skills. This monthly kids class includes 4 one hour sessions (drawing\, sculpture\, painting and design) schedule your monthly Denise Onwere Gallery Art classes today. \n\n\n\n\n\n\nClick on Learn More below to sign up and for additional information.
URL:https://hvilleblast.com/event/creative-kids-art-class-156/
LOCATION:Denise Onwere Gallery | Studio 203
CATEGORIES:Classes & Wokshops
ATTACH;FMTTYPE=image/jpeg:https://hvilleblast.com/wp-content/uploads/2025/07/203_creativekids-Xyy9Kj.jpg
END:VEVENT
END:VCALENDAR