BEGIN:VCALENDAR
VERSION:2.0
PRODID:-//Hville Blast - ECPv6.15.20//NONSGML v1.0//EN
CALSCALE:GREGORIAN
METHOD:PUBLISH
X-ORIGINAL-URL:https://hvilleblast.com
X-WR-CALDESC:Events for Hville Blast
REFRESH-INTERVAL;VALUE=DURATION:PT1H
X-Robots-Tag:noindex
X-PUBLISHED-TTL:PT1H
BEGIN:VTIMEZONE
TZID:America/Chicago
BEGIN:DAYLIGHT
TZOFFSETFROM:-0600
TZOFFSETTO:-0500
TZNAME:CDT
DTSTART:20240310T080000
END:DAYLIGHT
BEGIN:STANDARD
TZOFFSETFROM:-0500
TZOFFSETTO:-0600
TZNAME:CST
DTSTART:20241103T070000
END:STANDARD
BEGIN:DAYLIGHT
TZOFFSETFROM:-0600
TZOFFSETTO:-0500
TZNAME:CDT
DTSTART:20250309T080000
END:DAYLIGHT
BEGIN:STANDARD
TZOFFSETFROM:-0500
TZOFFSETTO:-0600
TZNAME:CST
DTSTART:20251102T070000
END:STANDARD
BEGIN:DAYLIGHT
TZOFFSETFROM:-0600
TZOFFSETTO:-0500
TZNAME:CDT
DTSTART:20260308T080000
END:DAYLIGHT
BEGIN:STANDARD
TZOFFSETFROM:-0500
TZOFFSETTO:-0600
TZNAME:CST
DTSTART:20261101T070000
END:STANDARD
END:VTIMEZONE
BEGIN:VEVENT
DTSTART;TZID=America/Chicago:20251029T160000
DTEND;TZID=America/Chicago:20251029T170000
DTSTAMP:20260422T175106
CREATED:20250929T034441Z
LAST-MODIFIED:20251025T214226Z
UID:10016766-1761753600-1761757200@hvilleblast.com
SUMMARY:CREATIVE KIDS ART CLASS
DESCRIPTION:Art Education Group Class\nCreative Kids© Monthly Art\, all supplies included. We experiment with a variety of materials\, tools\, and media to create unique and expressive works of art in a fun\, creative and non-competitive environment. Allowing young artists the freedom to explore their own potential and nurture their self-esteem\, will instill in them a strong repertoire of techniques and skills. This monthly kids class includes 4 one hour sessions (drawing\, sculpture\, painting and design) schedule your monthly Denise Onwere Gallery Art classes today. \n\n\n\n\n\n\nClick on Learn More below to sign up and for additional information.
URL:https://hvilleblast.com/event/creative-kids-art-class-107/
LOCATION:Denise Onwere Gallery | Studio 203
CATEGORIES:Classes & Wokshops
ATTACH;FMTTYPE=image/jpeg:https://hvilleblast.com/wp-content/uploads/2025/07/203_creativekids-Xyy9Kj.jpg
END:VEVENT
BEGIN:VEVENT
DTSTART;TZID=America/Chicago:20251023T150000
DTEND;TZID=America/Chicago:20251023T160000
DTSTAMP:20260422T175106
CREATED:20250923T023414Z
LAST-MODIFIED:20251022T202835Z
UID:10016496-1761231600-1761235200@hvilleblast.com
SUMMARY:CREATIVE KIDS ART CLASS
DESCRIPTION:Art Education Group Class\nCreative Kids© Monthly Art\, all supplies included. We experiment with a variety of materials\, tools\, and media to create unique and expressive works of art in a fun\, creative and non-competitive environment. Allowing young artists the freedom to explore their own potential and nurture their self-esteem\, will instill in them a strong repertoire of techniques and skills. This monthly kids class includes 4 one hour sessions (drawing\, sculpture\, painting and design) schedule your monthly Denise Onwere Gallery Art classes today. \n\n\n\n\n\n\nClick on Learn More below to sign up and for additional information.
URL:https://hvilleblast.com/event/creative-kids-art-class-106/
LOCATION:Denise Onwere Gallery | Studio 203
CATEGORIES:Classes & Wokshops
ATTACH;FMTTYPE=image/jpeg:https://hvilleblast.com/wp-content/uploads/2025/07/denise-onwere-class-ubDjAH.jpg
END:VEVENT
BEGIN:VEVENT
DTSTART;TZID=America/Chicago:20251022T160000
DTEND;TZID=America/Chicago:20251022T170000
DTSTAMP:20260422T175106
CREATED:20250922T021328Z
LAST-MODIFIED:20251022T202826Z
UID:10016477-1761148800-1761152400@hvilleblast.com
SUMMARY:CREATIVE KIDS ART CLASS
DESCRIPTION:Art Education Group Class\nCreative Kids© Monthly Art\, all supplies included. We experiment with a variety of materials\, tools\, and media to create unique and expressive works of art in a fun\, creative and non-competitive environment. Allowing young artists the freedom to explore their own potential and nurture their self-esteem\, will instill in them a strong repertoire of techniques and skills. This monthly kids class includes 4 one hour sessions (drawing\, sculpture\, painting and design) schedule your monthly Denise Onwere Gallery Art classes today. \n\n\n\n\n\n\nClick on Learn More below to sign up and for additional information.
URL:https://hvilleblast.com/event/creative-kids-art-class-105/
LOCATION:Denise Onwere Gallery | Studio 203
CATEGORIES:Classes & Wokshops
ATTACH;FMTTYPE=image/jpeg:https://hvilleblast.com/wp-content/uploads/2025/07/203_creativekids-Xyy9Kj.jpg
END:VEVENT
BEGIN:VEVENT
DTSTART;TZID=America/Chicago:20251016T150000
DTEND;TZID=America/Chicago:20251016T160000
DTSTAMP:20260422T175106
CREATED:20250916T004423Z
LAST-MODIFIED:20251016T155711Z
UID:10015938-1760626800-1760630400@hvilleblast.com
SUMMARY:CREATIVE KIDS ART CLASS
DESCRIPTION:Art Education Group Class\nCreative Kids© Monthly Art\, all supplies included. We experiment with a variety of materials\, tools\, and media to create unique and expressive works of art in a fun\, creative and non-competitive environment. Allowing young artists the freedom to explore their own potential and nurture their self-esteem\, will instill in them a strong repertoire of techniques and skills. This monthly kids class includes 4 one hour sessions (drawing\, sculpture\, painting and design) schedule your monthly Denise Onwere Gallery Art classes today. \n\n\n\n\n\n\nClick on Learn More below to sign up and for additional information.
URL:https://hvilleblast.com/event/creative-kids-art-class-104/
LOCATION:Denise Onwere Gallery | Studio 203
CATEGORIES:Classes & Wokshops
ATTACH;FMTTYPE=image/jpeg:https://hvilleblast.com/wp-content/uploads/2025/07/denise-onwere-class-ubDjAH.jpg
END:VEVENT
BEGIN:VEVENT
DTSTART;TZID=America/Chicago:20251015T160000
DTEND;TZID=America/Chicago:20251015T170000
DTSTAMP:20260422T175106
CREATED:20250916T004420Z
LAST-MODIFIED:20251015T154221Z
UID:10015924-1760544000-1760547600@hvilleblast.com
SUMMARY:CREATIVE KIDS ART CLASS
DESCRIPTION:Art Education Group Class\nCreative Kids© Monthly Art\, all supplies included. We experiment with a variety of materials\, tools\, and media to create unique and expressive works of art in a fun\, creative and non-competitive environment. Allowing young artists the freedom to explore their own potential and nurture their self-esteem\, will instill in them a strong repertoire of techniques and skills. This monthly kids class includes 4 one hour sessions (drawing\, sculpture\, painting and design) schedule your monthly Denise Onwere Gallery Art classes today. \n\n\n\n\n\n\nClick on Learn More below to sign up and for additional information.
URL:https://hvilleblast.com/event/creative-kids-art-class-103/
LOCATION:Denise Onwere Gallery | Studio 203
CATEGORIES:Classes & Wokshops
ATTACH;FMTTYPE=image/jpeg:https://hvilleblast.com/wp-content/uploads/2025/07/203_creativekids-Xyy9Kj.jpg
END:VEVENT
BEGIN:VEVENT
DTSTART;TZID=America/Chicago:20251009T150000
DTEND;TZID=America/Chicago:20251009T160000
DTSTAMP:20260422T175106
CREATED:20250916T004404Z
LAST-MODIFIED:20251009T142710Z
UID:10015899-1760022000-1760025600@hvilleblast.com
SUMMARY:CREATIVE KIDS ART CLASS
DESCRIPTION:Art Education Group Class\nCreative Kids© Monthly Art\, all supplies included. We experiment with a variety of materials\, tools\, and media to create unique and expressive works of art in a fun\, creative and non-competitive environment. Allowing young artists the freedom to explore their own potential and nurture their self-esteem\, will instill in them a strong repertoire of techniques and skills. This monthly kids class includes 4 one hour sessions (drawing\, sculpture\, painting and design) schedule your monthly Denise Onwere Gallery Art classes today. \n\n\n\n\n\n\nClick on Learn More below to sign up and for additional information.
URL:https://hvilleblast.com/event/creative-kids-art-class-102/
LOCATION:Denise Onwere Gallery | Studio 203
CATEGORIES:Classes & Wokshops
ATTACH;FMTTYPE=image/jpeg:https://hvilleblast.com/wp-content/uploads/2025/07/denise-onwere-class-ubDjAH.jpg
END:VEVENT
BEGIN:VEVENT
DTSTART;TZID=America/Chicago:20251008T160000
DTEND;TZID=America/Chicago:20251008T170000
DTSTAMP:20260422T175106
CREATED:20250916T004402Z
LAST-MODIFIED:20251008T141350Z
UID:10015892-1759939200-1759942800@hvilleblast.com
SUMMARY:CREATIVE KIDS ART CLASS
DESCRIPTION:Art Education Group Class\nCreative Kids© Monthly Art\, all supplies included. We experiment with a variety of materials\, tools\, and media to create unique and expressive works of art in a fun\, creative and non-competitive environment. Allowing young artists the freedom to explore their own potential and nurture their self-esteem\, will instill in them a strong repertoire of techniques and skills. This monthly kids class includes 4 one hour sessions (drawing\, sculpture\, painting and design) schedule your monthly Denise Onwere Gallery Art classes today. \n\n\n\n\n\n\nClick on Learn More below to sign up and for additional information.
URL:https://hvilleblast.com/event/creative-kids-art-class-101/
LOCATION:Denise Onwere Gallery | Studio 203
CATEGORIES:Classes & Wokshops
ATTACH;FMTTYPE=image/jpeg:https://hvilleblast.com/wp-content/uploads/2025/07/203_creativekids-Xyy9Kj.jpg
END:VEVENT
BEGIN:VEVENT
DTSTART;TZID=America/Chicago:20251002T150000
DTEND;TZID=America/Chicago:20251002T160000
DTSTAMP:20260422T175106
CREATED:20250916T004346Z
LAST-MODIFIED:20250930T034654Z
UID:10015861-1759417200-1759420800@hvilleblast.com
SUMMARY:CREATIVE KIDS ART CLASS
DESCRIPTION:Art Education Group Class\nCreative Kids© Monthly Art\, all supplies included. We experiment with a variety of materials\, tools\, and media to create unique and expressive works of art in a fun\, creative and non-competitive environment. Allowing young artists the freedom to explore their own potential and nurture their self-esteem\, will instill in them a strong repertoire of techniques and skills. This monthly kids class includes 4 one hour sessions (drawing\, sculpture\, painting and design) schedule your monthly Denise Onwere Gallery Art classes today. \n\n\n\n\n\n\nClick on Learn More below to sign up and for additional information.
URL:https://hvilleblast.com/event/creative-kids-art-class-100/
LOCATION:Denise Onwere Gallery | Studio 203
CATEGORIES:Classes & Wokshops
ATTACH;FMTTYPE=image/jpeg:https://hvilleblast.com/wp-content/uploads/2025/07/denise-onwere-class-ubDjAH.jpg
END:VEVENT
BEGIN:VEVENT
DTSTART;TZID=America/Chicago:20251001T160000
DTEND;TZID=America/Chicago:20251001T170000
DTSTAMP:20260422T175106
CREATED:20250916T004343Z
LAST-MODIFIED:20250930T034644Z
UID:10015854-1759334400-1759338000@hvilleblast.com
SUMMARY:CREATIVE KIDS ART CLASS
DESCRIPTION:Art Education Group Class\nCreative Kids© Monthly Art\, all supplies included. We experiment with a variety of materials\, tools\, and media to create unique and expressive works of art in a fun\, creative and non-competitive environment. Allowing young artists the freedom to explore their own potential and nurture their self-esteem\, will instill in them a strong repertoire of techniques and skills. This monthly kids class includes 4 one hour sessions (drawing\, sculpture\, painting and design) schedule your monthly Denise Onwere Gallery Art classes today. \n\n\n\n\n\n\nClick on Learn More below to sign up and for additional information.
URL:https://hvilleblast.com/event/creative-kids-art-class-99/
LOCATION:Denise Onwere Gallery | Studio 203
CATEGORIES:Classes & Wokshops
ATTACH;FMTTYPE=image/jpeg:https://hvilleblast.com/wp-content/uploads/2025/07/203_creativekids-Xyy9Kj.jpg
END:VEVENT
BEGIN:VEVENT
DTSTART;TZID=America/Chicago:20250925T150000
DTEND;TZID=America/Chicago:20250925T160000
DTSTAMP:20260422T175106
CREATED:20250830T023134Z
LAST-MODIFIED:20250925T025729Z
UID:10015223-1758812400-1758816000@hvilleblast.com
SUMMARY:CREATIVE KIDS ART CLASS
DESCRIPTION:Art Education Group Class\nCreative Kids© Monthly Art\, all supplies included. We experiment with a variety of materials\, tools\, and media to create unique and expressive works of art in a fun\, creative and non-competitive environment. Allowing young artists the freedom to explore their own potential and nurture their self-esteem\, will instill in them a strong repertoire of techniques and skills. This monthly kids class includes 4 one hour sessions (drawing\, sculpture\, painting and design) schedule your monthly Denise Onwere Gallery Art classes today. \n\n\n\n\n\n\nClick on Learn More below to sign up and for additional information.
URL:https://hvilleblast.com/event/creative-kids-art-class-98/
LOCATION:Denise Onwere Gallery | Studio 203
CATEGORIES:Classes & Wokshops
ATTACH;FMTTYPE=image/jpeg:https://hvilleblast.com/wp-content/uploads/2025/07/denise-onwere-class-ubDjAH.jpg
END:VEVENT
BEGIN:VEVENT
DTSTART;TZID=America/Chicago:20250924T160000
DTEND;TZID=America/Chicago:20250924T170000
DTSTAMP:20260422T175106
CREATED:20250830T023131Z
LAST-MODIFIED:20250924T024238Z
UID:10015216-1758729600-1758733200@hvilleblast.com
SUMMARY:CREATIVE KIDS ART CLASS
DESCRIPTION:Art Education Group Class\nCreative Kids© Monthly Art\, all supplies included. We experiment with a variety of materials\, tools\, and media to create unique and expressive works of art in a fun\, creative and non-competitive environment. Allowing young artists the freedom to explore their own potential and nurture their self-esteem\, will instill in them a strong repertoire of techniques and skills. This monthly kids class includes 4 one hour sessions (drawing\, sculpture\, painting and design) schedule your monthly Denise Onwere Gallery Art classes today. \n\n\n\n\n\n\nClick on Learn More below to sign up and for additional information.
URL:https://hvilleblast.com/event/creative-kids-art-class-97/
LOCATION:Denise Onwere Gallery | Studio 203
CATEGORIES:Classes & Wokshops
ATTACH;FMTTYPE=image/jpeg:https://hvilleblast.com/wp-content/uploads/2025/07/203_creativekids-Xyy9Kj.jpg
END:VEVENT
END:VCALENDAR