BEGIN:VCALENDAR
VERSION:2.0
PRODID:-//Hville Blast - ECPv6.15.20//NONSGML v1.0//EN
CALSCALE:GREGORIAN
METHOD:PUBLISH
X-WR-CALNAME:Hville Blast
X-ORIGINAL-URL:https://hvilleblast.com
X-WR-CALDESC:Events for Hville Blast
REFRESH-INTERVAL;VALUE=DURATION:PT1H
X-Robots-Tag:noindex
X-PUBLISHED-TTL:PT1H
BEGIN:VTIMEZONE
TZID:America/Chicago
BEGIN:DAYLIGHT
TZOFFSETFROM:-0600
TZOFFSETTO:-0500
TZNAME:CDT
DTSTART:20250309T080000
END:DAYLIGHT
BEGIN:STANDARD
TZOFFSETFROM:-0500
TZOFFSETTO:-0600
TZNAME:CST
DTSTART:20251102T070000
END:STANDARD
BEGIN:DAYLIGHT
TZOFFSETFROM:-0600
TZOFFSETTO:-0500
TZNAME:CDT
DTSTART:20260308T080000
END:DAYLIGHT
BEGIN:STANDARD
TZOFFSETFROM:-0500
TZOFFSETTO:-0600
TZNAME:CST
DTSTART:20261101T070000
END:STANDARD
BEGIN:DAYLIGHT
TZOFFSETFROM:-0600
TZOFFSETTO:-0500
TZNAME:CDT
DTSTART:20270314T080000
END:DAYLIGHT
BEGIN:STANDARD
TZOFFSETFROM:-0500
TZOFFSETTO:-0600
TZNAME:CST
DTSTART:20271107T070000
END:STANDARD
END:VTIMEZONE
BEGIN:VEVENT
DTSTART;TZID=America/Chicago:20260425T120000
DTEND;TZID=America/Chicago:20260425T180000
DTSTAMP:20260425T110018
CREATED:20260410T083042Z
LAST-MODIFIED:20260420T042915Z
UID:10024352-1777118400-1777140000@hvilleblast.com
SUMMARY:Private Tasting Event – Book Your Own Time
DESCRIPTION:Visit Irons One Studio 2061 in amazing Lowe Mill ARTS & Entertainment for a private tasting\nevent for you and your friends. This is for small groups – recommended size is from 2-20\npeople. When you and your guests arrive\, the distillery’s doors close and your private event\nbegins.\nThe private tasting starts with a guided tour\, offering a detailed exploration of the whiskey-\nmaking process. After the tour\, you end up in the tasting room where an Irons One bottle is\nopened —crafted just for you. Enjoy it during the tasting\, and whatever is left is yours to take\nhome and savor.\nPrivate tasting pricing starts at $200 for groups of up to 10 people\, with an additional $20 per\nperson for groups of 11–20.
URL:https://hvilleblast.com/event/private-tasting-event-book-your-own-time-79/
LOCATION:Iron’s One Distillery | Studio 2061
CATEGORIES:Classes & Wokshops,Featured,Studio Event
ATTACH;FMTTYPE=image/jpeg:https://hvilleblast.com/wp-content/uploads/2026/02/493229247_1252763993525632_3957346988697136362_n-2-hPNP1w.jpg
ORGANIZER;CN="Jeff Irons":MAILTO:ironsonewhiskey@gmail.com
END:VEVENT
BEGIN:VEVENT
DTSTART;TZID=America/Chicago:20260502T120000
DTEND;TZID=America/Chicago:20260502T180000
DTSTAMP:20260425T110018
CREATED:20260410T083111Z
LAST-MODIFIED:20260420T042927Z
UID:10024393-1777723200-1777744800@hvilleblast.com
SUMMARY:Private Tasting Event – Book Your Own Time
DESCRIPTION:Visit Irons One Studio 2061 in amazing Lowe Mill ARTS & Entertainment for a private tasting\nevent for you and your friends. This is for small groups – recommended size is from 2-20\npeople. When you and your guests arrive\, the distillery’s doors close and your private event\nbegins.\nThe private tasting starts with a guided tour\, offering a detailed exploration of the whiskey-\nmaking process. After the tour\, you end up in the tasting room where an Irons One bottle is\nopened —crafted just for you. Enjoy it during the tasting\, and whatever is left is yours to take\nhome and savor.\nPrivate tasting pricing starts at $200 for groups of up to 10 people\, with an additional $20 per\nperson for groups of 11–20.
URL:https://hvilleblast.com/event/private-tasting-event-book-your-own-time-80/
LOCATION:Iron’s One Distillery | Studio 2061
CATEGORIES:Classes & Wokshops,Featured,Studio Event
ATTACH;FMTTYPE=image/jpeg:https://hvilleblast.com/wp-content/uploads/2026/02/493229247_1252763993525632_3957346988697136362_n-2-hPNP1w.jpg
ORGANIZER;CN="Jeff Irons":MAILTO:ironsonewhiskey@gmail.com
END:VEVENT
BEGIN:VEVENT
DTSTART;TZID=America/Chicago:20260509T120000
DTEND;TZID=America/Chicago:20260509T180000
DTSTAMP:20260425T110018
CREATED:20260411T021735Z
LAST-MODIFIED:20260420T042937Z
UID:10024525-1778328000-1778349600@hvilleblast.com
SUMMARY:Private Tasting Event – Book Your Own Time
DESCRIPTION:Visit Irons One Studio 2061 in amazing Lowe Mill ARTS & Entertainment for a private tasting\nevent for you and your friends. This is for small groups – recommended size is from 2-20\npeople. When you and your guests arrive\, the distillery’s doors close and your private event\nbegins.\nThe private tasting starts with a guided tour\, offering a detailed exploration of the whiskey-\nmaking process. After the tour\, you end up in the tasting room where an Irons One bottle is\nopened —crafted just for you. Enjoy it during the tasting\, and whatever is left is yours to take\nhome and savor.\nPrivate tasting pricing starts at $200 for groups of up to 10 people\, with an additional $20 per\nperson for groups of 11–20.
URL:https://hvilleblast.com/event/private-tasting-event-book-your-own-time-81/
LOCATION:Iron’s One Distillery | Studio 2061
CATEGORIES:Classes & Wokshops,Featured,Studio Event
ATTACH;FMTTYPE=image/jpeg:https://hvilleblast.com/wp-content/uploads/2026/02/493229247_1252763993525632_3957346988697136362_n-2-hPNP1w.jpg
ORGANIZER;CN="Jeff Irons":MAILTO:ironsonewhiskey@gmail.com
END:VEVENT
BEGIN:VEVENT
DTSTART;TZID=America/Chicago:20260516T120000
DTEND;TZID=America/Chicago:20260516T180000
DTSTAMP:20260425T110018
CREATED:20260419T041412Z
LAST-MODIFIED:20260420T042951Z
UID:10024770-1778932800-1778954400@hvilleblast.com
SUMMARY:Private Tasting Event – Book Your Own Time
DESCRIPTION:Visit Irons One Studio 2061 in amazing Lowe Mill ARTS & Entertainment for a private tasting\nevent for you and your friends. This is for small groups – recommended size is from 2-20\npeople. When you and your guests arrive\, the distillery’s doors close and your private event\nbegins.\nThe private tasting starts with a guided tour\, offering a detailed exploration of the whiskey-\nmaking process. After the tour\, you end up in the tasting room where an Irons One bottle is\nopened —crafted just for you. Enjoy it during the tasting\, and whatever is left is yours to take\nhome and savor.\nPrivate tasting pricing starts at $200 for groups of up to 10 people\, with an additional $20 per\nperson for groups of 11–20.
URL:https://hvilleblast.com/event/private-tasting-event-book-your-own-time-82/
LOCATION:Iron’s One Distillery | Studio 2061
CATEGORIES:Classes & Wokshops,Featured,Studio Event
ATTACH;FMTTYPE=image/jpeg:https://hvilleblast.com/wp-content/uploads/2026/02/493229247_1252763993525632_3957346988697136362_n-2-hPNP1w.jpg
ORGANIZER;CN="Jeff Irons":MAILTO:ironsonewhiskey@gmail.com
END:VEVENT
END:VCALENDAR