BEGIN:VCALENDAR
VERSION:2.0
PRODID:-//Hville Blast - ECPv6.15.20//NONSGML v1.0//EN
CALSCALE:GREGORIAN
METHOD:PUBLISH
X-WR-CALNAME:Hville Blast
X-ORIGINAL-URL:https://hvilleblast.com
X-WR-CALDESC:Events for Hville Blast
REFRESH-INTERVAL;VALUE=DURATION:PT1H
X-Robots-Tag:noindex
X-PUBLISHED-TTL:PT1H
BEGIN:VTIMEZONE
TZID:America/Chicago
BEGIN:DAYLIGHT
TZOFFSETFROM:-0600
TZOFFSETTO:-0500
TZNAME:CDT
DTSTART:20240310T080000
END:DAYLIGHT
BEGIN:STANDARD
TZOFFSETFROM:-0500
TZOFFSETTO:-0600
TZNAME:CST
DTSTART:20241103T070000
END:STANDARD
BEGIN:DAYLIGHT
TZOFFSETFROM:-0600
TZOFFSETTO:-0500
TZNAME:CDT
DTSTART:20250309T080000
END:DAYLIGHT
BEGIN:STANDARD
TZOFFSETFROM:-0500
TZOFFSETTO:-0600
TZNAME:CST
DTSTART:20251102T070000
END:STANDARD
BEGIN:DAYLIGHT
TZOFFSETFROM:-0600
TZOFFSETTO:-0500
TZNAME:CDT
DTSTART:20260308T080000
END:DAYLIGHT
BEGIN:STANDARD
TZOFFSETFROM:-0500
TZOFFSETTO:-0600
TZNAME:CST
DTSTART:20261101T070000
END:STANDARD
BEGIN:DAYLIGHT
TZOFFSETFROM:-0600
TZOFFSETTO:-0500
TZNAME:CDT
DTSTART:20270314T080000
END:DAYLIGHT
BEGIN:STANDARD
TZOFFSETFROM:-0500
TZOFFSETTO:-0600
TZNAME:CST
DTSTART:20271107T070000
END:STANDARD
END:VTIMEZONE
BEGIN:VEVENT
DTSTART;TZID=America/Chicago:20260325T110000
DTEND;TZID=America/Chicago:20260325T123000
DTSTAMP:20260419T174052
CREATED:20260301T062510Z
LAST-MODIFIED:20260301T062510Z
UID:10023226-1774436400-1774441800@hvilleblast.com
SUMMARY:Wednesday Open Art Journaling
DESCRIPTION:This is your mid-week creative pick-me-up! Bring your art journal and use the studio supplies!
URL:https://hvilleblast.com/event/wednesday-open-art-journaling-57/
LOCATION:7500 Memorial Pkwy SW ste 110\, 7500 Memorial Parkway Southwest\, #ste 110\, Huntsville\, AL\, 35802\, United States
END:VEVENT
BEGIN:VEVENT
DTSTART;TZID=America/Chicago:20260318T110000
DTEND;TZID=America/Chicago:20260318T123000
DTSTAMP:20260419T174052
CREATED:20260301T062509Z
LAST-MODIFIED:20260301T062509Z
UID:10023225-1773831600-1773837000@hvilleblast.com
SUMMARY:Wednesday Open Art Journaling
DESCRIPTION:This is your mid-week creative pick-me-up! Bring your art journal and use the studio supplies!
URL:https://hvilleblast.com/event/wednesday-open-art-journaling-56/
LOCATION:7500 Memorial Pkwy SW ste 110\, 7500 Memorial Parkway Southwest\, #ste 110\, Huntsville\, AL\, 35802\, United States
END:VEVENT
BEGIN:VEVENT
DTSTART;TZID=America/Chicago:20260311T110000
DTEND;TZID=America/Chicago:20260311T123000
DTSTAMP:20260419T174052
CREATED:20260301T062508Z
LAST-MODIFIED:20260301T062508Z
UID:10023224-1773226800-1773232200@hvilleblast.com
SUMMARY:Wednesday Open Art Journaling
DESCRIPTION:This is your mid-week creative pick-me-up! Bring your art journal and use the studio supplies!
URL:https://hvilleblast.com/event/wednesday-open-art-journaling-55/
LOCATION:7500 Memorial Pkwy SW ste 110\, 7500 Memorial Parkway Southwest\, #ste 110\, Huntsville\, AL\, 35802\, United States
END:VEVENT
BEGIN:VEVENT
DTSTART;TZID=America/Chicago:20260304T110000
DTEND;TZID=America/Chicago:20260304T123000
DTSTAMP:20260419T174052
CREATED:20260301T062507Z
LAST-MODIFIED:20260301T062507Z
UID:10023223-1772622000-1772627400@hvilleblast.com
SUMMARY:Wednesday Open Art Journaling
DESCRIPTION:This is your mid-week creative pick-me-up! Bring your art journal and use the studio supplies!
URL:https://hvilleblast.com/event/wednesday-open-art-journaling-54/
LOCATION:7500 Memorial Pkwy SW ste 110\, 7500 Memorial Parkway Southwest\, #ste 110\, Huntsville\, AL\, 35802\, United States
END:VEVENT
BEGIN:VEVENT
DTSTART;TZID=America/Chicago:20260225T110000
DTEND;TZID=America/Chicago:20260225T123000
DTSTAMP:20260419T174052
CREATED:20260301T062503Z
LAST-MODIFIED:20260301T062503Z
UID:10023220-1772017200-1772022600@hvilleblast.com
SUMMARY:Wednesday Open Art Journaling
DESCRIPTION:This is your mid-week creative pick-me-up! Bring your art journal and use the studio supplies!
URL:https://hvilleblast.com/event/wednesday-open-art-journaling-53/
LOCATION:7500 Memorial Pkwy SW ste 110\, 7500 Memorial Parkway Southwest\, #ste 110\, Huntsville\, AL\, 35802\, United States
END:VEVENT
BEGIN:VEVENT
DTSTART;TZID=America/Chicago:20251220T113000
DTEND;TZID=America/Chicago:20251220T130000
DTSTAMP:20260419T174052
CREATED:20251028T191546Z
LAST-MODIFIED:20251215T153609Z
UID:10019535-1766230200-1766235600@hvilleblast.com
SUMMARY:Somerset Challenge
DESCRIPTION:We’ll tackle one of the projects featured in the magazine\, “Somerset Studio.” Everyone who signs up will get to vote on which one we do!\n\n\nWe’ll take one of the projects included in a Somerset Studio magazine and do it from start to finish – together!  Everyone who signs up for the class will get to vote on which project we do\, and I’ll have all of the materials ready for us in the next scheduled class. If you are not already on the email list\, click here to join.
URL:https://hvilleblast.com/event/somerset-challenge-6/
LOCATION:7500 Memorial Pkwy SW ste 110\, 7500 Memorial Parkway Southwest\, #ste 110\, Huntsville\, AL\, 35802\, United States
ATTACH;FMTTYPE=image/jpeg:https://hvilleblast.com/wp-content/uploads/2025/08/77e7e94f78877a450bee16e17d41cfc2.jpg
END:VEVENT
BEGIN:VEVENT
DTSTART;TZID=America/Chicago:20251210T110000
DTEND;TZID=America/Chicago:20251210T123000
DTSTAMP:20260419T174052
CREATED:20241216T033723Z
LAST-MODIFIED:20251215T153607Z
UID:10006422-1765364400-1765369800@hvilleblast.com
SUMMARY:Wednesday Open Art Journaling
DESCRIPTION:This is your mid-week creative pick-me-up! Bring your art journal and use the studio supplies!
URL:https://hvilleblast.com/event/wednesday-open-art-journaling-52/
LOCATION:7500 Memorial Pkwy SW ste 110\, 7500 Memorial Parkway Southwest\, #ste 110\, Huntsville\, AL\, 35802\, United States
ATTACH;FMTTYPE=image/jpeg:https://hvilleblast.com/wp-content/uploads/2024/12/2909b345394fd6c0798c00261f0446db.jpg
END:VEVENT
BEGIN:VEVENT
DTSTART;TZID=America/Chicago:20251203T110000
DTEND;TZID=America/Chicago:20251203T123000
DTSTAMP:20260419T174052
CREATED:20241209T032249Z
LAST-MODIFIED:20251201T065707Z
UID:10006376-1764759600-1764765000@hvilleblast.com
SUMMARY:Wednesday Open Art Journaling
DESCRIPTION:This is your mid-week creative pick-me-up! Bring your art journal and use the studio supplies!
URL:https://hvilleblast.com/event/wednesday-open-art-journaling-51/
LOCATION:7500 Memorial Pkwy SW ste 110\, 7500 Memorial Parkway Southwest\, #ste 110\, Huntsville\, AL\, 35802\, United States
ATTACH;FMTTYPE=image/jpeg:https://hvilleblast.com/wp-content/uploads/2024/12/2909b345394fd6c0798c00261f0446db.jpg
END:VEVENT
BEGIN:VEVENT
DTSTART;TZID=America/Chicago:20251126T110000
DTEND;TZID=America/Chicago:20251126T123000
DTSTAMP:20260419T174052
CREATED:20241202T030700Z
LAST-MODIFIED:20251028T191604Z
UID:10006269-1764154800-1764160200@hvilleblast.com
SUMMARY:Wednesday Open Art Journaling
DESCRIPTION:This is your mid-week creative pick-me-up! Bring your art journal and use the studio supplies!
URL:https://hvilleblast.com/event/wednesday-open-art-journaling-50/
LOCATION:7500 Memorial Pkwy SW ste 110\, 7500 Memorial Parkway Southwest\, #ste 110\, Huntsville\, AL\, 35802\, United States
ATTACH;FMTTYPE=image/jpeg:https://hvilleblast.com/wp-content/uploads/2024/12/2909b345394fd6c0798c00261f0446db.jpg
END:VEVENT
BEGIN:VEVENT
DTSTART;TZID=America/Chicago:20251119T110000
DTEND;TZID=America/Chicago:20251119T123000
DTSTAMP:20260419T174052
CREATED:20241202T030659Z
LAST-MODIFIED:20251124T032708Z
UID:10006268-1763550000-1763555400@hvilleblast.com
SUMMARY:Wednesday Open Art Journaling
DESCRIPTION:This is your mid-week creative pick-me-up! Bring your art journal and use the studio supplies!
URL:https://hvilleblast.com/event/wednesday-open-art-journaling-49/
LOCATION:7500 Memorial Pkwy SW ste 110\, 7500 Memorial Parkway Southwest\, #ste 110\, Huntsville\, AL\, 35802\, United States
ATTACH;FMTTYPE=image/jpeg:https://hvilleblast.com/wp-content/uploads/2024/12/2909b345394fd6c0798c00261f0446db.jpg
END:VEVENT
BEGIN:VEVENT
DTSTART;TZID=America/Chicago:20251112T110000
DTEND;TZID=America/Chicago:20251112T123000
DTSTAMP:20260419T174052
CREATED:20241202T030657Z
LAST-MODIFIED:20251115T224207Z
UID:10006267-1762945200-1762950600@hvilleblast.com
SUMMARY:Wednesday Open Art Journaling
DESCRIPTION:This is your mid-week creative pick-me-up! Bring your art journal and use the studio supplies!
URL:https://hvilleblast.com/event/wednesday-open-art-journaling-48/
LOCATION:7500 Memorial Pkwy SW ste 110\, 7500 Memorial Parkway Southwest\, #ste 110\, Huntsville\, AL\, 35802\, United States
ATTACH;FMTTYPE=image/jpeg:https://hvilleblast.com/wp-content/uploads/2024/12/2909b345394fd6c0798c00261f0446db.jpg
END:VEVENT
BEGIN:VEVENT
DTSTART;TZID=America/Chicago:20251108T113000
DTEND;TZID=America/Chicago:20251108T130000
DTSTAMP:20260419T174052
CREATED:20251028T191530Z
LAST-MODIFIED:20251028T191530Z
UID:10019526-1762601400-1762606800@hvilleblast.com
SUMMARY:Mixed Media Autumn Themed
DESCRIPTION:We’ll create an Autumn inspired collage on canvas panels using paint\, fabric\, paper and other fun items.\n\n\nUsing paint\, paper and other things we’ll create a Fall mixed media piece. I have tons of stamps\, stencils\, paints and papers. It’s simple and fun\, and of course\, creative! As in all our classes\, you’ll get guidance and creative freedom. And always great conversation among everyone! It’s a fun activity for ages 5 to 105\, and no experience is needed.
URL:https://hvilleblast.com/event/mixed-media-autumn-themed-2/
LOCATION:7500 Memorial Pkwy SW ste 110\, 7500 Memorial Parkway Southwest\, #ste 110\, Huntsville\, AL\, 35802\, United States
END:VEVENT
BEGIN:VEVENT
DTSTART;TZID=America/Chicago:20251105T110000
DTEND;TZID=America/Chicago:20251105T123000
DTSTAMP:20260419T174052
CREATED:20241202T030656Z
LAST-MODIFIED:20251028T191602Z
UID:10006266-1762340400-1762345800@hvilleblast.com
SUMMARY:Wednesday Open Art Journaling
DESCRIPTION:This is your mid-week creative pick-me-up! Bring your art journal and use the studio supplies!
URL:https://hvilleblast.com/event/wednesday-open-art-journaling-47/
LOCATION:7500 Memorial Pkwy SW ste 110\, 7500 Memorial Parkway Southwest\, #ste 110\, Huntsville\, AL\, 35802\, United States
ATTACH;FMTTYPE=image/jpeg:https://hvilleblast.com/wp-content/uploads/2024/12/2909b345394fd6c0798c00261f0446db.jpg
END:VEVENT
BEGIN:VEVENT
DTSTART;TZID=America/Chicago:20251029T110000
DTEND;TZID=America/Chicago:20251029T123000
DTSTAMP:20260419T174052
CREATED:20241202T030654Z
LAST-MODIFIED:20251028T191528Z
UID:10006265-1761735600-1761741000@hvilleblast.com
SUMMARY:Wednesday Open Art Journaling
DESCRIPTION:This is your mid-week creative pick-me-up! Bring your art journal and use the studio supplies!
URL:https://hvilleblast.com/event/wednesday-open-art-journaling-46/
LOCATION:7500 Memorial Pkwy SW ste 110\, 7500 Memorial Parkway Southwest\, #ste 110\, Huntsville\, AL\, 35802\, United States
ATTACH;FMTTYPE=image/jpeg:https://hvilleblast.com/wp-content/uploads/2024/12/2909b345394fd6c0798c00261f0446db.jpg
END:VEVENT
BEGIN:VEVENT
DTSTART;TZID=America/Chicago:20251022T110000
DTEND;TZID=America/Chicago:20251022T123000
DTSTAMP:20260419T174052
CREATED:20241202T030653Z
LAST-MODIFIED:20251020T004209Z
UID:10006264-1761130800-1761136200@hvilleblast.com
SUMMARY:Wednesday Open Art Journaling
DESCRIPTION:This is your mid-week creative pick-me-up! Bring your art journal and use the studio supplies!
URL:https://hvilleblast.com/event/wednesday-open-art-journaling-45/
LOCATION:7500 Memorial Pkwy SW ste 110\, 7500 Memorial Parkway Southwest\, #ste 110\, Huntsville\, AL\, 35802\, United States
ATTACH;FMTTYPE=image/jpeg:https://hvilleblast.com/wp-content/uploads/2024/12/2909b345394fd6c0798c00261f0446db.jpg
END:VEVENT
BEGIN:VEVENT
DTSTART;TZID=America/Chicago:20251015T110000
DTEND;TZID=America/Chicago:20251015T123000
DTSTAMP:20260419T174052
CREATED:20241202T030652Z
LAST-MODIFIED:20251013T004213Z
UID:10006263-1760526000-1760531400@hvilleblast.com
SUMMARY:Wednesday Open Art Journaling
DESCRIPTION:This is your mid-week creative pick-me-up! Bring your art journal and use the studio supplies!
URL:https://hvilleblast.com/event/wednesday-open-art-journaling-44/
LOCATION:7500 Memorial Pkwy SW ste 110\, 7500 Memorial Parkway Southwest\, #ste 110\, Huntsville\, AL\, 35802\, United States
ATTACH;FMTTYPE=image/jpeg:https://hvilleblast.com/wp-content/uploads/2024/12/2909b345394fd6c0798c00261f0446db.jpg
END:VEVENT
BEGIN:VEVENT
DTSTART;TZID=America/Chicago:20251008T110000
DTEND;TZID=America/Chicago:20251008T123000
DTSTAMP:20260419T174052
CREATED:20241202T030650Z
LAST-MODIFIED:20251006T002729Z
UID:10006262-1759921200-1759926600@hvilleblast.com
SUMMARY:Wednesday Open Art Journaling
DESCRIPTION:This is your mid-week creative pick-me-up! Bring your art journal and use the studio supplies!
URL:https://hvilleblast.com/event/wednesday-open-art-journaling-43/
LOCATION:7500 Memorial Pkwy SW ste 110\, 7500 Memorial Parkway Southwest\, #ste 110\, Huntsville\, AL\, 35802\, United States
ATTACH;FMTTYPE=image/jpeg:https://hvilleblast.com/wp-content/uploads/2024/12/2909b345394fd6c0798c00261f0446db.jpg
END:VEVENT
BEGIN:VEVENT
DTSTART;TZID=America/Chicago:20251001T110000
DTEND;TZID=America/Chicago:20251001T123000
DTSTAMP:20260419T174052
CREATED:20241202T030649Z
LAST-MODIFIED:20250929T001228Z
UID:10006261-1759316400-1759321800@hvilleblast.com
SUMMARY:Wednesday Open Art Journaling
DESCRIPTION:This is your mid-week creative pick-me-up! Bring your art journal and use the studio supplies!
URL:https://hvilleblast.com/event/wednesday-open-art-journaling-42/
LOCATION:7500 Memorial Pkwy SW ste 110\, 7500 Memorial Parkway Southwest\, #ste 110\, Huntsville\, AL\, 35802\, United States
ATTACH;FMTTYPE=image/jpeg:https://hvilleblast.com/wp-content/uploads/2024/12/2909b345394fd6c0798c00261f0446db.jpg
END:VEVENT
BEGIN:VEVENT
DTSTART;TZID=America/Chicago:20250924T110000
DTEND;TZID=America/Chicago:20250924T123000
DTSTAMP:20260419T174052
CREATED:20241202T030648Z
LAST-MODIFIED:20250921T235727Z
UID:10006260-1758711600-1758717000@hvilleblast.com
SUMMARY:Wednesday Open Art Journaling
DESCRIPTION:This is your mid-week creative pick-me-up! Bring your art journal and use the studio supplies!
URL:https://hvilleblast.com/event/wednesday-open-art-journaling-41/
LOCATION:7500 Memorial Pkwy SW ste 110\, 7500 Memorial Parkway Southwest\, #ste 110\, Huntsville\, AL\, 35802\, United States
ATTACH;FMTTYPE=image/jpeg:https://hvilleblast.com/wp-content/uploads/2024/12/2909b345394fd6c0798c00261f0446db.jpg
END:VEVENT
END:VCALENDAR