BEGIN:VCALENDAR
VERSION:2.0
PRODID:-//Hville Blast - ECPv6.15.20//NONSGML v1.0//EN
CALSCALE:GREGORIAN
METHOD:PUBLISH
X-ORIGINAL-URL:https://hvilleblast.com
X-WR-CALDESC:Events for Hville Blast
REFRESH-INTERVAL;VALUE=DURATION:PT1H
X-Robots-Tag:noindex
X-PUBLISHED-TTL:PT1H
BEGIN:VTIMEZONE
TZID:America/Chicago
BEGIN:DAYLIGHT
TZOFFSETFROM:-0600
TZOFFSETTO:-0500
TZNAME:CDT
DTSTART:20240310T080000
END:DAYLIGHT
BEGIN:STANDARD
TZOFFSETFROM:-0500
TZOFFSETTO:-0600
TZNAME:CST
DTSTART:20241103T070000
END:STANDARD
BEGIN:DAYLIGHT
TZOFFSETFROM:-0600
TZOFFSETTO:-0500
TZNAME:CDT
DTSTART:20250309T080000
END:DAYLIGHT
BEGIN:STANDARD
TZOFFSETFROM:-0500
TZOFFSETTO:-0600
TZNAME:CST
DTSTART:20251102T070000
END:STANDARD
BEGIN:DAYLIGHT
TZOFFSETFROM:-0600
TZOFFSETTO:-0500
TZNAME:CDT
DTSTART:20260308T080000
END:DAYLIGHT
BEGIN:STANDARD
TZOFFSETFROM:-0500
TZOFFSETTO:-0600
TZNAME:CST
DTSTART:20261101T070000
END:STANDARD
END:VTIMEZONE
BEGIN:VEVENT
DTSTART;TZID=America/Chicago:20251015T110000
DTEND;TZID=America/Chicago:20251015T123000
DTSTAMP:20260419T191939
CREATED:20241202T030652Z
LAST-MODIFIED:20251013T004213Z
UID:10006263-1760526000-1760531400@hvilleblast.com
SUMMARY:Wednesday Open Art Journaling
DESCRIPTION:This is your mid-week creative pick-me-up! Bring your art journal and use the studio supplies!
URL:https://hvilleblast.com/event/wednesday-open-art-journaling-44/
LOCATION:7500 Memorial Pkwy SW ste 110\, 7500 Memorial Parkway Southwest\, #ste 110\, Huntsville\, AL\, 35802\, United States
ATTACH;FMTTYPE=image/jpeg:https://hvilleblast.com/wp-content/uploads/2024/12/2909b345394fd6c0798c00261f0446db.jpg
END:VEVENT
BEGIN:VEVENT
DTSTART;TZID=America/Chicago:20251008T110000
DTEND;TZID=America/Chicago:20251008T123000
DTSTAMP:20260419T191939
CREATED:20241202T030650Z
LAST-MODIFIED:20251006T002729Z
UID:10006262-1759921200-1759926600@hvilleblast.com
SUMMARY:Wednesday Open Art Journaling
DESCRIPTION:This is your mid-week creative pick-me-up! Bring your art journal and use the studio supplies!
URL:https://hvilleblast.com/event/wednesday-open-art-journaling-43/
LOCATION:7500 Memorial Pkwy SW ste 110\, 7500 Memorial Parkway Southwest\, #ste 110\, Huntsville\, AL\, 35802\, United States
ATTACH;FMTTYPE=image/jpeg:https://hvilleblast.com/wp-content/uploads/2024/12/2909b345394fd6c0798c00261f0446db.jpg
END:VEVENT
BEGIN:VEVENT
DTSTART;TZID=America/Chicago:20251001T110000
DTEND;TZID=America/Chicago:20251001T123000
DTSTAMP:20260419T191939
CREATED:20241202T030649Z
LAST-MODIFIED:20250929T001228Z
UID:10006261-1759316400-1759321800@hvilleblast.com
SUMMARY:Wednesday Open Art Journaling
DESCRIPTION:This is your mid-week creative pick-me-up! Bring your art journal and use the studio supplies!
URL:https://hvilleblast.com/event/wednesday-open-art-journaling-42/
LOCATION:7500 Memorial Pkwy SW ste 110\, 7500 Memorial Parkway Southwest\, #ste 110\, Huntsville\, AL\, 35802\, United States
ATTACH;FMTTYPE=image/jpeg:https://hvilleblast.com/wp-content/uploads/2024/12/2909b345394fd6c0798c00261f0446db.jpg
END:VEVENT
BEGIN:VEVENT
DTSTART;TZID=America/Chicago:20250924T110000
DTEND;TZID=America/Chicago:20250924T123000
DTSTAMP:20260419T191939
CREATED:20241202T030648Z
LAST-MODIFIED:20250921T235727Z
UID:10006260-1758711600-1758717000@hvilleblast.com
SUMMARY:Wednesday Open Art Journaling
DESCRIPTION:This is your mid-week creative pick-me-up! Bring your art journal and use the studio supplies!
URL:https://hvilleblast.com/event/wednesday-open-art-journaling-41/
LOCATION:7500 Memorial Pkwy SW ste 110\, 7500 Memorial Parkway Southwest\, #ste 110\, Huntsville\, AL\, 35802\, United States
ATTACH;FMTTYPE=image/jpeg:https://hvilleblast.com/wp-content/uploads/2024/12/2909b345394fd6c0798c00261f0446db.jpg
END:VEVENT
END:VCALENDAR