BEGIN:VCALENDAR
VERSION:2.0
PRODID:-//Hville Blast - ECPv6.15.20//NONSGML v1.0//EN
CALSCALE:GREGORIAN
METHOD:PUBLISH
X-ORIGINAL-URL:https://hvilleblast.com
X-WR-CALDESC:Events for Hville Blast
REFRESH-INTERVAL;VALUE=DURATION:PT1H
X-Robots-Tag:noindex
X-PUBLISHED-TTL:PT1H
BEGIN:VTIMEZONE
TZID:America/Chicago
BEGIN:DAYLIGHT
TZOFFSETFROM:-0600
TZOFFSETTO:-0500
TZNAME:CDT
DTSTART:20240310T080000
END:DAYLIGHT
BEGIN:STANDARD
TZOFFSETFROM:-0500
TZOFFSETTO:-0600
TZNAME:CST
DTSTART:20241103T070000
END:STANDARD
BEGIN:DAYLIGHT
TZOFFSETFROM:-0600
TZOFFSETTO:-0500
TZNAME:CDT
DTSTART:20250309T080000
END:DAYLIGHT
BEGIN:STANDARD
TZOFFSETFROM:-0500
TZOFFSETTO:-0600
TZNAME:CST
DTSTART:20251102T070000
END:STANDARD
BEGIN:DAYLIGHT
TZOFFSETFROM:-0600
TZOFFSETTO:-0500
TZNAME:CDT
DTSTART:20260308T080000
END:DAYLIGHT
BEGIN:STANDARD
TZOFFSETFROM:-0500
TZOFFSETTO:-0600
TZNAME:CST
DTSTART:20261101T070000
END:STANDARD
END:VTIMEZONE
BEGIN:VEVENT
DTSTART;TZID=America/Chicago:20251203T130000
DTEND;TZID=America/Chicago:20251203T143000
DTSTAMP:20260424T205908
CREATED:20251028T191539Z
LAST-MODIFIED:20251201T065710Z
UID:10019532-1764766800-1764772200@hvilleblast.com
SUMMARY:Colored Pencil
DESCRIPTION:Discover the creative possibilities with colored pencils in this two week class!\n\n\nNot your kids coloring pencils\nWell maybe they are. But we are going to elevate the humble colored pencil to a new level of creativity! Learn the basics about colored pencils\, the differences between the types\, best papers to use\, and some techniques for blending and shading that will surprise and delight you! You’ll get to choose your winter bird picture from several options. This is a two week class (1.5 hours each class). All supplies are provided.
URL:https://hvilleblast.com/event/colored-pencil/
LOCATION:7500 Memorial Pkwy SW\, 7500 Memorial Parkway Southwest\, Huntsville\, AL\, 35802\, United States
END:VEVENT
BEGIN:VEVENT
DTSTART;TZID=America/Chicago:20251025T133000
DTEND;TZID=America/Chicago:20251025T153000
DTSTAMP:20260424T205908
CREATED:20250921T235735Z
LAST-MODIFIED:20251020T004210Z
UID:10016471-1761399000-1761406200@hvilleblast.com
SUMMARY:Creative Affirmations Art Journaling
DESCRIPTION:A beautiful and creative way to practice mindfulness.  This class will get you started and provide all you need.\n\n\nThis is more than just a journal\nWe slow down\, pay attention to what is in front of us: beautiful paint colors\, pages out of books\, bits of ribbon and lace\, poems\, words\, and pens to write out your own affirmations. You don’t need any experience with art journaling\, or art at all. This is a lovely and personal way of making pages that you enjoy\, and that will speak to you later when you look at it. \nIn this complete introduction to Art Journaling as a tool for practicing mindfulness\, you’ll learn some great techniques and have plenty of time to work in your journal. This is a 2-hour class. \nIncludes a mixed media\, lay-flat journal\, a deck of writing prompts\, art supplies to use in the class and a “to-go” bag to take home. I’ll have coffee ready in the studio\, or you are welcome to stop and get a treat from Good Company Café just across the way from the new studio.
URL:https://hvilleblast.com/event/creative-affirmations-art-journaling/
LOCATION:7500 Memorial Pkwy SW\, 7500 Memorial Parkway Southwest\, Huntsville\, AL\, 35802\, United States
ATTACH;FMTTYPE=image/jpeg:https://hvilleblast.com/wp-content/uploads/2025/09/cb62f87019a84343250866d5ff1a4e5b.jpg
END:VEVENT
BEGIN:VEVENT
DTSTART;TZID=America/Chicago:20251022T130000
DTEND;TZID=America/Chicago:20251022T140000
DTSTAMP:20260424T205908
CREATED:20250921T235732Z
LAST-MODIFIED:20251020T004210Z
UID:10016470-1761138000-1761141600@hvilleblast.com
SUMMARY:Paint a Flower in Oils
DESCRIPTION:This is a  5 week class focused on oil painting a colorful flower of your choice\n\n\nThis 5-part class will focus on painting a flower in oils. Learn the basics of using traditional oil paints without using solvents. Bring a color AND a black and white print out of the flower you would like to paint. Be sure the flower FILLS the whole 8.5×11 page. Each week we will practice basic techniques as we work on your painting. Class includes all materials. \n\nWeek 1: Overview of the materials and tools\, base color\, image transfer\nWeek 2: Mixing colors\, and blocking in values\nWeek 3: Colors and textures\nWeek 4 Glazing\nWeek 5 Final details
URL:https://hvilleblast.com/event/paint-a-flower-in-oils/
LOCATION:7500 Memorial Pkwy SW\, 7500 Memorial Parkway Southwest\, Huntsville\, AL\, 35802\, United States
ATTACH;FMTTYPE=image/jpeg:https://hvilleblast.com/wp-content/uploads/2025/09/31159fd6db80ab8eba827e3f58b2c748.jpg
END:VEVENT
END:VCALENDAR