BEGIN:VCALENDAR
VERSION:2.0
PRODID:-//Hville Blast - ECPv6.15.20//NONSGML v1.0//EN
CALSCALE:GREGORIAN
METHOD:PUBLISH
X-WR-CALNAME:Hville Blast
X-ORIGINAL-URL:https://hvilleblast.com
X-WR-CALDESC:Events for Hville Blast
REFRESH-INTERVAL;VALUE=DURATION:PT1H
X-Robots-Tag:noindex
X-PUBLISHED-TTL:PT1H
BEGIN:VTIMEZONE
TZID:America/Chicago
BEGIN:DAYLIGHT
TZOFFSETFROM:-0600
TZOFFSETTO:-0500
TZNAME:CDT
DTSTART:20240310T080000
END:DAYLIGHT
BEGIN:STANDARD
TZOFFSETFROM:-0500
TZOFFSETTO:-0600
TZNAME:CST
DTSTART:20241103T070000
END:STANDARD
BEGIN:DAYLIGHT
TZOFFSETFROM:-0600
TZOFFSETTO:-0500
TZNAME:CDT
DTSTART:20250309T080000
END:DAYLIGHT
BEGIN:STANDARD
TZOFFSETFROM:-0500
TZOFFSETTO:-0600
TZNAME:CST
DTSTART:20251102T070000
END:STANDARD
BEGIN:DAYLIGHT
TZOFFSETFROM:-0600
TZOFFSETTO:-0500
TZNAME:CDT
DTSTART:20260308T080000
END:DAYLIGHT
BEGIN:STANDARD
TZOFFSETFROM:-0500
TZOFFSETTO:-0600
TZNAME:CST
DTSTART:20261101T070000
END:STANDARD
END:VTIMEZONE
BEGIN:VEVENT
DTSTART;TZID=America/Chicago:20251029T110000
DTEND;TZID=America/Chicago:20251029T190000
DTSTAMP:20260419T113722
CREATED:20250929T034440Z
LAST-MODIFIED:20251025T214225Z
UID:10016764-1761735600-1761764400@hvilleblast.com
SUMMARY:Extended Pottery Classes
DESCRIPTION:Calvin Hubbard Studio 1066 at inspiring Lowe Mill ARTS & Entertainment invite you to dive into the world of Extended Pottery Classes! Some glazes are included\, and participants will receive clay\, with shared access to basic tools. Prefer your own tools? You can purchase a set for just $10! Each session runs for two hours\, totaling four classes. \nWhether you’re planning a fun date\, a friends’ night out\, or a creative solo experience\, these classes are perfect for everyone. Guided by two expert ceramicists\, you’ll explore the fundamentals of clay work and craft your own unique pottery piece. Many participants leave with not just their one-of-a-kind creations but also with cherished memories of laughter and creativity in a welcoming\, relaxed setting. Roll up your sleeves\, get your hands messy\, and create something extraordinary today! \n  \nCall to reserve your time : (585) 797 – 8111 \nOr E-mail: turtleman594@yahoo.com
URL:https://hvilleblast.com/event/extended-pottery-classes-41/
LOCATION:Calvin Hubbard | Studio 1066 | Turtle Pottery
CATEGORIES:Classes & Wokshops,Featured,No button
ATTACH;FMTTYPE=image/jpeg:https://hvilleblast.com/wp-content/uploads/2025/07/calvin-P5psp6.jpg
END:VEVENT
BEGIN:VEVENT
DTSTART;TZID=America/Chicago:20251029T110000
DTEND;TZID=America/Chicago:20251029T190000
DTSTAMP:20260419T113722
CREATED:20250929T034440Z
LAST-MODIFIED:20251025T214224Z
UID:10016763-1761735600-1761764400@hvilleblast.com
SUMMARY:Walk – In Pottery Class
DESCRIPTION:Calvin Hubbard Studio 1066  in imaginative Lowe Mill ARTS & Entertainment\, invite you to experience the joy of Walk-In Pottery Classes. Perfect for a fun date\, friends’ night out\, or simply a creative solo adventure\, these classes offer something for everyone. Under the guidance of two master ceramicists\, you’ll learn the basics of working with clay and create your own unique masterpiece. Many participants leave not only with a one-of-a-kind piece of pottery but also with memories of laughter and creativity in a relaxed\, welcoming environment. Come get your hands dirty and make something beautiful today! \nFor more details\, email turtleman594@yahoo.com
URL:https://hvilleblast.com/event/walk-in-pottery-class-41/
LOCATION:Calvin Hubbard | Studio 1066 | Turtle Pottery
CATEGORIES:Classes & Wokshops,Featured,No button
ATTACH;FMTTYPE=image/jpeg:https://hvilleblast.com/wp-content/uploads/2025/07/2034_Calvin-Hubbard_1-1-e1592325214128-6XjRun.jpg
END:VEVENT
BEGIN:VEVENT
DTSTART;TZID=America/Chicago:20251022T110000
DTEND;TZID=America/Chicago:20251022T190000
DTSTAMP:20260419T113722
CREATED:20250922T021327Z
LAST-MODIFIED:20251022T202822Z
UID:10016475-1761130800-1761159600@hvilleblast.com
SUMMARY:Extended Pottery Classes
DESCRIPTION:Calvin Hubbard Studio 1066 at inspiring Lowe Mill ARTS & Entertainment invite you to dive into the world of Extended Pottery Classes! Some glazes are included\, and participants will receive clay\, with shared access to basic tools. Prefer your own tools? You can purchase a set for just $10! Each session runs for two hours\, totaling four classes. \nWhether you’re planning a fun date\, a friends’ night out\, or a creative solo experience\, these classes are perfect for everyone. Guided by two expert ceramicists\, you’ll explore the fundamentals of clay work and craft your own unique pottery piece. Many participants leave with not just their one-of-a-kind creations but also with cherished memories of laughter and creativity in a welcoming\, relaxed setting. Roll up your sleeves\, get your hands messy\, and create something extraordinary today! \n  \nCall to reserve your time : (585) 797 – 8111 \nOr E-mail: turtleman594@yahoo.com
URL:https://hvilleblast.com/event/extended-pottery-classes-40/
LOCATION:Calvin Hubbard | Studio 1066 | Turtle Pottery
CATEGORIES:Classes & Wokshops,Featured,No button
ATTACH;FMTTYPE=image/jpeg:https://hvilleblast.com/wp-content/uploads/2025/07/calvin-P5psp6.jpg
END:VEVENT
BEGIN:VEVENT
DTSTART;TZID=America/Chicago:20251022T110000
DTEND;TZID=America/Chicago:20251022T190000
DTSTAMP:20260419T113722
CREATED:20250922T021327Z
LAST-MODIFIED:20251022T202821Z
UID:10016474-1761130800-1761159600@hvilleblast.com
SUMMARY:Walk – In Pottery Class
DESCRIPTION:Calvin Hubbard Studio 1066  in imaginative Lowe Mill ARTS & Entertainment\, invite you to experience the joy of Walk-In Pottery Classes. Perfect for a fun date\, friends’ night out\, or simply a creative solo adventure\, these classes offer something for everyone. Under the guidance of two master ceramicists\, you’ll learn the basics of working with clay and create your own unique masterpiece. Many participants leave not only with a one-of-a-kind piece of pottery but also with memories of laughter and creativity in a relaxed\, welcoming environment. Come get your hands dirty and make something beautiful today! \nFor more details\, email turtleman594@yahoo.com
URL:https://hvilleblast.com/event/walk-in-pottery-class-40/
LOCATION:Calvin Hubbard | Studio 1066 | Turtle Pottery
CATEGORIES:Classes & Wokshops,Featured,No button
ATTACH;FMTTYPE=image/jpeg:https://hvilleblast.com/wp-content/uploads/2025/07/2034_Calvin-Hubbard_1-1-e1592325214128-6XjRun.jpg
END:VEVENT
BEGIN:VEVENT
DTSTART;TZID=America/Chicago:20251015T110000
DTEND;TZID=America/Chicago:20251015T190000
DTSTAMP:20260419T113722
CREATED:20250916T004420Z
LAST-MODIFIED:20251015T154220Z
UID:10015920-1760526000-1760554800@hvilleblast.com
SUMMARY:Extended Pottery Classes
DESCRIPTION:Calvin Hubbard Studio 1066 and Wallace Turman Studio 1068 at the inspiring Lowe Mill ARTS & Entertainment invite you to dive into the world of Extended Pottery Classes! Some glazes are included\, and participants will receive clay\, with shared access to basic tools. Prefer your own tools? You can purchase a set for just $10! Each session runs for two hours\, totaling four classes. \nWhether you’re planning a fun date\, a friends’ night out\, or a creative solo experience\, these classes are perfect for everyone. Guided by two expert ceramicists\, you’ll explore the fundamentals of clay work and craft your own unique pottery piece. Many participants leave with not just their one-of-a-kind creations but also with cherished memories of laughter and creativity in a welcoming\, relaxed setting. Roll up your sleeves\, get your hands messy\, and create something extraordinary today! \n  \nCall to reserve your time : (256) 652 – 9965 or (585) 797 – 8111 \nOr E-mail: turmanpots@gmail.com or turtleman594@yahoo.com
URL:https://hvilleblast.com/event/extended-pottery-classes-39/
LOCATION:Calvin Hubbard | Studio 1066 | Turtle Pottery
CATEGORIES:Classes & Wokshops,Featured,No button
ATTACH;FMTTYPE=image/png:https://hvilleblast.com/wp-content/uploads/2025/08/Turman-mothers-day-image-XQXerc.png
END:VEVENT
BEGIN:VEVENT
DTSTART;TZID=America/Chicago:20251015T110000
DTEND;TZID=America/Chicago:20251015T190000
DTSTAMP:20260419T113722
CREATED:20250916T004419Z
LAST-MODIFIED:20251015T154219Z
UID:10015918-1760526000-1760554800@hvilleblast.com
SUMMARY:Walk – In Pottery Class
DESCRIPTION:Calvin Hubbard Studio 1066  in imaginative Lowe Mill ARTS & Entertainment\, invite you to experience the joy of Walk-In Pottery Classes. Perfect for a fun date\, friends’ night out\, or simply a creative solo adventure\, these classes offer something for everyone. Under the guidance of two master ceramicists\, you’ll learn the basics of working with clay and create your own unique masterpiece. Many participants leave not only with a one-of-a-kind piece of pottery but also with memories of laughter and creativity in a relaxed\, welcoming environment. Come get your hands dirty and make something beautiful today! \nFor more details\, email turtleman594@yahoo.com
URL:https://hvilleblast.com/event/walk-in-pottery-class-39/
LOCATION:Calvin Hubbard | Studio 1066 | Turtle Pottery
CATEGORIES:Classes & Wokshops,Featured,No button
ATTACH;FMTTYPE=image/jpeg:https://hvilleblast.com/wp-content/uploads/2025/07/2034_Calvin-Hubbard_1-1-e1592325214128-6XjRun.jpg
END:VEVENT
BEGIN:VEVENT
DTSTART;TZID=America/Chicago:20251008T110000
DTEND;TZID=America/Chicago:20251008T190000
DTSTAMP:20260419T113722
CREATED:20250916T004400Z
LAST-MODIFIED:20251008T141348Z
UID:10015889-1759921200-1759950000@hvilleblast.com
SUMMARY:Extended Pottery Classes
DESCRIPTION:Calvin Hubbard Studio 1066 at inspiring Lowe Mill ARTS & Entertainment invite you to dive into the world of Extended Pottery Classes! Some glazes are included\, and participants will receive clay\, with shared access to basic tools. Prefer your own tools? You can purchase a set for just $10! Each session runs for two hours\, totaling four classes. \nWhether you’re planning a fun date\, a friends’ night out\, or a creative solo experience\, these classes are perfect for everyone. Guided by two expert ceramicists\, you’ll explore the fundamentals of clay work and craft your own unique pottery piece. Many participants leave with not just their one-of-a-kind creations but also with cherished memories of laughter and creativity in a welcoming\, relaxed setting. Roll up your sleeves\, get your hands messy\, and create something extraordinary today! \n  \nCall to reserve your time : (585) 797 – 8111 \nOr E-mail: turtleman594@yahoo.com
URL:https://hvilleblast.com/event/extended-pottery-classes-38/
LOCATION:Calvin Hubbard | Studio 1066 | Turtle Pottery
CATEGORIES:Classes & Wokshops,Featured,No button
ATTACH;FMTTYPE=image/jpeg:https://hvilleblast.com/wp-content/uploads/2025/07/calvin-P5psp6.jpg
END:VEVENT
BEGIN:VEVENT
DTSTART;TZID=America/Chicago:20251008T110000
DTEND;TZID=America/Chicago:20251008T190000
DTSTAMP:20260419T113722
CREATED:20250916T004400Z
LAST-MODIFIED:20251008T141348Z
UID:10015888-1759921200-1759950000@hvilleblast.com
SUMMARY:Walk – In Pottery Class
DESCRIPTION:Calvin Hubbard Studio 1066 in imaginative Lowe Mill ARTS & Entertainment\, invite you to experience the joy of Walk-In Pottery Classes. Perfect for a fun date\, friends’ night out\, or simply a creative solo adventure\, these classes offer something for everyone. Under the guidance of two master ceramicists\, you’ll learn the basics of working with clay and create your own unique masterpiece. Many participants leave not only with a one-of-a-kind piece of pottery but also with memories of laughter and creativity in a relaxed\, welcoming environment. Come get your hands dirty and make something beautiful today! \nFor more details\, email turtleman594@yahoo.com
URL:https://hvilleblast.com/event/walk-in-pottery-class-38/
LOCATION:Calvin Hubbard | Studio 1066 | Turtle Pottery
CATEGORIES:Classes & Wokshops,Featured,No button
ATTACH;FMTTYPE=image/jpeg:https://hvilleblast.com/wp-content/uploads/2025/07/2034_Calvin-Hubbard_1-1-e1592325214128-6XjRun.jpg
END:VEVENT
BEGIN:VEVENT
DTSTART;TZID=America/Chicago:20251001T110000
DTEND;TZID=America/Chicago:20251001T190000
DTSTAMP:20260419T113722
CREATED:20250916T004342Z
LAST-MODIFIED:20250930T034642Z
UID:10015852-1759316400-1759345200@hvilleblast.com
SUMMARY:Extended Pottery Classes
DESCRIPTION:Calvin Hubbard Studio 1066 and Wallace Turman Studio 1068 at the inspiring Lowe Mill ARTS & Entertainment invite you to dive into the world of Extended Pottery Classes! Some glazes are included\, and participants will receive clay\, with shared access to basic tools. Prefer your own tools? You can purchase a set for just $10! Each session runs for two hours\, totaling four classes. \nWhether you’re planning a fun date\, a friends’ night out\, or a creative solo experience\, these classes are perfect for everyone. Guided by two expert ceramicists\, you’ll explore the fundamentals of clay work and craft your own unique pottery piece. Many participants leave with not just their one-of-a-kind creations but also with cherished memories of laughter and creativity in a welcoming\, relaxed setting. Roll up your sleeves\, get your hands messy\, and create something extraordinary today! \n  \nCall to reserve your time : (256) 652 – 9965 or (585) 797 – 8111 \nOr E-mail: turmanpots@gmail.com or turtleman594@yahoo.com
URL:https://hvilleblast.com/event/extended-pottery-classes-37/
LOCATION:Calvin Hubbard | Studio 1066 | Turtle Pottery
CATEGORIES:Classes & Wokshops,Featured,No button
ATTACH;FMTTYPE=image/png:https://hvilleblast.com/wp-content/uploads/2025/08/Turman-mothers-day-image-XQXerc.png
END:VEVENT
BEGIN:VEVENT
DTSTART;TZID=America/Chicago:20251001T110000
DTEND;TZID=America/Chicago:20251001T190000
DTSTAMP:20260419T113722
CREATED:20250916T004341Z
LAST-MODIFIED:20250930T034641Z
UID:10015851-1759316400-1759345200@hvilleblast.com
SUMMARY:Walk – In Pottery Class
DESCRIPTION:Calvin Hubbard Studio 1066 in imaginative Lowe Mill ARTS & Entertainment\, invite you to experience the joy of Walk-In Pottery Classes. Perfect for a fun date\, friends’ night out\, or simply a creative solo adventure\, these classes offer something for everyone. Under the guidance of two master ceramicists\, you’ll learn the basics of working with clay and create your own unique masterpiece. Many participants leave not only with a one-of-a-kind piece of pottery but also with memories of laughter and creativity in a relaxed\, welcoming environment. Come get your hands dirty and make something beautiful today! \nFor more details\, email turtleman594@yahoo.com
URL:https://hvilleblast.com/event/walk-in-pottery-class-37/
LOCATION:Calvin Hubbard | Studio 1066 | Turtle Pottery
CATEGORIES:Classes & Wokshops,Featured,No button
ATTACH;FMTTYPE=image/jpeg:https://hvilleblast.com/wp-content/uploads/2025/07/2034_Calvin-Hubbard_1-1-e1592325214128-6XjRun.jpg
END:VEVENT
BEGIN:VEVENT
DTSTART;TZID=America/Chicago:20250924T110000
DTEND;TZID=America/Chicago:20250924T190000
DTSTAMP:20260419T113722
CREATED:20250830T023130Z
LAST-MODIFIED:20250924T024237Z
UID:10015214-1758711600-1758740400@hvilleblast.com
SUMMARY:Extended Pottery Classes
DESCRIPTION:Calvin Hubbard Studio 1066 and Wallace Turman Studio 1068 at the inspiring Lowe Mill ARTS & Entertainment invite you to dive into the world of Extended Pottery Classes! Some glazes are included\, and participants will receive clay\, with shared access to basic tools. Prefer your own tools? You can purchase a set for just $10! Each session runs for two hours\, totaling four classes. \nWhether you’re planning a fun date\, a friends’ night out\, or a creative solo experience\, these classes are perfect for everyone. Guided by two expert ceramicists\, you’ll explore the fundamentals of clay work and craft your own unique pottery piece. Many participants leave with not just their one-of-a-kind creations but also with cherished memories of laughter and creativity in a welcoming\, relaxed setting. Roll up your sleeves\, get your hands messy\, and create something extraordinary today! \n  \nCall to reserve your time : (256) 652 – 9965 or (585) 797 – 8111 \nOr E-mail: turmanpots@gmail.com or turtleman594@yahoo.com
URL:https://hvilleblast.com/event/extended-pottery-classes-36/
LOCATION:Calvin Hubbard | Studio 1066 | Turtle Pottery
CATEGORIES:Classes & Wokshops,Featured,No button
ATTACH;FMTTYPE=image/png:https://hvilleblast.com/wp-content/uploads/2025/08/Turman-mothers-day-image-XQXerc.png
END:VEVENT
BEGIN:VEVENT
DTSTART;TZID=America/Chicago:20250924T110000
DTEND;TZID=America/Chicago:20250924T190000
DTSTAMP:20260419T113722
CREATED:20250830T023130Z
LAST-MODIFIED:20250924T024236Z
UID:10015213-1758711600-1758740400@hvilleblast.com
SUMMARY:Walk – In Pottery Class
DESCRIPTION:Calvin Hubbard Studio 1066 in imaginative Lowe Mill ARTS & Entertainment\, invite you to experience the joy of Walk-In Pottery Classes. Perfect for a fun date\, friends’ night out\, or simply a creative solo adventure\, these classes offer something for everyone. Under the guidance of two master ceramicists\, you’ll learn the basics of working with clay and create your own unique masterpiece. Many participants leave not only with a one-of-a-kind piece of pottery but also with memories of laughter and creativity in a relaxed\, welcoming environment. Come get your hands dirty and make something beautiful today! \nFor more details\, email turtleman594@yahoo.com
URL:https://hvilleblast.com/event/walk-in-pottery-class-36/
LOCATION:Calvin Hubbard | Studio 1066 | Turtle Pottery
CATEGORIES:Classes & Wokshops,Featured,No button
ATTACH;FMTTYPE=image/jpeg:https://hvilleblast.com/wp-content/uploads/2025/07/2034_Calvin-Hubbard_1-1-e1592325214128-6XjRun.jpg
END:VEVENT
BEGIN:VEVENT
DTSTART;TZID=America/Chicago:20250917T110000
DTEND;TZID=America/Chicago:20250917T190000
DTSTAMP:20260419T113722
CREATED:20250818T024127Z
LAST-MODIFIED:20250917T005730Z
UID:10014944-1758106800-1758135600@hvilleblast.com
SUMMARY:Extended Pottery Classes
DESCRIPTION:Calvin Hubbard Studio 1066 and Wallace Turman Studio 1068 at the inspiring Lowe Mill ARTS & Entertainment invite you to dive into the world of Extended Pottery Classes! Some glazes are included\, and participants will receive clay\, with shared access to basic tools. Prefer your own tools? You can purchase a set for just $10! Each session runs for two hours\, totaling four classes. \nWhether you’re planning a fun date\, a friends’ night out\, or a creative solo experience\, these classes are perfect for everyone. Guided by two expert ceramicists\, you’ll explore the fundamentals of clay work and craft your own unique pottery piece. Many participants leave with not just their one-of-a-kind creations but also with cherished memories of laughter and creativity in a welcoming\, relaxed setting. Roll up your sleeves\, get your hands messy\, and create something extraordinary today! \n  \nCall to reserve your time : (256) 652 – 9965 or (585) 797 – 8111 \nOr E-mail: turmanpots@gmail.com or turtleman594@yahoo.com
URL:https://hvilleblast.com/event/extended-pottery-classes-35/
LOCATION:Calvin Hubbard | Studio 1066 | Turtle Pottery
CATEGORIES:Classes & Wokshops,Featured,No button
ATTACH;FMTTYPE=image/png:https://hvilleblast.com/wp-content/uploads/2025/08/Turman-mothers-day-image-XQXerc.png
END:VEVENT
BEGIN:VEVENT
DTSTART;TZID=America/Chicago:20250917T110000
DTEND;TZID=America/Chicago:20250917T190000
DTSTAMP:20260419T113722
CREATED:20250818T024126Z
LAST-MODIFIED:20250917T005730Z
UID:10014943-1758106800-1758135600@hvilleblast.com
SUMMARY:Walk – In Pottery Class
DESCRIPTION:Calvin Hubbard Studio 1066 in imaginative Lowe Mill ARTS & Entertainment\, invite you to experience the joy of Walk-In Pottery Classes. Perfect for a fun date\, friends’ night out\, or simply a creative solo adventure\, these classes offer something for everyone. Under the guidance of two master ceramicists\, you’ll learn the basics of working with clay and create your own unique masterpiece. Many participants leave not only with a one-of-a-kind piece of pottery but also with memories of laughter and creativity in a relaxed\, welcoming environment. Come get your hands dirty and make something beautiful today! \nFor more details\, email turtleman594@yahoo.com
URL:https://hvilleblast.com/event/walk-in-pottery-class-35/
LOCATION:Calvin Hubbard | Studio 1066 | Turtle Pottery
CATEGORIES:Classes & Wokshops,Featured,No button
ATTACH;FMTTYPE=image/jpeg:https://hvilleblast.com/wp-content/uploads/2025/07/2034_Calvin-Hubbard_1-1-e1592325214128-6XjRun.jpg
END:VEVENT
END:VCALENDAR