BEGIN:VCALENDAR
VERSION:2.0
PRODID:-//Hville Blast - ECPv6.15.20//NONSGML v1.0//EN
CALSCALE:GREGORIAN
METHOD:PUBLISH
X-WR-CALNAME:Hville Blast
X-ORIGINAL-URL:https://hvilleblast.com
X-WR-CALDESC:Events for Hville Blast
REFRESH-INTERVAL;VALUE=DURATION:PT1H
X-Robots-Tag:noindex
X-PUBLISHED-TTL:PT1H
BEGIN:VTIMEZONE
TZID:America/Chicago
BEGIN:DAYLIGHT
TZOFFSETFROM:-0600
TZOFFSETTO:-0500
TZNAME:CDT
DTSTART:20250309T080000
END:DAYLIGHT
BEGIN:STANDARD
TZOFFSETFROM:-0500
TZOFFSETTO:-0600
TZNAME:CST
DTSTART:20251102T070000
END:STANDARD
BEGIN:DAYLIGHT
TZOFFSETFROM:-0600
TZOFFSETTO:-0500
TZNAME:CDT
DTSTART:20260308T080000
END:DAYLIGHT
BEGIN:STANDARD
TZOFFSETFROM:-0500
TZOFFSETTO:-0600
TZNAME:CST
DTSTART:20261101T070000
END:STANDARD
BEGIN:DAYLIGHT
TZOFFSETFROM:-0600
TZOFFSETTO:-0500
TZNAME:CDT
DTSTART:20270314T080000
END:DAYLIGHT
BEGIN:STANDARD
TZOFFSETFROM:-0500
TZOFFSETTO:-0600
TZNAME:CST
DTSTART:20271107T070000
END:STANDARD
END:VTIMEZONE
BEGIN:VEVENT
DTSTART;TZID=America/Chicago:20260328T100000
DTEND;TZID=America/Chicago:20260328T113000
DTSTAMP:20260422T192041
CREATED:20260328T062510Z
LAST-MODIFIED:20260403T235046Z
UID:10023709-1774692000-1774697400@hvilleblast.com
SUMMARY:Huntsville Women Who Made History - Walking Tour
DESCRIPTION:Discover the stories of Huntsville women who made history during HHF’s Spring Walking Tour! Participants will learn about pioneers who founded the Huntsville Infirmary (forerunner to Huntsville Hospital)\, who dedicated their lives to educating the children in Huntsville and Madison County\, and who were even elected to public office and served on city and county school boards\, all before women had voting rights! \n \nTour guides will include Donna Castellano (HHF Executive Director) and other special guests\, including Allie Craig\, the great\, great granddaughter of Alice Boarman Baldridge. \n \nThis is a FREE\, family friendly tour welcoming people of all ages. It will start outside the Central YMCA Building\, located at 203 Greene Street\, and will circle Courthouse Square\, ending at Harrison Brothers Hardware. 
URL:https://hvilleblast.com/event/huntsville-women-who-made-history-walking-tour/
LOCATION:Central YMCA Building @ 203 Greene Street\, Huntsville\, AL\, United States
CATEGORIES:Arts & Culture,Cultural,Education,Free Events,History,Kids & Family,North Alabama,Things to Do *Featured*
ATTACH;FMTTYPE=image/jpeg:https://timelyapp-prod.s3.us-west-2.amazonaws.com/images/54704218/Women%20Who%20Made%20History%20Walking%20Tour%20Graphic_QQGr.jpg
GEO:34.718428;-86.556439
END:VEVENT
END:VCALENDAR