BEGIN:VCALENDAR
VERSION:2.0
PRODID:-//Hville Blast - ECPv6.15.20//NONSGML v1.0//EN
CALSCALE:GREGORIAN
METHOD:PUBLISH
X-ORIGINAL-URL:https://hvilleblast.com
X-WR-CALDESC:Events for Hville Blast
REFRESH-INTERVAL;VALUE=DURATION:PT1H
X-Robots-Tag:noindex
X-PUBLISHED-TTL:PT1H
BEGIN:VTIMEZONE
TZID:America/Chicago
BEGIN:DAYLIGHT
TZOFFSETFROM:-0600
TZOFFSETTO:-0500
TZNAME:CDT
DTSTART:20250309T080000
END:DAYLIGHT
BEGIN:STANDARD
TZOFFSETFROM:-0500
TZOFFSETTO:-0600
TZNAME:CST
DTSTART:20251102T070000
END:STANDARD
BEGIN:DAYLIGHT
TZOFFSETFROM:-0600
TZOFFSETTO:-0500
TZNAME:CDT
DTSTART:20260308T080000
END:DAYLIGHT
BEGIN:STANDARD
TZOFFSETFROM:-0500
TZOFFSETTO:-0600
TZNAME:CST
DTSTART:20261101T070000
END:STANDARD
BEGIN:DAYLIGHT
TZOFFSETFROM:-0600
TZOFFSETTO:-0500
TZNAME:CDT
DTSTART:20270314T080000
END:DAYLIGHT
BEGIN:STANDARD
TZOFFSETFROM:-0500
TZOFFSETTO:-0600
TZNAME:CST
DTSTART:20271107T070000
END:STANDARD
END:VTIMEZONE
BEGIN:VEVENT
DTSTART;TZID=America/Chicago:20260418T120000
DTEND;TZID=America/Chicago:20260418T150000
DTSTAMP:20260422T192616
CREATED:20260215T152843Z
LAST-MODIFIED:20260215T152843Z
UID:10022989-1776513600-1776524400@hvilleblast.com
SUMMARY:University of Alabama in Huntsville Baseball vs Trevecca Nazarene
DESCRIPTION:University of Alabama in Huntsville Baseball vs Trevecca Nazarene\nStreaming Video: https://flosports.link/3NQenZa
URL:https://hvilleblast.com/event/university-of-alabama-in-huntsville-baseball-vs-trevecca-nazarene-4/
LOCATION:Charger Park
END:VEVENT
BEGIN:VEVENT
DTSTART;TZID=America/Chicago:20260417T150000
DTEND;TZID=America/Chicago:20260417T180000
DTSTAMP:20260422T192616
CREATED:20260215T152842Z
LAST-MODIFIED:20260215T152842Z
UID:10022988-1776438000-1776448800@hvilleblast.com
SUMMARY:University of Alabama in Huntsville Baseball vs Trevecca Nazarene
DESCRIPTION:University of Alabama in Huntsville Baseball vs Trevecca Nazarene\nStreaming Video: https://flosports.link/49HTdUz
URL:https://hvilleblast.com/event/university-of-alabama-in-huntsville-baseball-vs-trevecca-nazarene-3/
LOCATION:Charger Park
END:VEVENT
BEGIN:VEVENT
DTSTART;TZID=America/Chicago:20260417T130000
DTEND;TZID=America/Chicago:20260417T160000
DTSTAMP:20260422T192616
CREATED:20260215T152842Z
LAST-MODIFIED:20260215T152842Z
UID:10022987-1776430800-1776441600@hvilleblast.com
SUMMARY:University of Alabama in Huntsville Baseball vs Trevecca Nazarene
DESCRIPTION:University of Alabama in Huntsville Baseball vs Trevecca Nazarene\nStreaming Video: https://flosports.link/49HTdUz
URL:https://hvilleblast.com/event/university-of-alabama-in-huntsville-baseball-vs-trevecca-nazarene-2/
LOCATION:Charger Park
END:VEVENT
BEGIN:VEVENT
DTSTART;VALUE=DATE:20260406
DTEND;VALUE=DATE:20260408
DTSTAMP:20260422T192616
CREATED:20260215T152840Z
LAST-MODIFIED:20260215T152840Z
UID:10022983-1775502000-1775588399@hvilleblast.com
SUMMARY:University of Alabama in Huntsville Baseball vs UT Southern
DESCRIPTION:University of Alabama in Huntsville Baseball vs UT Southern\nStreaming Video: https://flosports.link/3ZfMmwC
URL:https://hvilleblast.com/event/university-of-alabama-in-huntsville-baseball-vs-ut-southern-2/
LOCATION:Charger Park
END:VEVENT
BEGIN:VEVENT
DTSTART;TZID=America/Chicago:20260404T133000
DTEND;TZID=America/Chicago:20260404T163000
DTSTAMP:20260422T192616
CREATED:20260215T152839Z
LAST-MODIFIED:20260215T152839Z
UID:10022982-1775309400-1775320200@hvilleblast.com
SUMMARY:University of Alabama in Huntsville Baseball vs Union
DESCRIPTION:University of Alabama in Huntsville Baseball vs Union\nStreaming Video: https://flosports.link/3YMtxRF
URL:https://hvilleblast.com/event/university-of-alabama-in-huntsville-baseball-vs-union-6/
LOCATION:Charger Park
END:VEVENT
BEGIN:VEVENT
DTSTART;TZID=America/Chicago:20260404T113000
DTEND;TZID=America/Chicago:20260404T143000
DTSTAMP:20260422T192616
CREATED:20260215T152839Z
LAST-MODIFIED:20260215T152839Z
UID:10022981-1775302200-1775313000@hvilleblast.com
SUMMARY:University of Alabama in Huntsville Baseball vs Union
DESCRIPTION:University of Alabama in Huntsville Baseball vs Union\nStreaming Video: https://flosports.link/3YMtxRF
URL:https://hvilleblast.com/event/university-of-alabama-in-huntsville-baseball-vs-union-5/
LOCATION:Charger Park
END:VEVENT
BEGIN:VEVENT
DTSTART;TZID=America/Chicago:20260403T160000
DTEND;TZID=America/Chicago:20260403T190000
DTSTAMP:20260422T192616
CREATED:20260215T152839Z
LAST-MODIFIED:20260215T152839Z
UID:10022980-1775232000-1775242800@hvilleblast.com
SUMMARY:University of Alabama in Huntsville Baseball vs Union
DESCRIPTION:University of Alabama in Huntsville Baseball vs Union\nStreaming Video: https://flosports.link/49FBDR7
URL:https://hvilleblast.com/event/university-of-alabama-in-huntsville-baseball-vs-union-4/
LOCATION:Charger Park
END:VEVENT
BEGIN:VEVENT
DTSTART;TZID=America/Chicago:20260401T130000
DTEND;TZID=America/Chicago:20260401T160000
DTSTAMP:20260422T192616
CREATED:20260215T152838Z
LAST-MODIFIED:20260215T152838Z
UID:10022979-1775048400-1775059200@hvilleblast.com
SUMMARY:University of Alabama in Huntsville Baseball vs Miles
DESCRIPTION:University of Alabama in Huntsville Baseball vs Miles\nStreaming Video: https://flosports.link/3NAUKEt
URL:https://hvilleblast.com/event/university-of-alabama-in-huntsville-baseball-vs-miles-5/
LOCATION:Charger Park
END:VEVENT
BEGIN:VEVENT
DTSTART;TZID=America/Chicago:20260328T150000
DTEND;TZID=America/Chicago:20260328T180000
DTSTAMP:20260422T192616
CREATED:20260215T152838Z
LAST-MODIFIED:20260215T152838Z
UID:10022978-1774710000-1774720800@hvilleblast.com
SUMMARY:University of Alabama in Huntsville Baseball vs Delta State
DESCRIPTION:University of Alabama in Huntsville Baseball vs Delta State\nStreaming Video: https://flosports.link/3ZnhoCN
URL:https://hvilleblast.com/event/university-of-alabama-in-huntsville-baseball-vs-delta-state-6/
LOCATION:Charger Park
END:VEVENT
BEGIN:VEVENT
DTSTART;TZID=America/Chicago:20260328T120000
DTEND;TZID=America/Chicago:20260328T150000
DTSTAMP:20260422T192616
CREATED:20260215T152837Z
LAST-MODIFIED:20260215T152837Z
UID:10022977-1774699200-1774710000@hvilleblast.com
SUMMARY:University of Alabama in Huntsville Baseball vs Delta State
DESCRIPTION:University of Alabama in Huntsville Baseball vs Delta State\nStreaming Video: https://flosports.link/3ZnhoCN
URL:https://hvilleblast.com/event/university-of-alabama-in-huntsville-baseball-vs-delta-state-5/
LOCATION:Charger Park
END:VEVENT
BEGIN:VEVENT
DTSTART;TZID=America/Chicago:20260327T150000
DTEND;TZID=America/Chicago:20260327T180000
DTSTAMP:20260422T192616
CREATED:20260215T152837Z
LAST-MODIFIED:20260215T152837Z
UID:10022976-1774623600-1774634400@hvilleblast.com
SUMMARY:University of Alabama in Huntsville Baseball vs Delta State
DESCRIPTION:University of Alabama in Huntsville Baseball vs Delta State\nStreaming Video: https://flosports.link/4jHZWSV
URL:https://hvilleblast.com/event/university-of-alabama-in-huntsville-baseball-vs-delta-state-4/
LOCATION:Charger Park
END:VEVENT
BEGIN:VEVENT
DTSTART;TZID=America/Chicago:20260324T160000
DTEND;TZID=America/Chicago:20260324T190000
DTSTAMP:20260422T192616
CREATED:20260215T152836Z
LAST-MODIFIED:20260215T152836Z
UID:10022975-1774368000-1774378800@hvilleblast.com
SUMMARY:University of Alabama in Huntsville Baseball vs Tuskegee
DESCRIPTION:University of Alabama in Huntsville Baseball vs Tuskegee\nStreaming Video: https://flosports.link/3LjOArN
URL:https://hvilleblast.com/event/university-of-alabama-in-huntsville-baseball-vs-tuskegee-2/
LOCATION:Charger Park
END:VEVENT
BEGIN:VEVENT
DTSTART;TZID=America/Chicago:20260307T140000
DTEND;TZID=America/Chicago:20260307T170000
DTSTAMP:20260422T192616
CREATED:20260215T152832Z
LAST-MODIFIED:20260215T152832Z
UID:10022966-1772892000-1772902800@hvilleblast.com
SUMMARY:University of Alabama in Huntsville Baseball vs Montevallo
DESCRIPTION:University of Alabama in Huntsville Baseball vs Montevallo\nStreaming Video: https://flosports.link/49CwOYD
URL:https://hvilleblast.com/event/university-of-alabama-in-huntsville-baseball-vs-montevallo-6/
LOCATION:Charger Park
END:VEVENT
BEGIN:VEVENT
DTSTART;TZID=America/Chicago:20260307T120000
DTEND;TZID=America/Chicago:20260307T150000
DTSTAMP:20260422T192616
CREATED:20260215T152831Z
LAST-MODIFIED:20260215T152831Z
UID:10022965-1772884800-1772895600@hvilleblast.com
SUMMARY:University of Alabama in Huntsville Baseball vs Montevallo
DESCRIPTION:University of Alabama in Huntsville Baseball vs Montevallo\nStreaming Video: https://flosports.link/49CwOYD
URL:https://hvilleblast.com/event/university-of-alabama-in-huntsville-baseball-vs-montevallo-5/
LOCATION:Charger Park
END:VEVENT
BEGIN:VEVENT
DTSTART;TZID=America/Chicago:20260306T150000
DTEND;TZID=America/Chicago:20260306T180000
DTSTAMP:20260422T192616
CREATED:20260215T152831Z
LAST-MODIFIED:20260215T152831Z
UID:10022964-1772809200-1772820000@hvilleblast.com
SUMMARY:University of Alabama in Huntsville Baseball vs Montevallo
DESCRIPTION:University of Alabama in Huntsville Baseball vs Montevallo\nStreaming Video: https://flosports.link/3YJGgo9
URL:https://hvilleblast.com/event/university-of-alabama-in-huntsville-baseball-vs-montevallo-4/
LOCATION:Charger Park
END:VEVENT
BEGIN:VEVENT
DTSTART;TZID=America/Chicago:20260221T140000
DTEND;TZID=America/Chicago:20260221T170000
DTSTAMP:20260422T192616
CREATED:20260215T152828Z
LAST-MODIFIED:20260215T152828Z
UID:10022958-1771682400-1771693200@hvilleblast.com
SUMMARY:University of Alabama in Huntsville Baseball vs Lee
DESCRIPTION:University of Alabama in Huntsville Baseball vs Lee\nStreaming Video: https://flosports.link/4jHcav8
URL:https://hvilleblast.com/event/university-of-alabama-in-huntsville-baseball-vs-lee-6/
LOCATION:Charger Park
END:VEVENT
BEGIN:VEVENT
DTSTART;TZID=America/Chicago:20260221T120000
DTEND;TZID=America/Chicago:20260221T150000
DTSTAMP:20260422T192616
CREATED:20260215T152827Z
LAST-MODIFIED:20260215T152827Z
UID:10022957-1771675200-1771686000@hvilleblast.com
SUMMARY:University of Alabama in Huntsville Baseball vs Lee
DESCRIPTION:University of Alabama in Huntsville Baseball vs Lee\nStreaming Video: https://flosports.link/4jHcav8
URL:https://hvilleblast.com/event/university-of-alabama-in-huntsville-baseball-vs-lee-5/
LOCATION:Charger Park
END:VEVENT
BEGIN:VEVENT
DTSTART;TZID=America/Chicago:20260220T150000
DTEND;TZID=America/Chicago:20260220T180000
DTSTAMP:20260422T192616
CREATED:20260215T152827Z
LAST-MODIFIED:20260215T152827Z
UID:10022956-1771599600-1771610400@hvilleblast.com
SUMMARY:University of Alabama in Huntsville Baseball vs Lee
DESCRIPTION:University of Alabama in Huntsville Baseball vs Lee\nStreaming Video: https://flosports.link/3Nvmg6f
URL:https://hvilleblast.com/event/university-of-alabama-in-huntsville-baseball-vs-lee-4/
LOCATION:Charger Park
END:VEVENT
BEGIN:VEVENT
DTSTART;TZID=America/Chicago:20260217T140000
DTEND;TZID=America/Chicago:20260217T170000
DTSTAMP:20260422T192616
CREATED:20260215T152826Z
LAST-MODIFIED:20260215T152826Z
UID:10022955-1771336800-1771347600@hvilleblast.com
SUMMARY:University of Alabama in Huntsville Baseball vs Carson-Newman
DESCRIPTION:University of Alabama in Huntsville Baseball vs Carson-Newman\nStreaming Video: https://flosports.link/49EEA4j
URL:https://hvilleblast.com/event/university-of-alabama-in-huntsville-baseball-vs-carson-newman-2/
LOCATION:Charger Park
END:VEVENT
BEGIN:VEVENT
DTSTART;TZID=America/Chicago:20260214T130000
DTEND;TZID=America/Chicago:20260214T160000
DTSTAMP:20260422T192616
CREATED:20260215T152826Z
LAST-MODIFIED:20260215T152826Z
UID:10022954-1771074000-1771084800@hvilleblast.com
SUMMARY:University of Alabama in Huntsville Baseball vs Christian Brothers
DESCRIPTION:University of Alabama in Huntsville Baseball vs Christian Brothers\nStreaming Video: https://flosports.link/3NoJwTw
URL:https://hvilleblast.com/event/university-of-alabama-in-huntsville-baseball-vs-christian-brothers-6/
LOCATION:Charger Park
END:VEVENT
BEGIN:VEVENT
DTSTART;TZID=America/Chicago:20260214T110000
DTEND;TZID=America/Chicago:20260214T140000
DTSTAMP:20260422T192616
CREATED:20260215T152825Z
LAST-MODIFIED:20260215T152825Z
UID:10022953-1771066800-1771077600@hvilleblast.com
SUMMARY:University of Alabama in Huntsville Baseball vs Christian Brothers
DESCRIPTION:University of Alabama in Huntsville Baseball vs Christian Brothers\nStreaming Video: https://flosports.link/3NoJwTw
URL:https://hvilleblast.com/event/university-of-alabama-in-huntsville-baseball-vs-christian-brothers-5/
LOCATION:Charger Park
END:VEVENT
BEGIN:VEVENT
DTSTART;TZID=America/Chicago:20260213T120000
DTEND;TZID=America/Chicago:20260213T150000
DTSTAMP:20260422T192616
CREATED:20260215T152825Z
LAST-MODIFIED:20260215T152825Z
UID:10022952-1770984000-1770994800@hvilleblast.com
SUMMARY:University of Alabama in Huntsville Baseball vs Christian Brothers
DESCRIPTION:University of Alabama in Huntsville Baseball vs Christian Brothers\nStreaming Video: https://flosports.link/3LjOqRd
URL:https://hvilleblast.com/event/university-of-alabama-in-huntsville-baseball-vs-christian-brothers-4/
LOCATION:Charger Park
END:VEVENT
END:VCALENDAR