BEGIN:VCALENDAR
VERSION:2.0
PRODID:-//Hville Blast - ECPv6.15.20//NONSGML v1.0//EN
CALSCALE:GREGORIAN
METHOD:PUBLISH
X-ORIGINAL-URL:https://hvilleblast.com
X-WR-CALDESC:Events for Hville Blast
REFRESH-INTERVAL;VALUE=DURATION:PT1H
X-Robots-Tag:noindex
X-PUBLISHED-TTL:PT1H
BEGIN:VTIMEZONE
TZID:America/Chicago
BEGIN:DAYLIGHT
TZOFFSETFROM:-0600
TZOFFSETTO:-0500
TZNAME:CDT
DTSTART:20240310T080000
END:DAYLIGHT
BEGIN:STANDARD
TZOFFSETFROM:-0500
TZOFFSETTO:-0600
TZNAME:CST
DTSTART:20241103T070000
END:STANDARD
BEGIN:DAYLIGHT
TZOFFSETFROM:-0600
TZOFFSETTO:-0500
TZNAME:CDT
DTSTART:20250309T080000
END:DAYLIGHT
BEGIN:STANDARD
TZOFFSETFROM:-0500
TZOFFSETTO:-0600
TZNAME:CST
DTSTART:20251102T070000
END:STANDARD
BEGIN:DAYLIGHT
TZOFFSETFROM:-0600
TZOFFSETTO:-0500
TZNAME:CDT
DTSTART:20260308T080000
END:DAYLIGHT
BEGIN:STANDARD
TZOFFSETFROM:-0500
TZOFFSETTO:-0600
TZNAME:CST
DTSTART:20261101T070000
END:STANDARD
BEGIN:DAYLIGHT
TZOFFSETFROM:-0600
TZOFFSETTO:-0500
TZNAME:CDT
DTSTART:20270314T080000
END:DAYLIGHT
BEGIN:STANDARD
TZOFFSETFROM:-0500
TZOFFSETTO:-0600
TZNAME:CST
DTSTART:20271107T070000
END:STANDARD
END:VTIMEZONE
BEGIN:VEVENT
DTSTART;TZID=America/Chicago:20260322T140000
DTEND;TZID=America/Chicago:20260322T160000
DTSTAMP:20260423T000217
CREATED:20260301T062505Z
LAST-MODIFIED:20260301T062505Z
UID:10023222-1774188000-1774195200@hvilleblast.com
SUMMARY:Accordion Book of Inspiration
DESCRIPTION:In this 2 hour workshop\, we’ll make little folding booklets that we can fill with what inspires us.\n\n\nWe’ll make accordion folded books out of reclaimed materials so that each panel/page becomes a little meditation\, a space to slow down and savor the rhythm of making\, color\, and texture. You can add inspirational words\, poems\, hymns\, or whatever you like – feel free to bring favorites with you. The panels will be about 2”x4” so if you want to use something you have printed out make it that size or smaller.
URL:https://hvilleblast.com/event/accordion-book-of-inspiration/
LOCATION:C² Counseling LLC\, 701 Ward Avenue Northeast\, Huntsville\, AL\, 35801\, United States
END:VEVENT
BEGIN:VEVENT
DTSTART;TZID=America/Chicago:20251130T140000
DTEND;TZID=America/Chicago:20251130T160000
DTSTAMP:20260423T000217
CREATED:20251201T065709Z
LAST-MODIFIED:20251201T065709Z
UID:10020481-1764511200-1764518400@hvilleblast.com
SUMMARY:Holding Memories: A Heart Journaling Workshop for the Holiday Season
DESCRIPTION:In this 2 hour workshop\, we’ll create a handmade journal using a mix of beautiful papers\, envelopes\, and pockets\n\n\nThe holidays can stir both joy and sorrow\, especially when someone dear is missing. In this gentle workshop\, we’ll create a handmade journal using a mix of beautiful papers\, envelopes\, and pockets—each one a space to hold memories\, letters\, or small keepsakes. \n \nAs we work\, you’ll be guided through quiet reflections and creative techniques that invite both remembrance and renewal. The process offers a calming way to honor your loved one while also giving yourself permission to move through the holidays. \n \nNo art experience is needed—just a willingness to explore\, remember\, and create something personal and meaningful.
URL:https://hvilleblast.com/event/holding-memories-a-heart-journaling-workshop-for-the-holiday-season/
LOCATION:C² Counseling LLC\, 701 Ward Avenue Northeast\, Huntsville\, AL\, 35801\, United States
END:VEVENT
END:VCALENDAR