BEGIN:VCALENDAR
VERSION:2.0
PRODID:-//Hville Blast - ECPv6.15.20//NONSGML v1.0//EN
CALSCALE:GREGORIAN
METHOD:PUBLISH
X-WR-CALNAME:Hville Blast
X-ORIGINAL-URL:https://hvilleblast.com
X-WR-CALDESC:Events for Hville Blast
REFRESH-INTERVAL;VALUE=DURATION:PT1H
X-Robots-Tag:noindex
X-PUBLISHED-TTL:PT1H
BEGIN:VTIMEZONE
TZID:America/Chicago
BEGIN:DAYLIGHT
TZOFFSETFROM:-0600
TZOFFSETTO:-0500
TZNAME:CDT
DTSTART:20240310T080000
END:DAYLIGHT
BEGIN:STANDARD
TZOFFSETFROM:-0500
TZOFFSETTO:-0600
TZNAME:CST
DTSTART:20241103T070000
END:STANDARD
BEGIN:DAYLIGHT
TZOFFSETFROM:-0600
TZOFFSETTO:-0500
TZNAME:CDT
DTSTART:20250309T080000
END:DAYLIGHT
BEGIN:STANDARD
TZOFFSETFROM:-0500
TZOFFSETTO:-0600
TZNAME:CST
DTSTART:20251102T070000
END:STANDARD
BEGIN:DAYLIGHT
TZOFFSETFROM:-0600
TZOFFSETTO:-0500
TZNAME:CDT
DTSTART:20260308T080000
END:DAYLIGHT
BEGIN:STANDARD
TZOFFSETFROM:-0500
TZOFFSETTO:-0600
TZNAME:CST
DTSTART:20261101T070000
END:STANDARD
END:VTIMEZONE
BEGIN:VEVENT
DTSTART;TZID=America/Chicago:20251031T190000
DTEND;TZID=America/Chicago:20251031T210000
DTSTAMP:20260425T072831
CREATED:20251026T212812Z
LAST-MODIFIED:20251106T142748Z
UID:10019489-1761937200-1761944400@hvilleblast.com
SUMMARY:Open To Suggestions: Halloween Special!
DESCRIPTION:THIS HALLOWEEN! We celebrate not only the scariest night of all by also the 2 YEAR ANNIVERSAY of our troupe! We’ll have Costumes\, Candy\, and CHAOS! So come give us your Suggestions for this interactive\, family friendly\, improv comedy show at Fantasy Playhouse Children’s Theater & Academy’s new theater on Triana Blvd! The show uses audience suggestions to inspire hilarious scenes that the actors come up with on the spot. No two shows are alike\, everything is made up\, and it is always a good time!Fans of TV shows like ‘Whose Line Is It Anyway’ will fall in-love with this fast-paced\, interactive\, family friendly improv show!
URL:https://hvilleblast.com/event/open-to-suggestions-halloween-special-2/
LOCATION:Fantasy Playhouse Children’s Theater & Academy @ 3312 Long Ave SW\, Huntsville\, AL\, United States
CATEGORIES:Comedy,Things to Do *Featured*
ATTACH;FMTTYPE=image/jpeg:https://timelyapp-prod.s3.us-west-2.amazonaws.com/images/54704218/PLE%2045%20Posters%203_0odZ.jpg
GEO:34.702327;-86.628864
END:VEVENT
BEGIN:VEVENT
DTSTART;TZID=America/Chicago:20251018T130000
DTEND;TZID=America/Chicago:20251018T143000
DTSTAMP:20260425T072831
CREATED:20251015T164225Z
LAST-MODIFIED:20251015T164225Z
UID:10019128-1760792400-1760797800@hvilleblast.com
SUMMARY:Cinderella
DESCRIPTION:The original fairytale first lady is back with a fresh world premiere retelling! Guided by a firefly-whispering Fairy Godmother\, Cinderella isn’t searching for a prince—she’s honoring a promise\, discovering her voice\, and daring to believe in something greater than herself. Not just gowns\, slippers\, and pumpkins\, Cinderella is the story of courage\, loyalty\, and true beauty! A joyful kickoff to Fantasy Playhouse’s 65th Season On the Boulevard\, this new work blends heart\, humor\, and original songs that shine—inviting audiences of all ages to dream big\, believe boldly\, and step fully into who they are meant to be.
URL:https://hvilleblast.com/event/cinderella-9/
LOCATION:Fantasy Playhouse Children’s Theater & Academy @ 3312 Long Ave SW\, Huntsville\, AL\, United States
ATTACH;FMTTYPE=image/jpeg:https://timelyapp-prod.s3.us-west-2.amazonaws.com/images/54704218/Cinderella2025Square_kfxa.png
GEO:34.702327;-86.628864
END:VEVENT
BEGIN:VEVENT
DTSTART;TZID=America/Chicago:20251018T130000
DTEND;TZID=America/Chicago:20251018T143000
DTSTAMP:20260425T072831
CREATED:20251014T161223Z
LAST-MODIFIED:20251014T161223Z
UID:10019102-1760792400-1760797800@hvilleblast.com
SUMMARY:Cinderella
DESCRIPTION:The original fairytale first lady is back with a fresh world premiere retelling! Guided by a firefly-whispering Fairy Godmother\, Cinderella isn’t searching for a prince—she’s honoring a promise\, discovering her voice\, and daring to believe in something greater than herself. Not just gowns\, slippers\, and pumpkins\, Cinderella is the story of courage\, loyalty\, and true beauty! A joyful kickoff to Fantasy Playhouse’s 65th Season On the Boulevard\, this new work blends heart\, humor\, and original songs that shine—inviting audiences of all ages to dream big\, believe boldly\, and step fully into who they are meant to be.
URL:https://hvilleblast.com/event/cinderella-8/
LOCATION:Fantasy Playhouse Children’s Theater & Academy @ 3312 Long Ave SW\, Huntsville\, AL\, United States
ATTACH;FMTTYPE=image/jpeg:https://timelyapp-prod.s3.us-west-2.amazonaws.com/images/54704218/Cinderella2025Square_kfxa.png
GEO:34.702327;-86.628864
END:VEVENT
BEGIN:VEVENT
DTSTART;TZID=America/Chicago:20251018T130000
DTEND;TZID=America/Chicago:20251018T143000
DTSTAMP:20260425T072831
CREATED:20251014T154559Z
LAST-MODIFIED:20251014T154559Z
UID:10019101-1760792400-1760797800@hvilleblast.com
SUMMARY:Cinderella
DESCRIPTION:The original fairytale first lady is back with a fresh world premiere retelling! Guided by a firefly-whispering Fairy Godmother\, Cinderella isn’t searching for a prince—she’s honoring a promise\, discovering her voice\, and daring to believe in something greater than herself. Not just gowns\, slippers\, and pumpkins\, Cinderella is the story of courage\, loyalty\, and true beauty! A joyful kickoff to Fantasy Playhouse’s 65th Season On the Boulevard\, this new work blends heart\, humor\, and original songs that shine—inviting audiences of all ages to dream big\, believe boldly\, and step fully into who they are meant to be.
URL:https://hvilleblast.com/event/cinderella-7/
LOCATION:Fantasy Playhouse Children’s Theater & Academy @ 3312 Long Ave SW\, Huntsville\, AL\, United States
ATTACH;FMTTYPE=image/jpeg:https://timelyapp-prod.s3.us-west-2.amazonaws.com/images/54704218/Cinderella2025Square_kfxa.png
GEO:34.702327;-86.628864
END:VEVENT
BEGIN:VEVENT
DTSTART;TZID=America/Chicago:20251018T130000
DTEND;TZID=America/Chicago:20251018T143000
DTSTAMP:20260425T072831
CREATED:20251014T152759Z
LAST-MODIFIED:20251014T152759Z
UID:10019100-1760792400-1760797800@hvilleblast.com
SUMMARY:Cinderella
DESCRIPTION:The original fairytale first lady is back with a fresh world premiere retelling! Guided by a firefly-whispering Fairy Godmother\, Cinderella isn’t searching for a prince—she’s honoring a promise\, discovering her voice\, and daring to believe in something greater than herself. Not just gowns\, slippers\, and pumpkins\, Cinderella is the story of courage\, loyalty\, and true beauty! A joyful kickoff to Fantasy Playhouse’s 65th Season On the Boulevard\, this new work blends heart\, humor\, and original songs that shine—inviting audiences of all ages to dream big\, believe boldly\, and step fully into who they are meant to be.
URL:https://hvilleblast.com/event/cinderella-6/
LOCATION:Fantasy Playhouse Children’s Theater & Academy @ 3312 Long Ave SW\, Huntsville\, AL\, United States
ATTACH;FMTTYPE=image/jpeg:https://timelyapp-prod.s3.us-west-2.amazonaws.com/images/54704218/Cinderella2025Square_kfxa.png
GEO:34.702327;-86.628864
END:VEVENT
BEGIN:VEVENT
DTSTART;TZID=America/Chicago:20251018T130000
DTEND;TZID=America/Chicago:20251018T143000
DTSTAMP:20260425T072831
CREATED:20251014T145725Z
LAST-MODIFIED:20251014T145725Z
UID:10019099-1760792400-1760797800@hvilleblast.com
SUMMARY:Cinderella
DESCRIPTION:The original fairytale first lady is back with a fresh world premiere retelling! Guided by a firefly-whispering Fairy Godmother\, Cinderella isn’t searching for a prince—she’s honoring a promise\, discovering her voice\, and daring to believe in something greater than herself. Not just gowns\, slippers\, and pumpkins\, Cinderella is the story of courage\, loyalty\, and true beauty! A joyful kickoff to Fantasy Playhouse’s 65th Season On the Boulevard\, this new work blends heart\, humor\, and original songs that shine—inviting audiences of all ages to dream big\, believe boldly\, and step fully into who they are meant to be.
URL:https://hvilleblast.com/event/cinderella-5/
LOCATION:Fantasy Playhouse Children’s Theater & Academy @ 3312 Long Ave SW\, Huntsville\, AL\, United States
ATTACH;FMTTYPE=image/jpeg:https://timelyapp-prod.s3.us-west-2.amazonaws.com/images/54704218/Cinderella2025Square_kfxa.png
GEO:34.702327;-86.628864
END:VEVENT
BEGIN:VEVENT
DTSTART;TZID=America/Chicago:20251018T130000
DTEND;TZID=America/Chicago:20251018T143000
DTSTAMP:20260425T072831
CREATED:20251013T144524Z
LAST-MODIFIED:20251013T144524Z
UID:10019072-1760792400-1760797800@hvilleblast.com
SUMMARY:Cinderella
DESCRIPTION:The original fairytale first lady is back with a fresh world premiere retelling! Guided by a firefly-whispering Fairy Godmother\, Cinderella isn’t searching for a prince—she’s honoring a promise\, discovering her voice\, and daring to believe in something greater than herself. Not just gowns\, slippers\, and pumpkins\, Cinderella is the story of courage\, loyalty\, and true beauty! A joyful kickoff to Fantasy Playhouse’s 65th Season On the Boulevard\, this new work blends heart\, humor\, and original songs that shine—inviting audiences of all ages to dream big\, believe boldly\, and step fully into who they are meant to be.
URL:https://hvilleblast.com/event/cinderella-4/
LOCATION:Fantasy Playhouse Children’s Theater & Academy @ 3312 Long Ave SW\, Huntsville\, AL\, United States
ATTACH;FMTTYPE=image/jpeg:https://timelyapp-prod.s3.us-west-2.amazonaws.com/images/54704218/Cinderella2025Square_kfxa.png
GEO:34.702327;-86.628864
END:VEVENT
BEGIN:VEVENT
DTSTART;TZID=America/Chicago:20251018T130000
DTEND;TZID=America/Chicago:20251018T143000
DTSTAMP:20260425T072831
CREATED:20251012T144226Z
LAST-MODIFIED:20251012T144226Z
UID:10019066-1760792400-1760797800@hvilleblast.com
SUMMARY:Cinderella
DESCRIPTION:The original fairytale first lady is back with a fresh world premiere retelling! Guided by a firefly-whispering Fairy Godmother\, Cinderella isn’t searching for a prince—she’s honoring a promise\, discovering her voice\, and daring to believe in something greater than herself. Not just gowns\, slippers\, and pumpkins\, Cinderella is the story of courage\, loyalty\, and true beauty! A joyful kickoff to Fantasy Playhouse’s 65th Season On the Boulevard\, this new work blends heart\, humor\, and original songs that shine—inviting audiences of all ages to dream big\, believe boldly\, and step fully into who they are meant to be.
URL:https://hvilleblast.com/event/cinderella-3/
LOCATION:Fantasy Playhouse Children’s Theater & Academy @ 3312 Long Ave SW\, Huntsville\, AL\, United States
ATTACH;FMTTYPE=image/jpeg:https://timelyapp-prod.s3.us-west-2.amazonaws.com/images/54704218/Cinderella2025Square_kfxa.png
GEO:34.702327;-86.628864
END:VEVENT
BEGIN:VEVENT
DTSTART;TZID=America/Chicago:20251018T130000
DTEND;TZID=America/Chicago:20251018T143000
DTSTAMP:20260425T072831
CREATED:20251011T142749Z
LAST-MODIFIED:20251011T142749Z
UID:10018959-1760792400-1760797800@hvilleblast.com
SUMMARY:Cinderella
DESCRIPTION:The original fairytale first lady is back with a fresh world premiere retelling! Guided by a firefly-whispering Fairy Godmother\, Cinderella isn’t searching for a prince—she’s honoring a promise\, discovering her voice\, and daring to believe in something greater than herself. Not just gowns\, slippers\, and pumpkins\, Cinderella is the story of courage\, loyalty\, and true beauty! A joyful kickoff to Fantasy Playhouse’s 65th Season On the Boulevard\, this new work blends heart\, humor\, and original songs that shine—inviting audiences of all ages to dream big\, believe boldly\, and step fully into who they are meant to be.
URL:https://hvilleblast.com/event/cinderella-2/
LOCATION:Fantasy Playhouse Children’s Theater & Academy @ 3312 Long Ave SW\, Huntsville\, AL\, United States
ATTACH;FMTTYPE=image/jpeg:https://timelyapp-prod.s3.us-west-2.amazonaws.com/images/54704218/Cinderella2025Square_kfxa.png
GEO:34.702327;-86.628864
END:VEVENT
BEGIN:VEVENT
DTSTART;TZID=America/Chicago:20251010T190000
DTEND;TZID=America/Chicago:20251010T210000
DTSTAMP:20260425T072831
CREATED:20251010T141025Z
LAST-MODIFIED:20251010T141025Z
UID:10018912-1760122800-1760130000@hvilleblast.com
SUMMARY:Open To Suggestions: Improv Comedy Show
DESCRIPTION:Fast\, Funny\, Fully Made-Up! Come give us your Suggestions for this interactive\, family friendly\, Huntsville original improv comedy show! The show uses audience suggestions to inspire hilarious scenes that the actors come up with on the spot. No two shows are alike\, everything is made up\, and it is always a good time!  \nFans of TV shows like ‘Whose Line Is It Anyway’ will fall in-love with this fast\, funny\, fully made-up show! \n  \nNow at its new home every Friday at Fantasy Playhouse Children’s Theater On The Boulevard!
URL:https://hvilleblast.com/event/open-to-suggestions-improv-comedy-show-4/
LOCATION:Fantasy Playhouse Children’s Theater & Academy @ 3312 Long Ave SW\, Huntsville\, AL\, United States
ATTACH;FMTTYPE=image/jpeg:https://timelyapp-prod.s3.us-west-2.amazonaws.com/images/54704218/PLE%20OTS%204x5%20Info%20Poster_mKzY.jpg
GEO:34.702327;-86.628864
END:VEVENT
BEGIN:VEVENT
DTSTART;TZID=America/Chicago:20251010T190000
DTEND;TZID=America/Chicago:20251010T210000
DTSTAMP:20260425T072831
CREATED:20251009T140011Z
LAST-MODIFIED:20251009T140011Z
UID:10018878-1760122800-1760130000@hvilleblast.com
SUMMARY:Open To Suggestions: Improv Comedy Show
DESCRIPTION:Fast\, Funny\, Fully Made-Up! Come give us your Suggestions for this interactive\, family friendly\, Huntsville original improv comedy show! The show uses audience suggestions to inspire hilarious scenes that the actors come up with on the spot. No two shows are alike\, everything is made up\, and it is always a good time!  \nFans of TV shows like ‘Whose Line Is It Anyway’ will fall in-love with this fast\, funny\, fully made-up show! \n  \nNow at its new home every Friday at Fantasy Playhouse Children’s Theater On The Boulevard!
URL:https://hvilleblast.com/event/open-to-suggestions-improv-comedy-show-3/
LOCATION:Fantasy Playhouse Children’s Theater & Academy @ 3312 Long Ave SW\, Huntsville\, AL\, United States
ATTACH;FMTTYPE=image/jpeg:https://timelyapp-prod.s3.us-west-2.amazonaws.com/images/54704218/PLE%20OTS%204x5%20Info%20Poster_mKzY.jpg
GEO:34.702327;-86.628864
END:VEVENT
BEGIN:VEVENT
DTSTART;TZID=America/Chicago:20251010T190000
DTEND;TZID=America/Chicago:20251010T210000
DTSTAMP:20260425T072831
CREATED:20251008T135751Z
LAST-MODIFIED:20251008T135751Z
UID:10018855-1760122800-1760130000@hvilleblast.com
SUMMARY:Open To Suggestions: Improv Comedy Show
DESCRIPTION:Fast\, Funny\, Fully Made-Up! Come give us your Suggestions for this interactive\, family friendly\, Huntsville original improv comedy show! The show uses audience suggestions to inspire hilarious scenes that the actors come up with on the spot. No two shows are alike\, everything is made up\, and it is always a good time!  \nFans of TV shows like ‘Whose Line Is It Anyway’ will fall in-love with this fast\, funny\, fully made-up show! \n  \nNow at its new home every Friday at Fantasy Playhouse Children’s Theater On The Boulevard!
URL:https://hvilleblast.com/event/open-to-suggestions-improv-comedy-show-2/
LOCATION:Fantasy Playhouse Children’s Theater & Academy @ 3312 Long Ave SW\, Huntsville\, AL\, United States
ATTACH;FMTTYPE=image/jpeg:https://timelyapp-prod.s3.us-west-2.amazonaws.com/images/54704218/PLE%20OTS%204x5%20Info%20Poster_mKzY.jpg
GEO:34.702327;-86.628864
END:VEVENT
END:VCALENDAR