BEGIN:VCALENDAR
VERSION:2.0
PRODID:-//Hville Blast - ECPv6.15.20//NONSGML v1.0//EN
CALSCALE:GREGORIAN
METHOD:PUBLISH
X-ORIGINAL-URL:https://hvilleblast.com
X-WR-CALDESC:Events for Hville Blast
REFRESH-INTERVAL;VALUE=DURATION:PT1H
X-Robots-Tag:noindex
X-PUBLISHED-TTL:PT1H
BEGIN:VTIMEZONE
TZID:America/Chicago
BEGIN:DAYLIGHT
TZOFFSETFROM:-0600
TZOFFSETTO:-0500
TZNAME:CDT
DTSTART:20240310T080000
END:DAYLIGHT
BEGIN:STANDARD
TZOFFSETFROM:-0500
TZOFFSETTO:-0600
TZNAME:CST
DTSTART:20241103T070000
END:STANDARD
BEGIN:DAYLIGHT
TZOFFSETFROM:-0600
TZOFFSETTO:-0500
TZNAME:CDT
DTSTART:20250309T080000
END:DAYLIGHT
BEGIN:STANDARD
TZOFFSETFROM:-0500
TZOFFSETTO:-0600
TZNAME:CST
DTSTART:20251102T070000
END:STANDARD
BEGIN:DAYLIGHT
TZOFFSETFROM:-0600
TZOFFSETTO:-0500
TZNAME:CDT
DTSTART:20260308T080000
END:DAYLIGHT
BEGIN:STANDARD
TZOFFSETFROM:-0500
TZOFFSETTO:-0600
TZNAME:CST
DTSTART:20261101T070000
END:STANDARD
BEGIN:DAYLIGHT
TZOFFSETFROM:-0600
TZOFFSETTO:-0500
TZNAME:CDT
DTSTART:20270314T080000
END:DAYLIGHT
BEGIN:STANDARD
TZOFFSETFROM:-0500
TZOFFSETTO:-0600
TZNAME:CST
DTSTART:20271107T070000
END:STANDARD
END:VTIMEZONE
BEGIN:VEVENT
DTSTART;TZID=America/Chicago:20260422T190000
DTEND;TZID=America/Chicago:20260422T235900
DTSTAMP:20260425T082354
CREATED:20260419T045816Z
LAST-MODIFIED:20260420T051310Z
UID:10024806-1776884400-1776902340@hvilleblast.com
SUMMARY:Singo Bingo
DESCRIPTION:Every Wednesday followed by live music 
URL:https://hvilleblast.com/event/singo-bingo-24/
LOCATION:Furniture Factory Bar and Grill @ 619 Meridian St N\, 2401 Alabama St SW\, Huntsville\, AL\, United States
CATEGORIES:Downtown Huntsville,Live Music
ATTACH;FMTTYPE=image/jpeg:https://timelyapp-prod.s3.us-west-2.amazonaws.com/images/54704218/489864209_976179421298637_60770682590035222_n_xqoS.jpg
GEO:34.712571;-86.575819
X-APPLE-STRUCTURED-LOCATION;VALUE=URI;X-ADDRESS=Furniture Factory Bar and Grill @ 619 Meridian St N 2401 Alabama St SW Huntsville AL United States;X-APPLE-RADIUS=500;X-TITLE=2401 Alabama St SW:geo:-86.575819,34.712571
END:VEVENT
BEGIN:VEVENT
DTSTART;TZID=America/Chicago:20260412T193000
DTEND;TZID=America/Chicago:20260412T235900
DTSTAMP:20260425T082354
CREATED:20260411T012816Z
LAST-MODIFIED:20260411T012816Z
UID:10024450-1776022200-1776038340@hvilleblast.com
SUMMARY:Smile Empty Soul
DESCRIPTION:Sunday April 12th Smile Empty Soul at Furniture Factory bar & grill\nPatio opens 6pm\nMusic starts at 8pm (support tba)\n21 and up event\nGA TICKETS FREE!!!!\n(Reserved tables are available)\nTable for 2 $25\nTable for 4 $50\nVip Villa for 10 $125
URL:https://hvilleblast.com/event/smile-empty-soul/
LOCATION:Furniture Factory Bar and Grill @ 619 Meridian St N\, 2401 Alabama St SW\, Huntsville\, AL\, United States
CATEGORIES:Live Music
ATTACH;FMTTYPE=image/jpeg:https://timelyapp-prod.s3.us-west-2.amazonaws.com/images/54704218/637996553_1217853033797940_3473503955607492621_n_m3wG.jpg
GEO:34.712571;-86.575819
X-APPLE-STRUCTURED-LOCATION;VALUE=URI;X-ADDRESS=Furniture Factory Bar and Grill @ 619 Meridian St N 2401 Alabama St SW Huntsville AL United States;X-APPLE-RADIUS=500;X-TITLE=2401 Alabama St SW:geo:-86.575819,34.712571
END:VEVENT
BEGIN:VEVENT
DTSTART;TZID=America/Chicago:20260410T201500
DTEND;TZID=America/Chicago:20260410T235900
DTSTAMP:20260425T082354
CREATED:20260411T012804Z
LAST-MODIFIED:20260411T012804Z
UID:10024427-1775852100-1775865540@hvilleblast.com
SUMMARY:Slippery When Wet (a Tribute to Bon Jovi)
DESCRIPTION:April 10th Slippery When Wet (The Ultimate Tribute to Bon Jovi) makes their way back To Furniture Factory bar & grill (downtown)\nPatio Opens up 6:30pmMusic starts 8:15pm\nGA Tickets $16 advance $20 day of show\nAll Tables need to be claimed by 8pm\nTable for 2 with 2 Tickets $100Table for 4 with 4 Tickets $165VIP VILLA for 10 with 10 Tickets $450\n21 and up venue
URL:https://hvilleblast.com/event/slippery-when-wet-a-tribute-to-bon-jovi/
LOCATION:Furniture Factory Bar and Grill @ 619 Meridian St N\, 2401 Alabama St SW\, Huntsville\, AL\, United States
CATEGORIES:Live Music
ATTACH;FMTTYPE=image/jpeg:https://timelyapp-prod.s3.us-west-2.amazonaws.com/images/54704218/626939065_1202834998633077_1870262199432116094_n_wdbm.jpg
GEO:34.712571;-86.575819
X-APPLE-STRUCTURED-LOCATION;VALUE=URI;X-ADDRESS=Furniture Factory Bar and Grill @ 619 Meridian St N 2401 Alabama St SW Huntsville AL United States;X-APPLE-RADIUS=500;X-TITLE=2401 Alabama St SW:geo:-86.575819,34.712571
END:VEVENT
BEGIN:VEVENT
DTSTART;TZID=America/Chicago:20260311T190000
DTEND;TZID=America/Chicago:20260311T235900
DTSTAMP:20260425T082354
CREATED:20260312T032608Z
LAST-MODIFIED:20260312T032608Z
UID:10023435-1773255600-1773273540@hvilleblast.com
SUMMARY:Singo Bingo
DESCRIPTION:Every Wednesday followed by live music 
URL:https://hvilleblast.com/event/singo-bingo-23/
LOCATION:Furniture Factory Bar and Grill @ 619 Meridian St N\, 2401 Alabama St SW\, Huntsville\, AL\, United States
CATEGORIES:Downtown Huntsville,Live Music
ATTACH;FMTTYPE=image/jpeg:https://timelyapp-prod.s3.us-west-2.amazonaws.com/images/54704218/489864209_976179421298637_60770682590035222_n_xqoS.jpg
GEO:34.712571;-86.575819
X-APPLE-STRUCTURED-LOCATION;VALUE=URI;X-ADDRESS=Furniture Factory Bar and Grill @ 619 Meridian St N 2401 Alabama St SW Huntsville AL United States;X-APPLE-RADIUS=500;X-TITLE=2401 Alabama St SW:geo:-86.575819,34.712571
END:VEVENT
BEGIN:VEVENT
DTSTART;TZID=America/Chicago:20260211T190000
DTEND;TZID=America/Chicago:20260211T235900
DTSTAMP:20260425T082354
CREATED:20260201T222549Z
LAST-MODIFIED:20260201T222549Z
UID:10022542-1770836400-1770854340@hvilleblast.com
SUMMARY:Singo Bingo
DESCRIPTION:Every Wednesday followed by live music 
URL:https://hvilleblast.com/event/singo-bingo-22/
LOCATION:Furniture Factory Bar and Grill @ 619 Meridian St N\, 2401 Alabama St SW\, Huntsville\, AL\, United States
CATEGORIES:Downtown Huntsville,Live Music
ATTACH;FMTTYPE=image/jpeg:https://timelyapp-prod.s3.us-west-2.amazonaws.com/images/54704218/489864209_976179421298637_60770682590035222_n_xqoS.jpg
GEO:34.712571;-86.575819
X-APPLE-STRUCTURED-LOCATION;VALUE=URI;X-ADDRESS=Furniture Factory Bar and Grill @ 619 Meridian St N 2401 Alabama St SW Huntsville AL United States;X-APPLE-RADIUS=500;X-TITLE=2401 Alabama St SW:geo:-86.575819,34.712571
END:VEVENT
BEGIN:VEVENT
DTSTART;TZID=America/Chicago:20260204T190000
DTEND;TZID=America/Chicago:20260204T235900
DTSTAMP:20260425T082354
CREATED:20260201T222512Z
LAST-MODIFIED:20260209T234108Z
UID:10022497-1770231600-1770249540@hvilleblast.com
SUMMARY:Singo Bingo
DESCRIPTION:Every Wednesday followed by live music 
URL:https://hvilleblast.com/event/singo-bingo-21/
LOCATION:Furniture Factory Bar and Grill @ 619 Meridian St N\, 2401 Alabama St SW\, Huntsville\, AL\, United States
CATEGORIES:Downtown Huntsville,Live Music
ATTACH;FMTTYPE=image/jpeg:https://timelyapp-prod.s3.us-west-2.amazonaws.com/images/54704218/489864209_976179421298637_60770682590035222_n_xqoS.jpg
GEO:34.712571;-86.575819
X-APPLE-STRUCTURED-LOCATION;VALUE=URI;X-ADDRESS=Furniture Factory Bar and Grill @ 619 Meridian St N 2401 Alabama St SW Huntsville AL United States;X-APPLE-RADIUS=500;X-TITLE=2401 Alabama St SW:geo:-86.575819,34.712571
END:VEVENT
BEGIN:VEVENT
DTSTART;TZID=America/Chicago:20251231T190000
DTEND;TZID=America/Chicago:20251231T235900
DTSTAMP:20260425T082354
CREATED:20251229T232713Z
LAST-MODIFIED:20260107T184005Z
UID:10021563-1767207600-1767225540@hvilleblast.com
SUMMARY:Singo Bingo
DESCRIPTION:Every Wednesday followed by live music 
URL:https://hvilleblast.com/event/singo-bingo-20/
LOCATION:Furniture Factory Bar and Grill @ 619 Meridian St N\, 2401 Alabama St SW\, Huntsville\, AL\, United States
CATEGORIES:Downtown Huntsville,Live Music
ATTACH;FMTTYPE=image/jpeg:https://timelyapp-prod.s3.us-west-2.amazonaws.com/images/54704218/489864209_976179421298637_60770682590035222_n_xqoS.jpg
GEO:34.712571;-86.575819
X-APPLE-STRUCTURED-LOCATION;VALUE=URI;X-ADDRESS=Furniture Factory Bar and Grill @ 619 Meridian St N 2401 Alabama St SW Huntsville AL United States;X-APPLE-RADIUS=500;X-TITLE=2401 Alabama St SW:geo:-86.575819,34.712571
END:VEVENT
BEGIN:VEVENT
DTSTART;TZID=America/Chicago:20251203T190000
DTEND;TZID=America/Chicago:20251203T235900
DTSTAMP:20260425T082354
CREATED:20251126T013139Z
LAST-MODIFIED:20251127T023706Z
UID:10020373-1764788400-1764806340@hvilleblast.com
SUMMARY:Singo Bingo
DESCRIPTION:Every Wednesday followed by live music 
URL:https://hvilleblast.com/event/singo-bingo-19/
LOCATION:Furniture Factory Bar and Grill @ 619 Meridian St N\, 2401 Alabama St SW\, Huntsville\, AL\, United States
CATEGORIES:Downtown Huntsville,Live Music
ATTACH;FMTTYPE=image/jpeg:https://timelyapp-prod.s3.us-west-2.amazonaws.com/images/54704218/489864209_976179421298637_60770682590035222_n_xqoS.jpg
GEO:34.712571;-86.575819
X-APPLE-STRUCTURED-LOCATION;VALUE=URI;X-ADDRESS=Furniture Factory Bar and Grill @ 619 Meridian St N 2401 Alabama St SW Huntsville AL United States;X-APPLE-RADIUS=500;X-TITLE=2401 Alabama St SW:geo:-86.575819,34.712571
END:VEVENT
BEGIN:VEVENT
DTSTART;TZID=America/Chicago:20251126T190000
DTEND;TZID=America/Chicago:20251126T235900
DTSTAMP:20260425T082354
CREATED:20251126T013105Z
LAST-MODIFIED:20251204T044509Z
UID:10020317-1764183600-1764201540@hvilleblast.com
SUMMARY:Singo Bingo
DESCRIPTION:Every Wednesday followed by live music 
URL:https://hvilleblast.com/event/singo-bingo-18/
LOCATION:Furniture Factory Bar and Grill @ 619 Meridian St N\, 2401 Alabama St SW\, Huntsville\, AL\, United States
CATEGORIES:Downtown Huntsville,Live Music
ATTACH;FMTTYPE=image/jpeg:https://timelyapp-prod.s3.us-west-2.amazonaws.com/images/54704218/489864209_976179421298637_60770682590035222_n_xqoS.jpg
GEO:34.712571;-86.575819
X-APPLE-STRUCTURED-LOCATION;VALUE=URI;X-ADDRESS=Furniture Factory Bar and Grill @ 619 Meridian St N 2401 Alabama St SW Huntsville AL United States;X-APPLE-RADIUS=500;X-TITLE=2401 Alabama St SW:geo:-86.575819,34.712571
END:VEVENT
BEGIN:VEVENT
DTSTART;TZID=America/Chicago:20251119T190000
DTEND;TZID=America/Chicago:20251119T235900
DTSTAMP:20260425T082354
CREATED:20251126T013021Z
LAST-MODIFIED:20251126T013021Z
UID:10020271-1763578800-1763596740@hvilleblast.com
SUMMARY:Singo Bingo
DESCRIPTION:Every Wednesday followed by live music 
URL:https://hvilleblast.com/event/singo-bingo-17/
LOCATION:Furniture Factory Bar and Grill @ 619 Meridian St N\, 2401 Alabama St SW\, Huntsville\, AL\, United States
CATEGORIES:Downtown Huntsville,Live Music
ATTACH;FMTTYPE=image/jpeg:https://timelyapp-prod.s3.us-west-2.amazonaws.com/images/54704218/489864209_976179421298637_60770682590035222_n_xqoS.jpg
GEO:34.712571;-86.575819
X-APPLE-STRUCTURED-LOCATION;VALUE=URI;X-ADDRESS=Furniture Factory Bar and Grill @ 619 Meridian St N 2401 Alabama St SW Huntsville AL United States;X-APPLE-RADIUS=500;X-TITLE=2401 Alabama St SW:geo:-86.575819,34.712571
END:VEVENT
BEGIN:VEVENT
DTSTART;TZID=America/Chicago:20251029T190000
DTEND;TZID=America/Chicago:20251029T235900
DTSTAMP:20260425T082354
CREATED:20251025T174237Z
LAST-MODIFIED:20251029T201229Z
UID:10019434-1761764400-1761782340@hvilleblast.com
SUMMARY:Singo Bingo
DESCRIPTION:Every Wednesday followed by live music 
URL:https://hvilleblast.com/event/singo-bingo-16/
LOCATION:Furniture Factory Bar and Grill @ 619 Meridian St N\, 2401 Alabama St SW\, Huntsville\, AL\, United States
CATEGORIES:Downtown Huntsville,Live Music
ATTACH;FMTTYPE=image/jpeg:https://timelyapp-prod.s3.us-west-2.amazonaws.com/images/54704218/489864209_976179421298637_60770682590035222_n_xqoS.jpg
GEO:34.712571;-86.575819
X-APPLE-STRUCTURED-LOCATION;VALUE=URI;X-ADDRESS=Furniture Factory Bar and Grill @ 619 Meridian St N 2401 Alabama St SW Huntsville AL United States;X-APPLE-RADIUS=500;X-TITLE=2401 Alabama St SW:geo:-86.575819,34.712571
END:VEVENT
BEGIN:VEVENT
DTSTART;TZID=America/Chicago:20251022T190000
DTEND;TZID=America/Chicago:20251022T235900
DTSTAMP:20260425T082354
CREATED:20251011T161314Z
LAST-MODIFIED:20251024T141515Z
UID:10019036-1761159600-1761177540@hvilleblast.com
SUMMARY:Singo Bingo
DESCRIPTION:Every Wednesday followed by live music 
URL:https://hvilleblast.com/event/singo-bingo-15/
LOCATION:Furniture Factory Bar and Grill @ 619 Meridian St N\, 2401 Alabama St SW\, Huntsville\, AL\, United States
CATEGORIES:Downtown Huntsville,Live Music
ATTACH;FMTTYPE=image/jpeg:https://timelyapp-prod.s3.us-west-2.amazonaws.com/images/54704218/489864209_976179421298637_60770682590035222_n_xqoS.jpg
GEO:34.712571;-86.575819
X-APPLE-STRUCTURED-LOCATION;VALUE=URI;X-ADDRESS=Furniture Factory Bar and Grill @ 619 Meridian St N 2401 Alabama St SW Huntsville AL United States;X-APPLE-RADIUS=500;X-TITLE=2401 Alabama St SW:geo:-86.575819,34.712571
END:VEVENT
BEGIN:VEVENT
DTSTART;TZID=America/Chicago:20251017T190000
DTEND;TZID=America/Chicago:20251017T235900
DTSTAMP:20260425T082354
CREATED:20251011T161241Z
LAST-MODIFIED:20251017T223038Z
UID:10018996-1760727600-1760745540@hvilleblast.com
SUMMARY:Bryan Martin
DESCRIPTION:Sidetracks Production present Bryan Martin ‘Years in the Making’ at Furniture Factory downtown\nPatio opens 6:30pm\nMusic starts 7:30 (support TBD)\nGA Tickets $22 advanced $25 day of\nTable for 4 with 4 Tickets $200\nVilla for 10 with 10 Tickets $500\n21 and up event\n \nHailing from the oil fields of Louisiana\, Bryan Martin lives the stories he writes and country fanfare listening. His real-life emotions are inseparable from his songs\, as is clearly shown in his breakout hit ‘We Ride.” Emerging in Nashville\, he’s garnered over 378 million cumulative streams and 750K social media followers. He’s opened for artists like Jason Aldean\, Brantley Gilbert\, Warren Zeiders\, and more. Martin made his debut at Nashville’s iconic Grand Ole Opryon August 29. Bryan’s albums\, If It Was Easy and Self Inflicted Scars\, stem from his burdensome struggles he’s dealt with since his youth. His recently released project\, Poets &Old Souls\, which includes the everyman anthem ‘We Ride\,’ reflects his growth and Deep connection with listeners
URL:https://hvilleblast.com/event/bryan-martin/
LOCATION:Furniture Factory Bar and Grill @ 619 Meridian St N\, 2401 Alabama St SW\, Huntsville\, AL\, United States
CATEGORIES:Downtown Huntsville,Live Music
ATTACH;FMTTYPE=image/jpeg:https://timelyapp-prod.s3.us-west-2.amazonaws.com/images/54704218/486576864_963815922534987_3285378569406384778_n_I1AX.jpg
GEO:34.712571;-86.575819
X-APPLE-STRUCTURED-LOCATION;VALUE=URI;X-ADDRESS=Furniture Factory Bar and Grill @ 619 Meridian St N 2401 Alabama St SW Huntsville AL United States;X-APPLE-RADIUS=500;X-TITLE=2401 Alabama St SW:geo:-86.575819,34.712571
END:VEVENT
BEGIN:VEVENT
DTSTART;TZID=America/Chicago:20251015T190000
DTEND;TZID=America/Chicago:20251015T235900
DTSTAMP:20260425T082354
CREATED:20251011T161233Z
LAST-MODIFIED:20251015T194529Z
UID:10018987-1760554800-1760572740@hvilleblast.com
SUMMARY:Singo Bingo
DESCRIPTION:Every Wednesday followed by live music 
URL:https://hvilleblast.com/event/singo-bingo-14/
LOCATION:Furniture Factory Bar and Grill @ 619 Meridian St N\, 2401 Alabama St SW\, Huntsville\, AL\, United States
CATEGORIES:Downtown Huntsville,Live Music
ATTACH;FMTTYPE=image/jpeg:https://timelyapp-prod.s3.us-west-2.amazonaws.com/images/54704218/489864209_976179421298637_60770682590035222_n_xqoS.jpg
GEO:34.712571;-86.575819
X-APPLE-STRUCTURED-LOCATION;VALUE=URI;X-ADDRESS=Furniture Factory Bar and Grill @ 619 Meridian St N 2401 Alabama St SW Huntsville AL United States;X-APPLE-RADIUS=500;X-TITLE=2401 Alabama St SW:geo:-86.575819,34.712571
END:VEVENT
BEGIN:VEVENT
DTSTART;TZID=America/Chicago:20251011T190000
DTEND;TZID=America/Chicago:20251011T235900
DTSTAMP:20260425T082354
CREATED:20251011T161208Z
LAST-MODIFIED:20251011T161208Z
UID:10018964-1760209200-1760227140@hvilleblast.com
SUMMARY:Marshall Charloff & Purple Xperience
DESCRIPTION:October 11th Marshall Charloff & Purple Xperience make their way back to Furniture Factory downtown to bring one of the BIGGEST shows of the year to our Patio Stage!!
URL:https://hvilleblast.com/event/marshall-charloff-purple-xperience/
LOCATION:Furniture Factory Bar and Grill @ 619 Meridian St N\, 2401 Alabama St SW\, Huntsville\, AL\, United States
CATEGORIES:Downtown Huntsville,Live Music
ATTACH;FMTTYPE=image/jpeg:https://timelyapp-prod.s3.us-west-2.amazonaws.com/images/54704218/494524318_991591239757455_3897385748952301003_n_z9EE.jpg
GEO:34.712571;-86.575819
X-APPLE-STRUCTURED-LOCATION;VALUE=URI;X-ADDRESS=Furniture Factory Bar and Grill @ 619 Meridian St N 2401 Alabama St SW Huntsville AL United States;X-APPLE-RADIUS=500;X-TITLE=2401 Alabama St SW:geo:-86.575819,34.712571
END:VEVENT
BEGIN:VEVENT
DTSTART;TZID=America/Chicago:20251001T190000
DTEND;TZID=America/Chicago:20251001T235900
DTSTAMP:20260425T082354
CREATED:20251002T005054Z
LAST-MODIFIED:20251002T005054Z
UID:10016811-1759345200-1759363140@hvilleblast.com
SUMMARY:Singo Bingo
DESCRIPTION:Every Wednesday followed by live music 
URL:https://hvilleblast.com/event/singo-bingo-13/
LOCATION:Furniture Factory Bar and Grill @ 619 Meridian St N\, 2401 Alabama St SW\, Huntsville\, AL\, United States
CATEGORIES:Downtown Huntsville,Live Music
ATTACH;FMTTYPE=image/jpeg:https://timelyapp-prod.s3.us-west-2.amazonaws.com/images/54704218/489864209_976179421298637_60770682590035222_n_xqoS.jpg
GEO:34.712571;-86.575819
X-APPLE-STRUCTURED-LOCATION;VALUE=URI;X-ADDRESS=Furniture Factory Bar and Grill @ 619 Meridian St N 2401 Alabama St SW Huntsville AL United States;X-APPLE-RADIUS=500;X-TITLE=2401 Alabama St SW:geo:-86.575819,34.712571
END:VEVENT
BEGIN:VEVENT
DTSTART;TZID=America/Chicago:20250924T190000
DTEND;TZID=America/Chicago:20250924T235900
DTSTAMP:20260425T082354
CREATED:20250917T024402Z
LAST-MODIFIED:20250924T180954Z
UID:10016109-1758740400-1758758340@hvilleblast.com
SUMMARY:Singo Bingo
DESCRIPTION:Every Wednesday followed by live music 
URL:https://hvilleblast.com/event/singo-bingo-12/
LOCATION:Furniture Factory Bar and Grill @ 619 Meridian St N\, 2401 Alabama St SW\, Huntsville\, AL\, United States
CATEGORIES:Downtown Huntsville,Live Music
ATTACH;FMTTYPE=image/jpeg:https://timelyapp-prod.s3.us-west-2.amazonaws.com/images/54704218/489864209_976179421298637_60770682590035222_n_xqoS.jpg
GEO:34.712571;-86.575819
X-APPLE-STRUCTURED-LOCATION;VALUE=URI;X-ADDRESS=Furniture Factory Bar and Grill @ 619 Meridian St N 2401 Alabama St SW Huntsville AL United States;X-APPLE-RADIUS=500;X-TITLE=2401 Alabama St SW:geo:-86.575819,34.712571
END:VEVENT
END:VCALENDAR