BEGIN:VCALENDAR
VERSION:2.0
PRODID:-//Hville Blast - ECPv6.15.20//NONSGML v1.0//EN
CALSCALE:GREGORIAN
METHOD:PUBLISH
X-ORIGINAL-URL:https://hvilleblast.com
X-WR-CALDESC:Events for Hville Blast
REFRESH-INTERVAL;VALUE=DURATION:PT1H
X-Robots-Tag:noindex
X-PUBLISHED-TTL:PT1H
BEGIN:VTIMEZONE
TZID:America/Chicago
BEGIN:DAYLIGHT
TZOFFSETFROM:-0600
TZOFFSETTO:-0500
TZNAME:CDT
DTSTART:20240310T080000
END:DAYLIGHT
BEGIN:STANDARD
TZOFFSETFROM:-0500
TZOFFSETTO:-0600
TZNAME:CST
DTSTART:20241103T070000
END:STANDARD
BEGIN:DAYLIGHT
TZOFFSETFROM:-0600
TZOFFSETTO:-0500
TZNAME:CDT
DTSTART:20250309T080000
END:DAYLIGHT
BEGIN:STANDARD
TZOFFSETFROM:-0500
TZOFFSETTO:-0600
TZNAME:CST
DTSTART:20251102T070000
END:STANDARD
BEGIN:DAYLIGHT
TZOFFSETFROM:-0600
TZOFFSETTO:-0500
TZNAME:CDT
DTSTART:20260308T080000
END:DAYLIGHT
BEGIN:STANDARD
TZOFFSETFROM:-0500
TZOFFSETTO:-0600
TZNAME:CST
DTSTART:20261101T070000
END:STANDARD
END:VTIMEZONE
BEGIN:VEVENT
DTSTART;TZID=America/Chicago:20251001T190000
DTEND;TZID=America/Chicago:20251001T235900
DTSTAMP:20260425T095830
CREATED:20251002T005054Z
LAST-MODIFIED:20251002T005054Z
UID:10016811-1759345200-1759363140@hvilleblast.com
SUMMARY:Singo Bingo
DESCRIPTION:Every Wednesday followed by live music 
URL:https://hvilleblast.com/event/singo-bingo-13/
LOCATION:Furniture Factory Bar and Grill @ 619 Meridian St N\, 2401 Alabama St SW\, Huntsville\, AL\, United States
CATEGORIES:Downtown Huntsville,Live Music
ATTACH;FMTTYPE=image/jpeg:https://timelyapp-prod.s3.us-west-2.amazonaws.com/images/54704218/489864209_976179421298637_60770682590035222_n_xqoS.jpg
GEO:34.712571;-86.575819
X-APPLE-STRUCTURED-LOCATION;VALUE=URI;X-ADDRESS=Furniture Factory Bar and Grill @ 619 Meridian St N 2401 Alabama St SW Huntsville AL United States;X-APPLE-RADIUS=500;X-TITLE=2401 Alabama St SW:geo:-86.575819,34.712571
END:VEVENT
BEGIN:VEVENT
DTSTART;TZID=America/Chicago:20250924T190000
DTEND;TZID=America/Chicago:20250924T235900
DTSTAMP:20260425T095830
CREATED:20250917T024402Z
LAST-MODIFIED:20250924T180954Z
UID:10016109-1758740400-1758758340@hvilleblast.com
SUMMARY:Singo Bingo
DESCRIPTION:Every Wednesday followed by live music 
URL:https://hvilleblast.com/event/singo-bingo-12/
LOCATION:Furniture Factory Bar and Grill @ 619 Meridian St N\, 2401 Alabama St SW\, Huntsville\, AL\, United States
CATEGORIES:Downtown Huntsville,Live Music
ATTACH;FMTTYPE=image/jpeg:https://timelyapp-prod.s3.us-west-2.amazonaws.com/images/54704218/489864209_976179421298637_60770682590035222_n_xqoS.jpg
GEO:34.712571;-86.575819
X-APPLE-STRUCTURED-LOCATION;VALUE=URI;X-ADDRESS=Furniture Factory Bar and Grill @ 619 Meridian St N 2401 Alabama St SW Huntsville AL United States;X-APPLE-RADIUS=500;X-TITLE=2401 Alabama St SW:geo:-86.575819,34.712571
END:VEVENT
END:VCALENDAR