BEGIN:VCALENDAR
VERSION:2.0
PRODID:-//Hville Blast - ECPv6.15.20//NONSGML v1.0//EN
CALSCALE:GREGORIAN
METHOD:PUBLISH
X-WR-CALNAME:Hville Blast
X-ORIGINAL-URL:https://hvilleblast.com
X-WR-CALDESC:Events for Hville Blast
REFRESH-INTERVAL;VALUE=DURATION:PT1H
X-Robots-Tag:noindex
X-PUBLISHED-TTL:PT1H
BEGIN:VTIMEZONE
TZID:America/Chicago
BEGIN:DAYLIGHT
TZOFFSETFROM:-0600
TZOFFSETTO:-0500
TZNAME:CDT
DTSTART:20240310T080000
END:DAYLIGHT
BEGIN:STANDARD
TZOFFSETFROM:-0500
TZOFFSETTO:-0600
TZNAME:CST
DTSTART:20241103T070000
END:STANDARD
BEGIN:DAYLIGHT
TZOFFSETFROM:-0600
TZOFFSETTO:-0500
TZNAME:CDT
DTSTART:20250309T080000
END:DAYLIGHT
BEGIN:STANDARD
TZOFFSETFROM:-0500
TZOFFSETTO:-0600
TZNAME:CST
DTSTART:20251102T070000
END:STANDARD
BEGIN:DAYLIGHT
TZOFFSETFROM:-0600
TZOFFSETTO:-0500
TZNAME:CDT
DTSTART:20260308T080000
END:DAYLIGHT
BEGIN:STANDARD
TZOFFSETFROM:-0500
TZOFFSETTO:-0600
TZNAME:CST
DTSTART:20261101T070000
END:STANDARD
BEGIN:DAYLIGHT
TZOFFSETFROM:-0600
TZOFFSETTO:-0500
TZNAME:CDT
DTSTART:20270314T080000
END:DAYLIGHT
BEGIN:STANDARD
TZOFFSETFROM:-0500
TZOFFSETTO:-0600
TZNAME:CST
DTSTART:20271107T070000
END:STANDARD
END:VTIMEZONE
BEGIN:VEVENT
DTSTART;TZID=America/Chicago:20260323T093000
DTEND;TZID=America/Chicago:20260323T113000
DTSTAMP:20260423T021128
CREATED:20260311T201142Z
LAST-MODIFIED:20260318T021105Z
UID:10023420-1774258200-1774265400@hvilleblast.com
SUMMARY:Monday Mountain Explorers
DESCRIPTION:Families with elementary aged children are invited to attend these homeschool enrichment program events focused on exploring the natural environment to develop a connection to the land\, to wildlife and to each other. We will learn about Alabama’s biodiversity and natural resources through weekly seasonal nature-based themes. \nWe will read literature together to spark curiosity about the natural world\, we will discover and explore our natural environment together through walks and family-led activities\, we will introduce the concept of field journaling as a way to capture our discoveries\, and ultimately we will foster community through interactions in our natural environment. \nAdditional Notes: \n\nPlease dress appropriately and bring your own water/snacks for a short hike.\nParticipants will be provided with a field journal; participants are encouraged to keep the field journal and bring to future events.\nFamilies are invited to bring a picnic lunch to enjoy after the event.\n\nAges: Elementary aged children (ages 5-11) and their caregivers \nLeader: Kelly Turner \nLocation:  Monte Sano Nature Preserve\, Wildflower Trailhead\, 500 Cleermont Drive SE\, Huntsville\, AL  35801 \n  \n\n\nSign Up
URL:https://hvilleblast.com/event/monday-mountain-explorers-10/
LOCATION:Monte Sano Nature Preserve (Cleermont Trailhead)\, 500 Cleermont Drive\, Huntsville\, AL\, 35801\, United States
CATEGORIES:Education,Homeschool,Monte Sano
ATTACH;FMTTYPE=image/png:https://hvilleblast.com/wp-content/uploads/2025/08/Monday-Mountain-Exploreres-IO46K2.png
END:VEVENT
BEGIN:VEVENT
DTSTART;TZID=America/Chicago:20260322T130000
DTEND;TZID=America/Chicago:20260322T143000
DTSTAMP:20260423T021128
CREATED:20260228T063208Z
LAST-MODIFIED:20260318T021105Z
UID:10023213-1774184400-1774189800@hvilleblast.com
SUMMARY:Hike at Monte Sano (Cleermont Trailhead)
DESCRIPTION:(Moderate / 1.5 hours / About 2 miles) Fagan Creek is beautiful any time of the year\, especially in the spring. The route for this hike will start at Cleermont Trailhead and head east on Wildflower Trail. At the end of Wildflower Trail\, you’ll spend just a few minutes on Fagan Springs Trail before heading south on Alms House Trail. You’ll leave Alms House Trail to take a section of Wagon Trail and Young-Kennedy Trail before getting back on Alms House Trail heading northeast. Finish by taking the short Sink Hole Trail back to Wildflower Trail returning to the trailhead. \nNote: This preserve has several trailheads – be sure to come to the right one. \nLocation: Monte Sano Nature Preserve (Cleermont Trailhead) – 500 Cleermont Dr SE\, Huntsville\, AL 35801 \nSign Up \nIn the event this hike has to be canceled due to weather or trail conditions\, we will send a notification to the email address you use to register. \n 
URL:https://hvilleblast.com/event/hike-at-monte-sano-cleermont-trailhead-2/
LOCATION:Monte Sano Nature Preserve (Cleermont Trailhead)\, 500 Cleermont Drive\, Huntsville\, AL\, 35801\, United States
CATEGORIES:Guided Hikes,Monte Sano
ATTACH;FMTTYPE=image/png:https://hvilleblast.com/wp-content/uploads/2025/05/monte-sano-1-kDYz2U.png
END:VEVENT
BEGIN:VEVENT
DTSTART;TZID=America/Chicago:20260130T130000
DTEND;TZID=America/Chicago:20260130T150000
DTSTAMP:20260423T021128
CREATED:20260108T062530Z
LAST-MODIFIED:20260122T044723Z
UID:10021906-1769778000-1769785200@hvilleblast.com
SUMMARY:Trail Care: Monte Sano
DESCRIPTION:Trail Care – Help perform cutbacks and general trail maintenance throughout the preserve. \nNo experience required. Please wear sturdy\, closed-toe shoes. Bug spray\, sunscreen\, work gloves\, eye protection\, and water recommended. Complete a separate registration for each individual participating (each person must sign a waiver). Guardians may sign up on behalf of minors. Registration Required. \nSign Up! \nIf this event is canceled due to weather or trail conditions\, we will send a notification to registered participants to the email address provided at sign up.
URL:https://hvilleblast.com/event/trail-care-monte-sano/
LOCATION:Monte Sano Nature Preserve (Cleermont Trailhead)\, 500 Cleermont Drive\, Huntsville\, AL\, 35801\, United States
CATEGORIES:Monte Sano,Volunteer Opportunities
ATTACH;FMTTYPE=image/jpeg:https://hvilleblast.com/wp-content/uploads/2025/09/IMG-0041-nj9rEe.jpg
END:VEVENT
BEGIN:VEVENT
DTSTART;TZID=America/Chicago:20251228T130000
DTEND;TZID=America/Chicago:20251228T143000
DTSTAMP:20260423T021128
CREATED:20251208T050621Z
LAST-MODIFIED:20251227T142728Z
UID:10020942-1766926800-1766932200@hvilleblast.com
SUMMARY:Hike at Monte Sano (Cleermont Trailhead)
DESCRIPTION:(Moderate / 1.5 hours / About 2 miles) Fagan Creek is beautiful any time of the year\, and December is no exception. The route for this hike will start at Cleermont Trailhead and head east on Wildflower Trail. At the end of Wildflower Trail\, you’ll spend just a few minutes on Fagan Springs Trail before heading south on Alms House Trail. You’ll leave Alms House Trail to take a section of Wagon Trail and Young-Kennedy Trail before getting back on Alms House Trail heading northeast. Finish by taking the short Sink Hole Trail back to Wildflower Trail returning to the trailhead. \nNote: This preserve has several trailheads – be sure to come to the right one. \nLocation: Monte Sano Nature Preserve (Cleermont Trailhead) – 603 Cleermont Dr SE\, Huntsville\, AL 35801 \nSign up \nIn the event this hike has to be canceled due to weather or trail conditions\, we will send a notification to the email address you use to register. \n 
URL:https://hvilleblast.com/event/hike-at-monte-sano-cleermont-trailhead/
LOCATION:Monte Sano Nature Preserve (Cleermont Trailhead)\, 500 Cleermont Drive\, Huntsville\, AL\, 35801\, United States
CATEGORIES:Guided Hikes,Monte Sano
ATTACH;FMTTYPE=image/png:https://hvilleblast.com/wp-content/uploads/2025/05/monte-sano-1-kDYz2U.png
END:VEVENT
BEGIN:VEVENT
DTSTART;TZID=America/Chicago:20251204T083000
DTEND;TZID=America/Chicago:20251204T120000
DTSTAMP:20260423T021128
CREATED:20251208T050610Z
LAST-MODIFIED:20251211T050607Z
UID:10020938-1764837000-1764849600@hvilleblast.com
SUMMARY:Trail Care: Boardwalk Replacement Wildflower Trail
DESCRIPTION:Join Tim Barnack in replacing boardwalks along Wildflower Trail on Monte Sano! \nNo experience required. Please wear sturdy\, closed-toe shoes. Bug spray\, sunscreen\, work gloves\, eye protection\, and water recommended. Complete a separate registration for each individual participating (each person must sign a waiver). Guardians may sign up on behalf of minors. Registration Required. \nSign Up! \nIf this event is canceled due to weather or trail conditions\, we will send a notification to registered participants to the email address provided at sign up.
URL:https://hvilleblast.com/event/trail-care-boardwalk-replacement-wildflower-trail-2/
LOCATION:Monte Sano Nature Preserve (Cleermont Trailhead)\, 500 Cleermont Drive\, Huntsville\, AL\, 35801\, United States
CATEGORIES:Monte Sano,Volunteer Opportunities
ATTACH;FMTTYPE=image/jpeg:https://hvilleblast.com/wp-content/uploads/2025/10/Land-Trust-National-Lands-Day-Sept-28-0011226-scaled-1WdjVF.jpg
END:VEVENT
BEGIN:VEVENT
DTSTART;TZID=America/Chicago:20251203T083000
DTEND;TZID=America/Chicago:20251203T120000
DTSTAMP:20260423T021128
CREATED:20251208T050609Z
LAST-MODIFIED:20251208T050623Z
UID:10020937-1764750600-1764763200@hvilleblast.com
SUMMARY:Trail Care: Boardwalk Replacement Wildflower Trail
DESCRIPTION:Join Tim Barnack in replacing boardwalks along Wildflower Trail on Monte Sano! \nNo experience required. Please wear sturdy\, closed-toe shoes. Bug spray\, sunscreen\, work gloves\, eye protection\, and water recommended. Complete a separate registration for each individual participating (each person must sign a waiver). Guardians may sign up on behalf of minors. Registration Required. \nSign Up! \nIf this event is canceled due to weather or trail conditions\, we will send a notification to registered participants to the email address provided at sign up.
URL:https://hvilleblast.com/event/trail-care-boardwalk-replacement-wildflower-trail/
LOCATION:Monte Sano Nature Preserve (Cleermont Trailhead)\, 500 Cleermont Drive\, Huntsville\, AL\, 35801\, United States
CATEGORIES:Monte Sano,Volunteer Opportunities
ATTACH;FMTTYPE=image/jpeg:https://hvilleblast.com/wp-content/uploads/2025/10/Land-Trust-National-Lands-Day-Sept-28-0011226-scaled-1WdjVF.jpg
END:VEVENT
END:VCALENDAR