BEGIN:VCALENDAR
VERSION:2.0
PRODID:-//Hville Blast - ECPv6.15.20//NONSGML v1.0//EN
CALSCALE:GREGORIAN
METHOD:PUBLISH
X-ORIGINAL-URL:https://hvilleblast.com
X-WR-CALDESC:Events for Hville Blast
REFRESH-INTERVAL;VALUE=DURATION:PT1H
X-Robots-Tag:noindex
X-PUBLISHED-TTL:PT1H
BEGIN:VTIMEZONE
TZID:America/Chicago
BEGIN:DAYLIGHT
TZOFFSETFROM:-0600
TZOFFSETTO:-0500
TZNAME:CDT
DTSTART:20240310T080000
END:DAYLIGHT
BEGIN:STANDARD
TZOFFSETFROM:-0500
TZOFFSETTO:-0600
TZNAME:CST
DTSTART:20241103T070000
END:STANDARD
BEGIN:DAYLIGHT
TZOFFSETFROM:-0600
TZOFFSETTO:-0500
TZNAME:CDT
DTSTART:20250309T080000
END:DAYLIGHT
BEGIN:STANDARD
TZOFFSETFROM:-0500
TZOFFSETTO:-0600
TZNAME:CST
DTSTART:20251102T070000
END:STANDARD
BEGIN:DAYLIGHT
TZOFFSETFROM:-0600
TZOFFSETTO:-0500
TZNAME:CDT
DTSTART:20260308T080000
END:DAYLIGHT
BEGIN:STANDARD
TZOFFSETFROM:-0500
TZOFFSETTO:-0600
TZNAME:CST
DTSTART:20261101T070000
END:STANDARD
END:VTIMEZONE
BEGIN:VEVENT
DTSTART;TZID=America/Chicago:20251124T163000
DTEND;TZID=America/Chicago:20251124T183000
DTSTAMP:20260422T161734
CREATED:20251124T032805Z
LAST-MODIFIED:20251129T055848Z
UID:10020239-1764001800-1764009000@hvilleblast.com
SUMMARY:Anime Club!
DESCRIPTION:Join us for an anime class\, and we will make a replica of a famous Japanese painting! \nFor more information and movie titles\, please visit go.hmcpl.org/AnimeClub
URL:https://hvilleblast.com/event/anime-club/
LOCATION:North Huntsville Public Library @ 3011 Sparkman Drive\, Huntsville\, AL\, 35810\, Madison
CATEGORIES:Arts & Culture,Cultural,Education,Free Events,North Alabama,North Huntsville,Social Events
ATTACH;FMTTYPE=image/jpeg:https://timelyapp-prod.s3.us-west-2.amazonaws.com/images/54704218/11-24-AnimeClub-FBE_opSx.png
END:VEVENT
BEGIN:VEVENT
DTSTART;TZID=America/Chicago:20251030T160000
DTEND;TZID=America/Chicago:20251030T170000
DTSTAMP:20260422T161734
CREATED:20251026T212758Z
LAST-MODIFIED:20251030T184419Z
UID:10019477-1761840000-1761843600@hvilleblast.com
SUMMARY:Día de los Muertos
DESCRIPTION:Come to the North Huntsville Public Library to learn all about the holiday- Día de los Muertos! \n  \nWe will have a guest speaker telling us all about the ofrenda. There will be a letter-writing station and a group craft to make a garland for the library. \n  \nHot chocolate and snacks will be provided.
URL:https://hvilleblast.com/event/dia-de-los-muertos/
LOCATION:North Huntsville Public Library @ 3011 Sparkman Drive\, Huntsville\, AL\, 35810\, Madison
CATEGORIES:Arts & Culture,Cultural,Education,Free Events,Holiday,North Alabama,North Huntsville,Seasonal,Social Events
ATTACH;FMTTYPE=image/jpeg:https://timelyapp-prod.s3.us-west-2.amazonaws.com/images/54704218/10-30-DiaMuertos-TV_LI1t.png
END:VEVENT
BEGIN:VEVENT
DTSTART;TZID=America/Chicago:20250927T103000
DTEND;TZID=America/Chicago:20250927T123000
DTSTAMP:20260422T161734
CREATED:20250917T021327Z
LAST-MODIFIED:20250925T191528Z
UID:10016088-1758969000-1758976200@hvilleblast.com
SUMMARY:Celebración de la Herencia Hispana/ Hispanic Heritage Celebration!
DESCRIPTION:Ven a la biblioteca a jugar\, bailar\, hacer manualidades y comer aperitivos.¡Bienvenidos todos! \nEveryone is welcome to come to the library and enjoy games\, dancing\, crafts and snacks!
URL:https://hvilleblast.com/event/celebracion-de-la-herencia-hispana-hispanic-heritage-celebration/
LOCATION:North Huntsville Public Library @ 3011 Sparkman Drive\, Huntsville\, AL\, 35810\, Madison
CATEGORIES:Arts & Culture,Cultural,Education,Festivals,Free Events,Just Annouced,Kids & Family,North Alabama,North Huntsville,Seasonal,Social Events
ATTACH;FMTTYPE=image/jpeg:https://timelyapp-prod.s3.us-west-2.amazonaws.com/images/54704218/9-27-HispanicHeritage-TV_4l1n.png
END:VEVENT
END:VCALENDAR