BEGIN:VCALENDAR
VERSION:2.0
PRODID:-//Hville Blast - ECPv6.15.20//NONSGML v1.0//EN
CALSCALE:GREGORIAN
METHOD:PUBLISH
X-WR-CALNAME:Hville Blast
X-ORIGINAL-URL:https://hvilleblast.com
X-WR-CALDESC:Events for Hville Blast
REFRESH-INTERVAL;VALUE=DURATION:PT1H
X-Robots-Tag:noindex
X-PUBLISHED-TTL:PT1H
BEGIN:VTIMEZONE
TZID:America/Chicago
BEGIN:DAYLIGHT
TZOFFSETFROM:-0600
TZOFFSETTO:-0500
TZNAME:CDT
DTSTART:20240310T080000
END:DAYLIGHT
BEGIN:STANDARD
TZOFFSETFROM:-0500
TZOFFSETTO:-0600
TZNAME:CST
DTSTART:20241103T070000
END:STANDARD
BEGIN:DAYLIGHT
TZOFFSETFROM:-0600
TZOFFSETTO:-0500
TZNAME:CDT
DTSTART:20250309T080000
END:DAYLIGHT
BEGIN:STANDARD
TZOFFSETFROM:-0500
TZOFFSETTO:-0600
TZNAME:CST
DTSTART:20251102T070000
END:STANDARD
BEGIN:DAYLIGHT
TZOFFSETFROM:-0600
TZOFFSETTO:-0500
TZNAME:CDT
DTSTART:20260308T080000
END:DAYLIGHT
BEGIN:STANDARD
TZOFFSETFROM:-0500
TZOFFSETTO:-0600
TZNAME:CST
DTSTART:20261101T070000
END:STANDARD
END:VTIMEZONE
BEGIN:VEVENT
DTSTART;TZID=America/Chicago:20251210T200000
DTEND;TZID=America/Chicago:20251210T230000
DTSTAMP:20260422T142637
CREATED:20251215T154343Z
LAST-MODIFIED:20251215T154343Z
UID:10021307-1765396800-1765407600@hvilleblast.com
SUMMARY:Phusion Comedy Open Mic
DESCRIPTION:Phat Sammy’s Comedy Open Mic w/ Alex Zee – Huntsville\, Alabama\, Every Wednesday \nEvery Wednesday until the end of time: Phat Sammy’s Phusion Comedy Open Mic hosted by Huntsville favorite Alex Zee! \nMark your calendars for Wednesdays at 20:00:00 GMT-0600 (Central Standard Time) and head over to Phat Sammy’s in Huntsville\, Alabama. Prepare to be entertained by local comedians as they take the stage and showcase their comedic skills. \nWhether you’re a comedy fan\, simply looking for a fun night out\, or want to test yourself on stage\, this event is perfect for you. Bring your friends\, drink a beer\, and enjoy an evening of laughter the good company of the Huntsville Comedy scene. Don’t miss out on this fantastic opportunity to support local talent and have a great time! \n 
URL:https://hvilleblast.com/event/phusion-comedy-open-mic-28/
LOCATION:Phat Sammys @ 104 Jefferson Street South\, Huntsville\, AL\, United States
CATEGORIES:Comedy
ATTACH;FMTTYPE=image/jpeg:https://timelyapp-prod.s3.us-west-2.amazonaws.com/images/54704218/417362691_758442109522330_2004955338454204505_n_yl4N.png
GEO:34.718428;-86.556439
END:VEVENT
BEGIN:VEVENT
DTSTART;TZID=America/Chicago:20251203T210000
DTEND;TZID=America/Chicago:20251203T230000
DTSTAMP:20260422T142637
CREATED:20251126T013138Z
LAST-MODIFIED:20251210T104506Z
UID:10020372-1764795600-1764802800@hvilleblast.com
SUMMARY:Phat Sammy's Phusion Comedy Open Mic
DESCRIPTION:Weekly comedy open mic hosted by Branden Willis of Clown College Podcast and Alex Zee AKA Black Panther/Hidden Dragon!
URL:https://hvilleblast.com/event/phat-sammys-phusion-comedy-open-mic-9/
LOCATION:Phat Sammys @ 104 Jefferson Street South\, Huntsville\, AL\, United States
CATEGORIES:Comedy
ATTACH;FMTTYPE=image/jpeg:https://timelyapp-prod.s3.us-west-2.amazonaws.com/images/54704218/two%20mics%20flyer%202_0lwN.png
GEO:34.718428;-86.556439
END:VEVENT
BEGIN:VEVENT
DTSTART;TZID=America/Chicago:20251203T200000
DTEND;TZID=America/Chicago:20251203T230000
DTSTAMP:20260422T142637
CREATED:20251126T013140Z
LAST-MODIFIED:20251210T104507Z
UID:10020375-1764792000-1764802800@hvilleblast.com
SUMMARY:Phusion Comedy Open Mic
DESCRIPTION:Phat Sammy’s Comedy Open Mic w/ Alex Zee – Huntsville\, Alabama\, Every Wednesday \nEvery Wednesday until the end of time: Phat Sammy’s Phusion Comedy Open Mic hosted by Huntsville favorite Alex Zee! \nMark your calendars for Wednesdays at 20:00:00 GMT-0600 (Central Standard Time) and head over to Phat Sammy’s in Huntsville\, Alabama. Prepare to be entertained by local comedians as they take the stage and showcase their comedic skills. \nWhether you’re a comedy fan\, simply looking for a fun night out\, or want to test yourself on stage\, this event is perfect for you. Bring your friends\, drink a beer\, and enjoy an evening of laughter the good company of the Huntsville Comedy scene. Don’t miss out on this fantastic opportunity to support local talent and have a great time! \n 
URL:https://hvilleblast.com/event/phusion-comedy-open-mic-27/
LOCATION:Phat Sammys @ 104 Jefferson Street South\, Huntsville\, AL\, United States
CATEGORIES:Comedy
ATTACH;FMTTYPE=image/jpeg:https://timelyapp-prod.s3.us-west-2.amazonaws.com/images/54704218/417362691_758442109522330_2004955338454204505_n_yl4N.png
GEO:34.718428;-86.556439
END:VEVENT
BEGIN:VEVENT
DTSTART;TZID=America/Chicago:20251126T210000
DTEND;TZID=America/Chicago:20251126T230000
DTSTAMP:20260422T142637
CREATED:20251124T032812Z
LAST-MODIFIED:20251202T174510Z
UID:10020248-1764190800-1764198000@hvilleblast.com
SUMMARY:Phat Sammy's Phusion Comedy Open Mic
DESCRIPTION:Weekly comedy open mic hosted by Branden Willis of Clown College Podcast and Alex Zee AKA Black Panther/Hidden Dragon!
URL:https://hvilleblast.com/event/phat-sammys-phusion-comedy-open-mic-8/
LOCATION:Phat Sammys @ 104 Jefferson Street South\, Huntsville\, AL\, United States
CATEGORIES:Comedy
ATTACH;FMTTYPE=image/jpeg:https://timelyapp-prod.s3.us-west-2.amazonaws.com/images/54704218/two%20mics%20flyer%202_0lwN.png
GEO:34.718428;-86.556439
END:VEVENT
BEGIN:VEVENT
DTSTART;TZID=America/Chicago:20251126T200000
DTEND;TZID=America/Chicago:20251126T230000
DTSTAMP:20260422T142638
CREATED:20251124T032814Z
LAST-MODIFIED:20251202T174510Z
UID:10020250-1764187200-1764198000@hvilleblast.com
SUMMARY:Phusion Comedy Open Mic
DESCRIPTION:Phat Sammy’s Comedy Open Mic w/ Alex Zee – Huntsville\, Alabama\, Every Wednesday \nEvery Wednesday until the end of time: Phat Sammy’s Phusion Comedy Open Mic hosted by Huntsville favorite Alex Zee! \nMark your calendars for Wednesdays at 20:00:00 GMT-0600 (Central Standard Time) and head over to Phat Sammy’s in Huntsville\, Alabama. Prepare to be entertained by local comedians as they take the stage and showcase their comedic skills. \nWhether you’re a comedy fan\, simply looking for a fun night out\, or want to test yourself on stage\, this event is perfect for you. Bring your friends\, drink a beer\, and enjoy an evening of laughter the good company of the Huntsville Comedy scene. Don’t miss out on this fantastic opportunity to support local talent and have a great time! \n 
URL:https://hvilleblast.com/event/phusion-comedy-open-mic-26/
LOCATION:Phat Sammys @ 104 Jefferson Street South\, Huntsville\, AL\, United States
CATEGORIES:Comedy
ATTACH;FMTTYPE=image/jpeg:https://timelyapp-prod.s3.us-west-2.amazonaws.com/images/54704218/417362691_758442109522330_2004955338454204505_n_yl4N.png
GEO:34.718428;-86.556439
END:VEVENT
BEGIN:VEVENT
DTSTART;TZID=America/Chicago:20251119T210000
DTEND;TZID=America/Chicago:20251119T230000
DTSTAMP:20260422T142638
CREATED:20251124T032742Z
LAST-MODIFIED:20251126T053327Z
UID:10020210-1763586000-1763593200@hvilleblast.com
SUMMARY:Phat Sammy's Phusion Comedy Open Mic
DESCRIPTION:Weekly comedy open mic hosted by Branden Willis of Clown College Podcast and Alex Zee AKA Black Panther/Hidden Dragon!
URL:https://hvilleblast.com/event/phat-sammys-phusion-comedy-open-mic-7/
LOCATION:Phat Sammys @ 104 Jefferson Street South\, Huntsville\, AL\, United States
CATEGORIES:Comedy
ATTACH;FMTTYPE=image/jpeg:https://timelyapp-prod.s3.us-west-2.amazonaws.com/images/54704218/two%20mics%20flyer%202_0lwN.png
GEO:34.718428;-86.556439
END:VEVENT
BEGIN:VEVENT
DTSTART;TZID=America/Chicago:20251119T200000
DTEND;TZID=America/Chicago:20251119T230000
DTSTAMP:20260422T142638
CREATED:20251124T032742Z
LAST-MODIFIED:20251126T053325Z
UID:10020211-1763582400-1763593200@hvilleblast.com
SUMMARY:Phusion Comedy Open Mic
DESCRIPTION:Phat Sammy’s Comedy Open Mic w/ Alex Zee – Huntsville\, Alabama\, Every Wednesday \nEvery Wednesday until the end of time: Phat Sammy’s Phusion Comedy Open Mic hosted by Huntsville favorite Alex Zee! \nMark your calendars for Wednesdays at 20:00:00 GMT-0600 (Central Standard Time) and head over to Phat Sammy’s in Huntsville\, Alabama. Prepare to be entertained by local comedians as they take the stage and showcase their comedic skills. \nWhether you’re a comedy fan\, simply looking for a fun night out\, or want to test yourself on stage\, this event is perfect for you. Bring your friends\, drink a beer\, and enjoy an evening of laughter the good company of the Huntsville Comedy scene. Don’t miss out on this fantastic opportunity to support local talent and have a great time! \n 
URL:https://hvilleblast.com/event/phusion-comedy-open-mic-25/
LOCATION:Phat Sammys @ 104 Jefferson Street South\, Huntsville\, AL\, United States
CATEGORIES:Comedy
ATTACH;FMTTYPE=image/jpeg:https://timelyapp-prod.s3.us-west-2.amazonaws.com/images/54704218/417362691_758442109522330_2004955338454204505_n_yl4N.png
GEO:34.718428;-86.556439
END:VEVENT
BEGIN:VEVENT
DTSTART;TZID=America/Chicago:20251112T210000
DTEND;TZID=America/Chicago:20251112T230000
DTSTAMP:20260422T142638
CREATED:20251115T224542Z
LAST-MODIFIED:20251118T030609Z
UID:10019964-1762981200-1762988400@hvilleblast.com
SUMMARY:Phat Sammy's Phusion Comedy Open Mic
DESCRIPTION:Weekly comedy open mic hosted by Branden Willis of Clown College Podcast and Alex Zee AKA Black Panther/Hidden Dragon!
URL:https://hvilleblast.com/event/phat-sammys-phusion-comedy-open-mic-6/
LOCATION:Phat Sammys @ 104 Jefferson Street South\, Huntsville\, AL\, United States
CATEGORIES:Comedy
ATTACH;FMTTYPE=image/jpeg:https://timelyapp-prod.s3.us-west-2.amazonaws.com/images/54704218/two%20mics%20flyer%202_0lwN.png
GEO:34.718428;-86.556439
END:VEVENT
BEGIN:VEVENT
DTSTART;TZID=America/Chicago:20251112T200000
DTEND;TZID=America/Chicago:20251112T230000
DTSTAMP:20260422T142638
CREATED:20251115T224540Z
LAST-MODIFIED:20251118T030608Z
UID:10019962-1762977600-1762988400@hvilleblast.com
SUMMARY:Phusion Comedy Open Mic
DESCRIPTION:Phat Sammy’s Comedy Open Mic w/ Alex Zee – Huntsville\, Alabama\, Every Wednesday \nEvery Wednesday until the end of time: Phat Sammy’s Phusion Comedy Open Mic hosted by Huntsville favorite Alex Zee! \nMark your calendars for Wednesdays at 20:00:00 GMT-0600 (Central Standard Time) and head over to Phat Sammy’s in Huntsville\, Alabama. Prepare to be entertained by local comedians as they take the stage and showcase their comedic skills. \nWhether you’re a comedy fan\, simply looking for a fun night out\, or want to test yourself on stage\, this event is perfect for you. Bring your friends\, drink a beer\, and enjoy an evening of laughter the good company of the Huntsville Comedy scene. Don’t miss out on this fantastic opportunity to support local talent and have a great time! \n 
URL:https://hvilleblast.com/event/phusion-comedy-open-mic-24/
LOCATION:Phat Sammys @ 104 Jefferson Street South\, Huntsville\, AL\, United States
CATEGORIES:Comedy
ATTACH;FMTTYPE=image/jpeg:https://timelyapp-prod.s3.us-west-2.amazonaws.com/images/54704218/417362691_758442109522330_2004955338454204505_n_yl4N.png
GEO:34.718428;-86.556439
END:VEVENT
BEGIN:VEVENT
DTSTART;TZID=America/Chicago:20251029T210000
DTEND;TZID=America/Chicago:20251029T230000
DTSTAMP:20260422T142638
CREATED:20251025T174236Z
LAST-MODIFIED:20251029T201227Z
UID:10019432-1761771600-1761778800@hvilleblast.com
SUMMARY:Phat Sammy's Phusion Comedy Open Mic
DESCRIPTION:Weekly comedy open mic hosted by Branden Willis of Clown College Podcast and Alex Zee AKA Black Panther/Hidden Dragon!
URL:https://hvilleblast.com/event/phat-sammys-phusion-comedy-open-mic-5/
LOCATION:Phat Sammys @ 104 Jefferson Street South\, Huntsville\, AL\, United States
CATEGORIES:Comedy
ATTACH;FMTTYPE=image/jpeg:https://timelyapp-prod.s3.us-west-2.amazonaws.com/images/54704218/two%20mics%20flyer%202_0lwN.png
GEO:34.718428;-86.556439
END:VEVENT
BEGIN:VEVENT
DTSTART;TZID=America/Chicago:20251029T200000
DTEND;TZID=America/Chicago:20251029T230000
DTSTAMP:20260422T142638
CREATED:20251025T174238Z
LAST-MODIFIED:20251029T201230Z
UID:10019436-1761768000-1761778800@hvilleblast.com
SUMMARY:Phusion Comedy Open Mic
DESCRIPTION:Phat Sammy’s Comedy Open Mic w/ Alex Zee – Huntsville\, Alabama\, Every Wednesday \nEvery Wednesday until the end of time: Phat Sammy’s Phusion Comedy Open Mic hosted by Huntsville favorite Alex Zee! \nMark your calendars for Wednesdays at 20:00:00 GMT-0600 (Central Standard Time) and head over to Phat Sammy’s in Huntsville\, Alabama. Prepare to be entertained by local comedians as they take the stage and showcase their comedic skills. \nWhether you’re a comedy fan\, simply looking for a fun night out\, or want to test yourself on stage\, this event is perfect for you. Bring your friends\, drink a beer\, and enjoy an evening of laughter the good company of the Huntsville Comedy scene. Don’t miss out on this fantastic opportunity to support local talent and have a great time! \n 
URL:https://hvilleblast.com/event/phusion-comedy-open-mic-23/
LOCATION:Phat Sammys @ 104 Jefferson Street South\, Huntsville\, AL\, United States
CATEGORIES:Comedy
ATTACH;FMTTYPE=image/jpeg:https://timelyapp-prod.s3.us-west-2.amazonaws.com/images/54704218/417362691_758442109522330_2004955338454204505_n_yl4N.png
GEO:34.718428;-86.556439
END:VEVENT
BEGIN:VEVENT
DTSTART;TZID=America/Chicago:20251022T210000
DTEND;TZID=America/Chicago:20251022T230000
DTSTAMP:20260422T142638
CREATED:20251011T161323Z
LAST-MODIFIED:20251024T141522Z
UID:10019049-1761166800-1761174000@hvilleblast.com
SUMMARY:Phat Sammy's Phusion Comedy Open Mic
DESCRIPTION:Weekly comedy open mic hosted by Branden Willis of Clown College Podcast and Alex Zee AKA Black Panther/Hidden Dragon!
URL:https://hvilleblast.com/event/phat-sammys-phusion-comedy-open-mic-4/
LOCATION:Phat Sammys @ 104 Jefferson Street South\, Huntsville\, AL\, United States
CATEGORIES:Comedy
ATTACH;FMTTYPE=image/jpeg:https://timelyapp-prod.s3.us-west-2.amazonaws.com/images/54704218/two%20mics%20flyer%202_0lwN.png
GEO:34.718428;-86.556439
END:VEVENT
BEGIN:VEVENT
DTSTART;TZID=America/Chicago:20251022T200000
DTEND;TZID=America/Chicago:20251022T230000
DTSTAMP:20260422T142638
CREATED:20251011T161324Z
LAST-MODIFIED:20251024T141519Z
UID:10019051-1761163200-1761174000@hvilleblast.com
SUMMARY:Phusion Comedy Open Mic
DESCRIPTION:Phat Sammy’s Comedy Open Mic w/ Alex Zee – Huntsville\, Alabama\, Every Wednesday \nEvery Wednesday until the end of time: Phat Sammy’s Phusion Comedy Open Mic hosted by Huntsville favorite Alex Zee! \nMark your calendars for Wednesdays at 20:00:00 GMT-0600 (Central Standard Time) and head over to Phat Sammy’s in Huntsville\, Alabama. Prepare to be entertained by local comedians as they take the stage and showcase their comedic skills. \nWhether you’re a comedy fan\, simply looking for a fun night out\, or want to test yourself on stage\, this event is perfect for you. Bring your friends\, drink a beer\, and enjoy an evening of laughter the good company of the Huntsville Comedy scene. Don’t miss out on this fantastic opportunity to support local talent and have a great time! \n 
URL:https://hvilleblast.com/event/phusion-comedy-open-mic-22/
LOCATION:Phat Sammys @ 104 Jefferson Street South\, Huntsville\, AL\, United States
CATEGORIES:Comedy
ATTACH;FMTTYPE=image/jpeg:https://timelyapp-prod.s3.us-west-2.amazonaws.com/images/54704218/417362691_758442109522330_2004955338454204505_n_yl4N.png
GEO:34.718428;-86.556439
END:VEVENT
BEGIN:VEVENT
DTSTART;TZID=America/Chicago:20251015T210000
DTEND;TZID=America/Chicago:20251015T230000
DTSTAMP:20260422T142638
CREATED:20251011T142737Z
LAST-MODIFIED:20251015T194528Z
UID:10018945-1760562000-1760569200@hvilleblast.com
SUMMARY:Phat Sammy's Phusion Comedy Open Mic
DESCRIPTION:Weekly comedy open mic hosted by Branden Willis of Clown College Podcast and Alex Zee AKA Black Panther/Hidden Dragon!
URL:https://hvilleblast.com/event/phat-sammys-phusion-comedy-open-mic-3/
LOCATION:Phat Sammys @ 104 Jefferson Street South\, Huntsville\, AL\, United States
CATEGORIES:Comedy
ATTACH;FMTTYPE=image/jpeg:https://timelyapp-prod.s3.us-west-2.amazonaws.com/images/54704218/two%20mics%20flyer%202_0lwN.png
GEO:34.718428;-86.556439
END:VEVENT
BEGIN:VEVENT
DTSTART;TZID=America/Chicago:20251015T200000
DTEND;TZID=America/Chicago:20251015T230000
DTSTAMP:20260422T142638
CREATED:20251011T142732Z
LAST-MODIFIED:20251015T194525Z
UID:10018939-1760558400-1760569200@hvilleblast.com
SUMMARY:Phusion Comedy Open Mic
DESCRIPTION:Phat Sammy’s Comedy Open Mic w/ Alex Zee – Huntsville\, Alabama\, Every Wednesday \nEvery Wednesday until the end of time: Phat Sammy’s Phusion Comedy Open Mic hosted by Huntsville favorite Alex Zee! \nMark your calendars for Wednesdays at 20:00:00 GMT-0600 (Central Standard Time) and head over to Phat Sammy’s in Huntsville\, Alabama. Prepare to be entertained by local comedians as they take the stage and showcase their comedic skills. \nWhether you’re a comedy fan\, simply looking for a fun night out\, or want to test yourself on stage\, this event is perfect for you. Bring your friends\, drink a beer\, and enjoy an evening of laughter the good company of the Huntsville Comedy scene. Don’t miss out on this fantastic opportunity to support local talent and have a great time! \n 
URL:https://hvilleblast.com/event/phusion-comedy-open-mic-21/
LOCATION:Phat Sammys @ 104 Jefferson Street South\, Huntsville\, AL\, United States
CATEGORIES:Comedy
ATTACH;FMTTYPE=image/jpeg:https://timelyapp-prod.s3.us-west-2.amazonaws.com/images/54704218/417362691_758442109522330_2004955338454204505_n_yl4N.png
GEO:34.718428;-86.556439
END:VEVENT
BEGIN:VEVENT
DTSTART;TZID=America/Chicago:20251008T210000
DTEND;TZID=America/Chicago:20251008T230000
DTSTAMP:20260422T142638
CREATED:20251008T135742Z
LAST-MODIFIED:20251008T135742Z
UID:10018843-1759957200-1759964400@hvilleblast.com
SUMMARY:Phat Sammy's Phusion Comedy Open Mic
DESCRIPTION:Weekly comedy open mic hosted by Branden Willis of Clown College Podcast and Alex Zee AKA Black Panther/Hidden Dragon!
URL:https://hvilleblast.com/event/phat-sammys-phusion-comedy-open-mic-2/
LOCATION:Phat Sammys @ 104 Jefferson Street South\, Huntsville\, AL\, United States
CATEGORIES:Comedy
ATTACH;FMTTYPE=image/jpeg:https://timelyapp-prod.s3.us-west-2.amazonaws.com/images/54704218/two%20mics%20flyer%202_0lwN.png
GEO:34.718428;-86.556439
END:VEVENT
BEGIN:VEVENT
DTSTART;TZID=America/Chicago:20251008T200000
DTEND;TZID=America/Chicago:20251008T230000
DTSTAMP:20260422T142638
CREATED:20251008T135745Z
LAST-MODIFIED:20251008T135745Z
UID:10018847-1759953600-1759964400@hvilleblast.com
SUMMARY:Phusion Comedy Open Mic
DESCRIPTION:Phat Sammy’s Comedy Open Mic w/ Alex Zee – Huntsville\, Alabama\, Every Wednesday \nEvery Wednesday until the end of time: Phat Sammy’s Phusion Comedy Open Mic hosted by Huntsville favorite Alex Zee! \nMark your calendars for Wednesdays at 20:00:00 GMT-0600 (Central Standard Time) and head over to Phat Sammy’s in Huntsville\, Alabama. Prepare to be entertained by local comedians as they take the stage and showcase their comedic skills. \nWhether you’re a comedy fan\, simply looking for a fun night out\, or want to test yourself on stage\, this event is perfect for you. Bring your friends\, drink a beer\, and enjoy an evening of laughter the good company of the Huntsville Comedy scene. Don’t miss out on this fantastic opportunity to support local talent and have a great time! \n 
URL:https://hvilleblast.com/event/phusion-comedy-open-mic-20/
LOCATION:Phat Sammys @ 104 Jefferson Street South\, Huntsville\, AL\, United States
CATEGORIES:Comedy
ATTACH;FMTTYPE=image/jpeg:https://timelyapp-prod.s3.us-west-2.amazonaws.com/images/54704218/417362691_758442109522330_2004955338454204505_n_yl4N.png
GEO:34.718428;-86.556439
END:VEVENT
BEGIN:VEVENT
DTSTART;TZID=America/Chicago:20251001T200000
DTEND;TZID=America/Chicago:20251001T230000
DTSTAMP:20260422T142638
CREATED:20251002T005052Z
LAST-MODIFIED:20251002T005052Z
UID:10016809-1759348800-1759359600@hvilleblast.com
SUMMARY:Phusion Comedy Open Mic
DESCRIPTION:Phat Sammy’s Comedy Open Mic w/ Alex Zee – Huntsville\, Alabama\, Every Wednesday \nEvery Wednesday until the end of time: Phat Sammy’s Phusion Comedy Open Mic hosted by Huntsville favorite Alex Zee! \nMark your calendars for Wednesdays at 20:00:00 GMT-0600 (Central Standard Time) and head over to Phat Sammy’s in Huntsville\, Alabama. Prepare to be entertained by local comedians as they take the stage and showcase their comedic skills. \nWhether you’re a comedy fan\, simply looking for a fun night out\, or want to test yourself on stage\, this event is perfect for you. Bring your friends\, drink a beer\, and enjoy an evening of laughter the good company of the Huntsville Comedy scene. Don’t miss out on this fantastic opportunity to support local talent and have a great time! \n 
URL:https://hvilleblast.com/event/phusion-comedy-open-mic-19/
LOCATION:Phat Sammys @ 104 Jefferson Street South\, Huntsville\, AL\, United States
CATEGORIES:Comedy
ATTACH;FMTTYPE=image/jpeg:https://timelyapp-prod.s3.us-west-2.amazonaws.com/images/54704218/417362691_758442109522330_2004955338454204505_n_yl4N.png
GEO:34.718428;-86.556439
END:VEVENT
BEGIN:VEVENT
DTSTART;TZID=America/Chicago:20250924T200000
DTEND;TZID=America/Chicago:20250924T230000
DTSTAMP:20260422T142638
CREATED:20250916T015806Z
LAST-MODIFIED:20250924T185906Z
UID:10016002-1758744000-1758754800@hvilleblast.com
SUMMARY:Phusion Comedy Open Mic
DESCRIPTION:Phat Sammy’s Comedy Open Mic w/ Alex Zee – Huntsville\, Alabama\, Every Wednesday \nEvery Wednesday until the end of time: Phat Sammy’s Phusion Comedy Open Mic hosted by Huntsville favorite Alex Zee! \nMark your calendars for Wednesdays at 20:00:00 GMT-0600 (Central Standard Time) and head over to Phat Sammy’s in Huntsville\, Alabama. Prepare to be entertained by local comedians as they take the stage and showcase their comedic skills. \nWhether you’re a comedy fan\, simply looking for a fun night out\, or want to test yourself on stage\, this event is perfect for you. Bring your friends\, drink a beer\, and enjoy an evening of laughter the good company of the Huntsville Comedy scene. Don’t miss out on this fantastic opportunity to support local talent and have a great time! \n 
URL:https://hvilleblast.com/event/phusion-comedy-open-mic-18/
LOCATION:Phat Sammys @ 104 Jefferson Street South\, Huntsville\, AL\, United States
CATEGORIES:Comedy
ATTACH;FMTTYPE=image/jpeg:https://timelyapp-prod.s3.us-west-2.amazonaws.com/images/54704218/417362691_758442109522330_2004955338454204505_n_yl4N.png
GEO:34.718428;-86.556439
END:VEVENT
END:VCALENDAR