BEGIN:VCALENDAR
VERSION:2.0
PRODID:-//Hville Blast - ECPv6.15.20//NONSGML v1.0//EN
CALSCALE:GREGORIAN
METHOD:PUBLISH
X-WR-CALNAME:Hville Blast
X-ORIGINAL-URL:https://hvilleblast.com
X-WR-CALDESC:Events for Hville Blast
REFRESH-INTERVAL;VALUE=DURATION:PT1H
X-Robots-Tag:noindex
X-PUBLISHED-TTL:PT1H
BEGIN:VTIMEZONE
TZID:America/Chicago
BEGIN:DAYLIGHT
TZOFFSETFROM:-0600
TZOFFSETTO:-0500
TZNAME:CDT
DTSTART:20240310T080000
END:DAYLIGHT
BEGIN:STANDARD
TZOFFSETFROM:-0500
TZOFFSETTO:-0600
TZNAME:CST
DTSTART:20241103T070000
END:STANDARD
BEGIN:DAYLIGHT
TZOFFSETFROM:-0600
TZOFFSETTO:-0500
TZNAME:CDT
DTSTART:20250309T080000
END:DAYLIGHT
BEGIN:STANDARD
TZOFFSETFROM:-0500
TZOFFSETTO:-0600
TZNAME:CST
DTSTART:20251102T070000
END:STANDARD
BEGIN:DAYLIGHT
TZOFFSETFROM:-0600
TZOFFSETTO:-0500
TZNAME:CDT
DTSTART:20260308T080000
END:DAYLIGHT
BEGIN:STANDARD
TZOFFSETFROM:-0500
TZOFFSETTO:-0600
TZNAME:CST
DTSTART:20261101T070000
END:STANDARD
END:VTIMEZONE
BEGIN:VEVENT
DTSTART;TZID=America/Chicago:20251116T150000
DTEND;TZID=America/Chicago:20251116T235900
DTSTAMP:20260425T224847
CREATED:20251122T031857Z
LAST-MODIFIED:20251123T152710Z
UID:10020184-1763305200-1763337540@hvilleblast.com
SUMMARY:Anna Dunlap - In Recital
DESCRIPTION:An accomplished orchestral harpist as well as a versatile soloist\, Dr. Anna Dunlap has performed with the orchestras of Baltimore\, Cincinnati\, and Louisville\, among others. She was the winner of the 2016 American Harp Society’s Grandjany Memorial Competition and was the harp fellow for the National Arts Centre Orchestra Mentorship Program in 2023 (Ontario). A passionate advocate for new music\, she has performed many world premieres of chamber music by young composers. A graduate of the Eastman School of Music\, Dr. Dunlap holds advanced degrees from the University of Cincinnati College-Conservatory of Music.\n \n \nThank you to our sponsor\, The Olin King Family Charitable Account Fund \nTickets: https://l.facebook.com/l.php?u=https%3A%2F%2Fwww.hso.org%2Fwhatson%2FTs-anna-dunlap-in-recital%2F%3Ffbclid%3DIwZXh0bgNhZW0CMTAAYnJpZBExcDBraWhxUHZPbXY1TkM5VHNydGMGYXBwX2lkEDIyMjAzOTE3ODgyMDA4OTIAAR5rUPIJJpZ3qoSEHEniUnbMTevLte9KrK3UAL3KXM-7klZ0G99AC2OUmXHVHA_aem_ks9VzwExANQbHVq-UHSqxg&h=AT2umXlokko-Op-6-GFZpD0udK1er8TXvrWWhx3uLh8uRxdC6o9wTE5vUdBlny8w9MJqsg11TmaBnwYL4N4UdH9zxvCuwsRxYwag5Sn8jUny9VN_CXiqc8ZKj6Ii60TtlFqaj1FzN5ZSW-18F7k.
URL:https://hvilleblast.com/event/anna-dunlap-in-recital/
LOCATION:Roberts Recital Hall Uah @ Roberts Recital Hall Uah\, 2401 Alabama St SW\, Huntsville\, AL\, United States
CATEGORIES:Live Music
ATTACH;FMTTYPE=image/jpeg:https://timelyapp-prod.s3.us-west-2.amazonaws.com/images/54704218/573025256_1437041545092258_5109494660264085262_n_Xoss.jpg
GEO:34.712571;-86.575819
X-APPLE-STRUCTURED-LOCATION;VALUE=URI;X-ADDRESS=Roberts Recital Hall Uah @ Roberts Recital Hall Uah 2401 Alabama St SW Huntsville AL United States;X-APPLE-RADIUS=500;X-TITLE=2401 Alabama St SW:geo:-86.575819,34.712571
END:VEVENT
END:VCALENDAR