BEGIN:VCALENDAR
VERSION:2.0
PRODID:-//Hville Blast - ECPv6.15.20//NONSGML v1.0//EN
CALSCALE:GREGORIAN
METHOD:PUBLISH
X-WR-CALNAME:Hville Blast
X-ORIGINAL-URL:https://hvilleblast.com
X-WR-CALDESC:Events for Hville Blast
REFRESH-INTERVAL;VALUE=DURATION:PT1H
X-Robots-Tag:noindex
X-PUBLISHED-TTL:PT1H
BEGIN:VTIMEZONE
TZID:America/Chicago
BEGIN:DAYLIGHT
TZOFFSETFROM:-0600
TZOFFSETTO:-0500
TZNAME:CDT
DTSTART:20240310T080000
END:DAYLIGHT
BEGIN:STANDARD
TZOFFSETFROM:-0500
TZOFFSETTO:-0600
TZNAME:CST
DTSTART:20241103T070000
END:STANDARD
BEGIN:DAYLIGHT
TZOFFSETFROM:-0600
TZOFFSETTO:-0500
TZNAME:CDT
DTSTART:20250309T080000
END:DAYLIGHT
BEGIN:STANDARD
TZOFFSETFROM:-0500
TZOFFSETTO:-0600
TZNAME:CST
DTSTART:20251102T070000
END:STANDARD
BEGIN:DAYLIGHT
TZOFFSETFROM:-0600
TZOFFSETTO:-0500
TZNAME:CDT
DTSTART:20260308T080000
END:DAYLIGHT
BEGIN:STANDARD
TZOFFSETFROM:-0500
TZOFFSETTO:-0600
TZNAME:CST
DTSTART:20261101T070000
END:STANDARD
BEGIN:DAYLIGHT
TZOFFSETFROM:-0600
TZOFFSETTO:-0500
TZNAME:CDT
DTSTART:20270314T080000
END:DAYLIGHT
BEGIN:STANDARD
TZOFFSETFROM:-0500
TZOFFSETTO:-0600
TZNAME:CST
DTSTART:20271107T070000
END:STANDARD
END:VTIMEZONE
BEGIN:VEVENT
DTSTART;TZID=America/Chicago:20251231T180000
DTEND;TZID=America/Chicago:20260101T000000
DTSTAMP:20260425T144216
CREATED:20251221T164146Z
LAST-MODIFIED:20251227T142810Z
UID:10021351-1767204000-1767225600@hvilleblast.com
SUMMARY:NYE Godzilla Marathon
DESCRIPTION:The Independent Studio 150 in colossal Lowe Mill ARTS & Entertainment invites you to the movie marathon event of 2025!  Four Godzilla films. One unstoppable New Year’s Eve!Get ready for the Independent  to transform into ground zero for an all-out kaiju celebration. This is your chance to ring in the new year with the King of the Monsters himself—bigger\, louder\, and more radioactive than ever. \nFour Godzilla films. One legendary night. Don’t miss it.
URL:https://hvilleblast.com/event/nye-godzilla-marathon/
LOCATION:Sandra Kohler | Studio 150 | The Independent
CATEGORIES:On Event Calendar
ATTACH;FMTTYPE=image/png:https://hvilleblast.com/wp-content/uploads/2025/12/IMG_2590-Huntsville-Independent-Cinema-U2RyBK.png
END:VEVENT
BEGIN:VEVENT
DTSTART;TZID=America/Chicago:20251128T110000
DTEND;TZID=America/Chicago:20251128T140000
DTSTAMP:20260425T144216
CREATED:20251129T055744Z
LAST-MODIFIED:20251129T055744Z
UID:10020429-1764327600-1764338400@hvilleblast.com
SUMMARY:Witches’ Brunch
DESCRIPTION:Sandra Kohler Studio 150 with The Independent in cinematic Lowe Mill A&E wants to make Black Friday just a little more magical.\nJoin them for Witches’ Brunch\, a spellbinding morning of food\, film\, and femme-powered fun. \nYour ticket includes:\nA catered brunch feast\nA complimentary mimosa (alcoholic or zero-proof)\nA special screening of The Craft (1996) \nBring your coven\, dress in your witchy best\, and start Black Friday with a little enchantment—not chaos.\nSeats are limited. Rise early… and join the circle. \n$20 Advanced Tickets \n$25 Tickets at the Door
URL:https://hvilleblast.com/event/witches-brunch/
LOCATION:Sandra Kohler | Studio 150 | The Independent
CATEGORIES:Featured,On Event Calendar
ATTACH;FMTTYPE=image/png:https://hvilleblast.com/wp-content/uploads/2025/11/Black-Minimalist-Witch-Logo-Design-Huntsville-Independent-Cinema-BwtGZf.png
END:VEVENT
END:VCALENDAR