BEGIN:VCALENDAR
VERSION:2.0
PRODID:-//Hville Blast - ECPv6.15.20//NONSGML v1.0//EN
CALSCALE:GREGORIAN
METHOD:PUBLISH
X-ORIGINAL-URL:https://hvilleblast.com
X-WR-CALDESC:Events for Hville Blast
REFRESH-INTERVAL;VALUE=DURATION:PT1H
X-Robots-Tag:noindex
X-PUBLISHED-TTL:PT1H
BEGIN:VTIMEZONE
TZID:America/Chicago
BEGIN:DAYLIGHT
TZOFFSETFROM:-0600
TZOFFSETTO:-0500
TZNAME:CDT
DTSTART:20250309T080000
END:DAYLIGHT
BEGIN:STANDARD
TZOFFSETFROM:-0500
TZOFFSETTO:-0600
TZNAME:CST
DTSTART:20251102T070000
END:STANDARD
BEGIN:DAYLIGHT
TZOFFSETFROM:-0600
TZOFFSETTO:-0500
TZNAME:CDT
DTSTART:20260308T080000
END:DAYLIGHT
BEGIN:STANDARD
TZOFFSETFROM:-0500
TZOFFSETTO:-0600
TZNAME:CST
DTSTART:20261101T070000
END:STANDARD
BEGIN:DAYLIGHT
TZOFFSETFROM:-0600
TZOFFSETTO:-0500
TZNAME:CDT
DTSTART:20270314T080000
END:DAYLIGHT
BEGIN:STANDARD
TZOFFSETFROM:-0500
TZOFFSETTO:-0600
TZNAME:CST
DTSTART:20271107T070000
END:STANDARD
END:VTIMEZONE
BEGIN:VEVENT
DTSTART;TZID=America/Chicago:20260422T160000
DTEND;TZID=America/Chicago:20260422T170000
DTSTAMP:20260422T161740
CREATED:20260419T112806Z
LAST-MODIFIED:20260422T122804Z
UID:10024841-1776873600-1776877200@hvilleblast.com
SUMMARY:Teen Craft: Origami Butterflies
DESCRIPTION:Get creative this spring! Teens ages 12-18 can join us in the Kids Classroom at South Huntsville Library every Wednesday for a new craft or activity. No prior experience required; all crafts can be taught to any skill level\, and all supplies are provided in this free program.
URL:https://hvilleblast.com/event/teen-craft-origami-butterflies/
LOCATION:South Huntsville Public Library @ 7901-L Bailey Cove Road\, Huntsville\, AL\, United States
CATEGORIES:Arts & Culture,Free Events,Kids & Family
ATTACH;FMTTYPE=image/jpeg:https://timelyapp-prod.s3.us-west-2.amazonaws.com/images/54704218/4-22-TeenCraft-TV_2qGg.png
GEO:34.660866;-86.560608
END:VEVENT
END:VCALENDAR