BEGIN:VCALENDAR
VERSION:2.0
PRODID:-//Hville Blast - ECPv6.15.20//NONSGML v1.0//EN
CALSCALE:GREGORIAN
METHOD:PUBLISH
X-ORIGINAL-URL:https://hvilleblast.com
X-WR-CALDESC:Events for Hville Blast
REFRESH-INTERVAL;VALUE=DURATION:PT1H
X-Robots-Tag:noindex
X-PUBLISHED-TTL:PT1H
BEGIN:VTIMEZONE
TZID:America/Chicago
BEGIN:DAYLIGHT
TZOFFSETFROM:-0600
TZOFFSETTO:-0500
TZNAME:CDT
DTSTART:20240310T080000
END:DAYLIGHT
BEGIN:STANDARD
TZOFFSETFROM:-0500
TZOFFSETTO:-0600
TZNAME:CST
DTSTART:20241103T070000
END:STANDARD
BEGIN:DAYLIGHT
TZOFFSETFROM:-0600
TZOFFSETTO:-0500
TZNAME:CDT
DTSTART:20250309T080000
END:DAYLIGHT
BEGIN:STANDARD
TZOFFSETFROM:-0500
TZOFFSETTO:-0600
TZNAME:CST
DTSTART:20251102T070000
END:STANDARD
BEGIN:DAYLIGHT
TZOFFSETFROM:-0600
TZOFFSETTO:-0500
TZNAME:CDT
DTSTART:20260308T080000
END:DAYLIGHT
BEGIN:STANDARD
TZOFFSETFROM:-0500
TZOFFSETTO:-0600
TZNAME:CST
DTSTART:20261101T070000
END:STANDARD
END:VTIMEZONE
BEGIN:VEVENT
DTSTART;TZID=America/Chicago:20251004T113000
DTEND;TZID=America/Chicago:20251004T130000
DTSTAMP:20260425T120902
CREATED:20250921T235728Z
LAST-MODIFIED:20250929T001228Z
UID:10016469-1759577400-1759582800@hvilleblast.com
SUMMARY:Fall Silk Flowers
DESCRIPTION:Make colorful fall flower arrangement using silk flowers that will never fade.\n\n\nWant to learn how to make a simple yet beautiful flower arrangement? I’ll have lots of Autumn colored silk flowers and foliage for you to use to make a Fall themed arrangement. I’ll show you some easy ways of designing the arrangement to suit the container. You’ll leave with something you’ll be proud to decorate your home with or give as a gift.
URL:https://hvilleblast.com/event/fall-silk-flowers-3/
LOCATION:Studio 127 a conservatory for creativity\, 7500 Memorial Parkway Southwest\, #ste 110\, Huntsville\, AL\, 35802\, United States
ATTACH;FMTTYPE=image/jpeg:https://hvilleblast.com/wp-content/uploads/2025/09/2e22b3f2a11ae13a5c5613dd6fe599c4.jpg
END:VEVENT
END:VCALENDAR