BEGIN:VCALENDAR
VERSION:2.0
PRODID:-//Hville Blast - ECPv6.15.20//NONSGML v1.0//EN
CALSCALE:GREGORIAN
METHOD:PUBLISH
X-WR-CALNAME:Hville Blast
X-ORIGINAL-URL:https://hvilleblast.com
X-WR-CALDESC:Events for Hville Blast
REFRESH-INTERVAL;VALUE=DURATION:PT1H
X-Robots-Tag:noindex
X-PUBLISHED-TTL:PT1H
BEGIN:VTIMEZONE
TZID:America/Chicago
BEGIN:DAYLIGHT
TZOFFSETFROM:-0600
TZOFFSETTO:-0500
TZNAME:CDT
DTSTART:20240310T080000
END:DAYLIGHT
BEGIN:STANDARD
TZOFFSETFROM:-0500
TZOFFSETTO:-0600
TZNAME:CST
DTSTART:20241103T070000
END:STANDARD
BEGIN:DAYLIGHT
TZOFFSETFROM:-0600
TZOFFSETTO:-0500
TZNAME:CDT
DTSTART:20250309T080000
END:DAYLIGHT
BEGIN:STANDARD
TZOFFSETFROM:-0500
TZOFFSETTO:-0600
TZNAME:CST
DTSTART:20251102T070000
END:STANDARD
BEGIN:DAYLIGHT
TZOFFSETFROM:-0600
TZOFFSETTO:-0500
TZNAME:CDT
DTSTART:20260308T080000
END:DAYLIGHT
BEGIN:STANDARD
TZOFFSETFROM:-0500
TZOFFSETTO:-0600
TZNAME:CST
DTSTART:20261101T070000
END:STANDARD
BEGIN:DAYLIGHT
TZOFFSETFROM:-0600
TZOFFSETTO:-0500
TZNAME:CDT
DTSTART:20270314T080000
END:DAYLIGHT
BEGIN:STANDARD
TZOFFSETFROM:-0500
TZOFFSETTO:-0600
TZNAME:CST
DTSTART:20271107T070000
END:STANDARD
END:VTIMEZONE
BEGIN:VEVENT
DTSTART;TZID=America/Chicago:20260228T110000
DTEND;TZID=America/Chicago:20260228T130000
DTSTAMP:20260422T173143
CREATED:20260301T062504Z
LAST-MODIFIED:20260301T062504Z
UID:10023221-1772276400-1772283600@hvilleblast.com
SUMMARY:Watercolor 101
DESCRIPTION:This is a two-hour introductory class to watercolor.\n\n\nThis is a two-hour introductory class for Watercolor. Get to know the characteristics of this type of paint\, how to get started\, and of course we’ll have plenty of painting time. No experience is needed\, and all materials are supplied.
URL:https://hvilleblast.com/event/watercolor-101/
LOCATION:Studio 127 – a conservatory for creativity\, 7500 Memorial Parkway Southwest\, #ste 110\, Huntsville\, AL\, 35802\, United States
GEO:34.7150804;-86.5973573
X-APPLE-STRUCTURED-LOCATION;VALUE=URI;X-ADDRESS=Studio 127 – a conservatory for creativity 7500 Memorial Parkway Southwest #ste 110 Huntsville AL 35802 United States;X-APPLE-RADIUS=500;X-TITLE=7500 Memorial Parkway Southwest\, #ste 110:geo:-86.5973573,34.7150804
END:VEVENT
BEGIN:VEVENT
DTSTART;TZID=America/Chicago:20251227T133000
DTEND;TZID=America/Chicago:20251227T153000
DTSTAMP:20260422T173143
CREATED:20251028T191600Z
LAST-MODIFIED:20251215T153610Z
UID:10019537-1766842200-1766849400@hvilleblast.com
SUMMARY:A Simple Abundance Art Journal
DESCRIPTION:A classic since 1990s\, this book is made up of daily essays that will resonate with a busy woman who is dealing with home\, family\, work…\n\n\nThis is a two-hour class that will introduce the book to you (if you have not already read it) and how you can use an Art Journal to enhance your reading. More than that\, this book and art journal together are a wonderfully positive activity that can lead to a daily practice of creativity. And we know that creativity is so good for us! \nThe book begins on January 1st\, with this title\, “A Transformative Year of Delight and Discovery” and here is an excerpt” ” New Year’s Day. A fresh start. A new chapter in life waiting to be written. New questions to be asked\, embraced\, and loved. Answers to be discovered and then lived in this transformative year of delight and self-discovery.” \nThe art journal is where you can respond to the reading using collage and incorporating writing. It’s very rewarding! \nYou can purchase a ticket that includes the book\, or if you already have one you can bring that\, and purchase the ticket without the book. \nWhat you get: \n\nHardback edition of Simple Abundance*\nPremium art journal\nA rt Journal Primer\nCreativity Bundle\nCode to attend one free Open Art Journaling Session in 2026\n\n* If you buy the ticket without the book\, you’ll receive everything else listed
URL:https://hvilleblast.com/event/a-simple-abundance-art-journal-2/
LOCATION:Studio 127 – a conservatory for creativity\, 7500 Memorial Parkway Southwest\, #ste 110\, Huntsville\, AL\, 35802\, United States
GEO:34.7150804;-86.5973573
X-APPLE-STRUCTURED-LOCATION;VALUE=URI;X-ADDRESS=Studio 127 – a conservatory for creativity 7500 Memorial Parkway Southwest #ste 110 Huntsville AL 35802 United States;X-APPLE-RADIUS=500;X-TITLE=7500 Memorial Parkway Southwest\, #ste 110:geo:-86.5973573,34.7150804
END:VEVENT
BEGIN:VEVENT
DTSTART;TZID=America/Chicago:20251220T133000
DTEND;TZID=America/Chicago:20251220T153000
DTSTAMP:20260422T173143
CREATED:20251028T191547Z
LAST-MODIFIED:20251215T153609Z
UID:10019536-1766237400-1766244600@hvilleblast.com
SUMMARY:December Open Art Journaling
DESCRIPTION:This is an Open House for Art Journaling – bring your journal and use the studio’s of creative goodies!\n\n\nThe Monthly Saturday Open Art Journaling happens one Saturday every month. If you have a journal you’re working in\, bring it with you…I also have starter kits and single art journals here if you want to pick one up. \nThere is no instruction\, just time to work on our journals! If you have some supplies you’d like to bring for a swap\, that would be wonderful but not required. \nDid you know\, you can purchase a pack of 10 Open Art Journaling sessions for $120? That’s like getting 2 free! You can use them anytime\, and I’ll keep track with a punch card in the studio.
URL:https://hvilleblast.com/event/december-open-art-journaling-3/
LOCATION:Studio 127 – a conservatory for creativity\, 7500 Memorial Parkway Southwest\, #ste 110\, Huntsville\, AL\, 35802\, United States
GEO:34.7150804;-86.5973573
X-APPLE-STRUCTURED-LOCATION;VALUE=URI;X-ADDRESS=Studio 127 – a conservatory for creativity 7500 Memorial Parkway Southwest #ste 110 Huntsville AL 35802 United States;X-APPLE-RADIUS=500;X-TITLE=7500 Memorial Parkway Southwest\, #ste 110:geo:-86.5973573,34.7150804
END:VEVENT
BEGIN:VEVENT
DTSTART;TZID=America/Chicago:20251212T140000
DTEND;TZID=America/Chicago:20251212T150000
DTSTAMP:20260422T173143
CREATED:20251028T191541Z
LAST-MODIFIED:20251215T153607Z
UID:10019533-1765548000-1765551600@hvilleblast.com
SUMMARY:December  Creative Latte & Learn
DESCRIPTION:We are going to make our very own “washi tape” to use in other projects!\n\n\nUsing super easy methods we’ll make unique designs of washi tape. Perfect for your art journals\, cards\, or any other mixed media projects. \nYour class includes something to sip from Good Company Cafe. \nYou can choose from the following: (I’ll be in touch the week of the class to get your order) \n\nCold brew\nIce Tea (Sweet or unsweet)\nMocha Latte\nHoney Latte\nBottled water
URL:https://hvilleblast.com/event/december-creative-latte-learn-2/
LOCATION:Studio 127 – a conservatory for creativity\, 7500 Memorial Parkway Southwest\, #ste 110\, Huntsville\, AL\, 35802\, United States
GEO:34.7150804;-86.5973573
X-APPLE-STRUCTURED-LOCATION;VALUE=URI;X-ADDRESS=Studio 127 – a conservatory for creativity 7500 Memorial Parkway Southwest #ste 110 Huntsville AL 35802 United States;X-APPLE-RADIUS=500;X-TITLE=7500 Memorial Parkway Southwest\, #ste 110:geo:-86.5973573,34.7150804
END:VEVENT
BEGIN:VEVENT
DTSTART;TZID=America/Chicago:20251129T113000
DTEND;TZID=America/Chicago:20251129T133000
DTSTAMP:20260422T173143
CREATED:20251028T191538Z
LAST-MODIFIED:20251201T065708Z
UID:10019531-1764415800-1764423000@hvilleblast.com
SUMMARY:My Favorite Things – An Altered Book Class
DESCRIPTION:Each page invites participants to highlight one favorite thing in their life—people\, places\, hobbies\, small joys\, or an experience.\n\n\nStart with a children’s board book I have prepared for you\, and use paint\, themed papers\, pages\, and ephemera to fill with your creativity. Each page can be a place to highlight one favorite thing in your life—people\, places\, hobbies\, small joys\, or an experiences. Add extras like small fabric swatches. or interactive elements like tags or pockets for extra journaling. All materials are supplied\, but you are welcome to bring things you would like to include. No experience in art\, or art journaling is needed.
URL:https://hvilleblast.com/event/my-favorite-things-an-altered-book-class/
LOCATION:Studio 127 – a conservatory for creativity\, 7500 Memorial Parkway Southwest\, #ste 110\, Huntsville\, AL\, 35802\, United States
GEO:34.7150804;-86.5973573
X-APPLE-STRUCTURED-LOCATION;VALUE=URI;X-ADDRESS=Studio 127 – a conservatory for creativity 7500 Memorial Parkway Southwest #ste 110 Huntsville AL 35802 United States;X-APPLE-RADIUS=500;X-TITLE=7500 Memorial Parkway Southwest\, #ste 110:geo:-86.5973573,34.7150804
END:VEVENT
BEGIN:VEVENT
DTSTART;TZID=America/Chicago:20251122T100000
DTEND;TZID=America/Chicago:20251122T120000
DTSTAMP:20260422T173143
CREATED:20251028T191536Z
LAST-MODIFIED:20251124T032709Z
UID:10019530-1763805600-1763812800@hvilleblast.com
SUMMARY:Accordion Book of Gratitude
DESCRIPTION:Create beautiful colored backgrounds in your accordion book\, and layer with words and images as a way of expressing thankfulness\n\n\nCreate beautiful colored backgrounds in your accordion book\, and layer with words and images to celebrate what you are thankful for. The joy is in the making of this thoughtful little book which you can keep or give as a beautiful gift. All materials are supplied\, and no experience is needed.
URL:https://hvilleblast.com/event/accordion-book-of-gratitude/
LOCATION:Studio 127 – a conservatory for creativity\, 7500 Memorial Parkway Southwest\, #ste 110\, Huntsville\, AL\, 35802\, United States
GEO:34.7150804;-86.5973573
X-APPLE-STRUCTURED-LOCATION;VALUE=URI;X-ADDRESS=Studio 127 – a conservatory for creativity 7500 Memorial Parkway Southwest #ste 110 Huntsville AL 35802 United States;X-APPLE-RADIUS=500;X-TITLE=7500 Memorial Parkway Southwest\, #ste 110:geo:-86.5973573,34.7150804
END:VEVENT
BEGIN:VEVENT
DTSTART;TZID=America/Chicago:20251121T140000
DTEND;TZID=America/Chicago:20251121T150000
DTSTAMP:20260422T173143
CREATED:20251028T191535Z
LAST-MODIFIED:20251124T032708Z
UID:10019529-1763733600-1763737200@hvilleblast.com
SUMMARY:November  Creative Latte & Learn
DESCRIPTION:Gel plate printing! A favorite! We’ll spend the hour making prints using gel plates\, while sipping a treat from Good Company Cafe!\n\n\nAlways a favorite! Gel Plate printing is also called Monoprint. We’ll use acrylic paints\, stencils\, and your imagination to make beautiful papers you can use in your art projects. I’ll have a variety of papers to print on. Warning: Gel Plate printing is addictive! \nYour class includes something to sip from Good Company Cafe. \nYou can choose from the following: (I’ll be in touch the week of the class to get your order) \n\nCold brew\nIce Tea (Sweet or unsweet)\nMocha Latte\nHoney Latte\nBottled water
URL:https://hvilleblast.com/event/november-creative-latte-learn-2/
LOCATION:Studio 127 – a conservatory for creativity\, 7500 Memorial Parkway Southwest\, #ste 110\, Huntsville\, AL\, 35802\, United States
GEO:34.7150804;-86.5973573
X-APPLE-STRUCTURED-LOCATION;VALUE=URI;X-ADDRESS=Studio 127 – a conservatory for creativity 7500 Memorial Parkway Southwest #ste 110 Huntsville AL 35802 United States;X-APPLE-RADIUS=500;X-TITLE=7500 Memorial Parkway Southwest\, #ste 110:geo:-86.5973573,34.7150804
END:VEVENT
BEGIN:VEVENT
DTSTART;TZID=America/Chicago:20251115T133000
DTEND;TZID=America/Chicago:20251115T153000
DTSTAMP:20260422T173143
CREATED:20251028T191533Z
LAST-MODIFIED:20251115T224208Z
UID:10019528-1763213400-1763220600@hvilleblast.com
SUMMARY:November Open Art Journaling
DESCRIPTION:This is an Open House for Art Journaling – bring your journal and use the studio’s of creative goodies!\n\n\nThe Monthly Saturday Open Art Journaling happens one Saturday every month. If you have a journal you’re working in\, bring it with you…I also have starter kits and single art journals here if you want to pick one up. \nThere is no instruction\, just time to work on our journals! If you have some supplies you’d like to bring for a swap\, that would be wonderful but not required. \nDid you know\, you can purchase a pack of 10 Open Art Journaling sessions for $120? That’s like getting 2 free! You can use them anytime\, and I’ll keep track with a punch card in the studio.
URL:https://hvilleblast.com/event/november-open-art-journaling-3/
LOCATION:Studio 127 – a conservatory for creativity\, 7500 Memorial Parkway Southwest\, #ste 110\, Huntsville\, AL\, 35802\, United States
ATTACH;FMTTYPE=image/jpeg:https://hvilleblast.com/wp-content/uploads/2025/08/6d485b747dd0f8a9c4d12964d4ec2f11.jpg
GEO:34.7150804;-86.5973573
X-APPLE-STRUCTURED-LOCATION;VALUE=URI;X-ADDRESS=Studio 127 – a conservatory for creativity 7500 Memorial Parkway Southwest #ste 110 Huntsville AL 35802 United States;X-APPLE-RADIUS=500;X-TITLE=7500 Memorial Parkway Southwest\, #ste 110:geo:-86.5973573,34.7150804
END:VEVENT
BEGIN:VEVENT
DTSTART;TZID=America/Chicago:20251108T140000
DTEND;TZID=America/Chicago:20251108T153000
DTSTAMP:20260422T173143
CREATED:20251028T191531Z
LAST-MODIFIED:20251028T191531Z
UID:10019527-1762610400-1762615800@hvilleblast.com
SUMMARY:Holiday ATC (Artist Trading Card) Make and Swap
DESCRIPTION:We meet\, make as many 2.5×3.5 (the official size) Artist Trading Cards as we can in 1.5 hours\, then swap or keep them.\n\n\nATC swaps have been around for a while. You can paint\, draw\, or do mixed media on your cards\, which we will then trade with each other(or keep\, whatever you choose!) The cards are always the same size\, 2.5×3.5 and fit in the sleeves made for baseball cards\, but you don’t have to store them there. Add them to a journal\, a recipe box\, or make up your own way of storing them. I have these Swaps planned for once every 3 months.
URL:https://hvilleblast.com/event/holiday-atc-artist-trading-card-make-and-swap-2/
LOCATION:Studio 127 – a conservatory for creativity\, 7500 Memorial Parkway Southwest\, #ste 110\, Huntsville\, AL\, 35802\, United States
GEO:34.7150804;-86.5973573
X-APPLE-STRUCTURED-LOCATION;VALUE=URI;X-ADDRESS=Studio 127 – a conservatory for creativity 7500 Memorial Parkway Southwest #ste 110 Huntsville AL 35802 United States;X-APPLE-RADIUS=500;X-TITLE=7500 Memorial Parkway Southwest\, #ste 110:geo:-86.5973573,34.7150804
END:VEVENT
BEGIN:VEVENT
DTSTART;TZID=America/Chicago:20251104T183000
DTEND;TZID=America/Chicago:20251104T193000
DTSTAMP:20260422T173143
CREATED:20251028T191529Z
LAST-MODIFIED:20251028T191529Z
UID:10019525-1762281000-1762284600@hvilleblast.com
SUMMARY:Introduction to Embroidery
DESCRIPTION:In this four week class\, you’ll learn all about the materials\, how to do several stitches\, and how to start a project.\n\n\nThis is the perfect class for you if you’ve been wanting to get started in embroidery. Guest teacher\, Dezzy Moon\, will teach you the very basics and get your started with several stitches\, working with the tools\, and then how to plan a project. This is fun and no stress! Bring a friend or make new ones in the studio! All materials are supplied. \n \nAbout Dezzy Moon: \nDezzy Moon is an artist based in Huntsville\, Alabama. She graduated with a BFA in Printmaking from the University of Alabama in Huntsville in 2020. In printmaking\, she works primarily with screen print and woodblock. She is also dabbles in many crafts\, especially textiles. Her biggest loves are music (particularly rock from the 1960s-80s)\, pop culture\, travel\, roller skating\, and all things vintage.
URL:https://hvilleblast.com/event/introduction-to-embroidery/
LOCATION:Studio 127 – a conservatory for creativity\, 7500 Memorial Parkway Southwest\, #ste 110\, Huntsville\, AL\, 35802\, United States
GEO:34.7150804;-86.5973573
X-APPLE-STRUCTURED-LOCATION;VALUE=URI;X-ADDRESS=Studio 127 – a conservatory for creativity 7500 Memorial Parkway Southwest #ste 110 Huntsville AL 35802 United States;X-APPLE-RADIUS=500;X-TITLE=7500 Memorial Parkway Southwest\, #ste 110:geo:-86.5973573,34.7150804
END:VEVENT
BEGIN:VEVENT
DTSTART;TZID=America/Chicago:20251010T140000
DTEND;TZID=America/Chicago:20251010T150000
DTSTAMP:20260422T173143
CREATED:20250831T231529Z
LAST-MODIFIED:20251006T002730Z
UID:10015343-1760104800-1760108400@hvilleblast.com
SUMMARY:October Creative Latte & Learn
DESCRIPTION:We are going to practice doing one line ink drawings using calligraphy pens.\n\n\nWe are going to practice one line ink drawings\, which look great over a painted background. This is a wonderful way to draw without worrying about the details. I’ll have painted papers for you to draw on\, or feel free to bring your own…or your art journal to draw directly onto your pages. \nYour class includes something to sip from Good Company Cafe. \nYou can choose from the following: (I’ll be in touch the week of the class to get your order) \n\nCold brew\nIce Tea (Sweet or unsweet)\nMocha Latte\nHoney Latte\nBottled water
URL:https://hvilleblast.com/event/september-creative-latte-learn-2/
LOCATION:Studio 127 – a conservatory for creativity\, 7500 Memorial Parkway Southwest\, #ste 110\, Huntsville\, AL\, 35802\, United States
ATTACH;FMTTYPE=image/jpeg:https://hvilleblast.com/wp-content/uploads/2025/08/5346f2d5e22b0d08c09ae6e0945790f9.jpg
GEO:34.7150804;-86.5973573
X-APPLE-STRUCTURED-LOCATION;VALUE=URI;X-ADDRESS=Studio 127 – a conservatory for creativity 7500 Memorial Parkway Southwest #ste 110 Huntsville AL 35802 United States;X-APPLE-RADIUS=500;X-TITLE=7500 Memorial Parkway Southwest\, #ste 110:geo:-86.5973573,34.7150804
END:VEVENT
BEGIN:VEVENT
DTSTART;TZID=America/Chicago:20250926T160000
DTEND;TZID=America/Chicago:20250928T123000
DTSTAMP:20260422T173143
CREATED:20250803T161532Z
LAST-MODIFIED:20250921T235727Z
UID:10013819-1758902400-1759062600@hvilleblast.com
SUMMARY:Stretch Beyond the Page
DESCRIPTION:From the page to the canvas; this retreat will help you go BIG with your Creativity\n\n\nAre you ready to grow your creativity in a big way?  If you enjoy art journaling and want to take it bigger\, this is for you. We’ll spend the weekend creating a canvas that explores the topic “My Creative Journey.” Maybe the idea sounds appealing but also indimidating. This retreat is designed to walk you through the entire creative process from planning to painting a mixed media piece on canvas – but in a relaxed contemplative way.  \nFriday\, September 26 from 4-6pm with packet pickup\, meet and greet\, in a “come and go” setting. Attendance to this is not necessary\, it’s just an opportunity to get situated. For those who want a jump start\, you can make your own name badge! If you can’t make it Friday\, you’ll have the opportunity to make your name tag Saturday morning. \nOur retreat space is in Studio 127\, and we’ll spend most of our time here\, except for when we go on our FIELD TRIP. \nSaturday\, September 27\, 9am-5:30pm we open up at 8:00 for anyone who didn’t get their packets on Friday. Grab a cup of coffee or tea\, find a seat\, and make your name tag if you have not already. We’ll start promptly at 9am. Here’s the schedule: \n\nClass time: 9:00am-10:30am\nBreak10:30am-10:45am\nClass time: 10:45am-12:15pm\nLunch: 12:15-1:30pm\nBreakout session: 1:30pm-2:15pm\nBreak 2:15pm-2:30pm\nClass time:2:30-4:00pm\nField Trip to Thrift/Vintage store: 4-5:30pm\nMeet for dinner at Luis’s at 6:00pm (on your own and optional)\n\nSunday\, September 28\, 9am-12pm \n\nBreakout session 9:00am-10:30\nBreak 10:30-10:45\nClass time 10:45-12:15\nFinish up 12:15-12:30pm\n\nYour packet includes: \n\nHand Made Sketch Book\nNotebook\nLarge Canvas\nArt Journaling Primer\n\nLodging: \nIf you are coming in from out of town\, there are two hotels right next to the studio parking lot. Double Tree Inn and Hampton Inn. \nFood: \nBreakfast Muffins\, fruit\, coffee\, tea\, and juice Saturday and Sunday morning. (Good Company\, across from the studio has a fabulous breakfast menu if you want something more hearty. But get there early as they are busy on Saturdays) \nLunch is provided at the retreat on Saturday. \nDinner is on your own\, but we’ll have a table at Luis’s Mexican Restaurant (in the same complex as the studio) for those who want to join on Saturday night. \nSnacks will be available for those who want to nibble through the day \nCoffee will be available all weekend.
URL:https://hvilleblast.com/event/stretch-beyond-the-page/
LOCATION:Studio 127 – a conservatory for creativity\, 7500 Memorial Parkway Southwest\, #ste 110\, Huntsville\, AL\, 35802\, United States
ATTACH;FMTTYPE=image/jpeg:https://hvilleblast.com/wp-content/uploads/2025/08/1ed8599cdfb9779117850fd06c37c9b8.jpg
GEO:34.7150804;-86.5973573
X-APPLE-STRUCTURED-LOCATION;VALUE=URI;X-ADDRESS=Studio 127 – a conservatory for creativity 7500 Memorial Parkway Southwest #ste 110 Huntsville AL 35802 United States;X-APPLE-RADIUS=500;X-TITLE=7500 Memorial Parkway Southwest\, #ste 110:geo:-86.5973573,34.7150804
END:VEVENT
BEGIN:VEVENT
DTSTART;TZID=America/Chicago:20250920T133000
DTEND;TZID=America/Chicago:20250920T153000
DTSTAMP:20260422T173143
CREATED:20250831T231536Z
LAST-MODIFIED:20250831T231536Z
UID:10015345-1758375000-1758382200@hvilleblast.com
SUMMARY:September Open Art Journaling
DESCRIPTION:This is an Open House for Art Journaling – bring your journal and use the studio’s of creative goodies!\n\n\nThe Monthly Saturday Open Art Journaling happens one Saturday every month. If you have a journal you’re working in\, bring it with you…I also have starter kits and single art journals here if you want to pick one up. \nThere is no instruction\, just time to work on our journals! If you have some supplies you’d like to bring for a swap\, that would be wonderful but not required. \nDid you know\, you can purchase a pack of 10 Open Art Journaling sessions for $120? That’s like getting 2 free! You can use them anytime\, and I’ll keep track with a punch card in the studio.
URL:https://hvilleblast.com/event/september-open-art-journaling-2/
LOCATION:Studio 127 – a conservatory for creativity\, 7500 Memorial Parkway Southwest\, #ste 110\, Huntsville\, AL\, 35802\, United States
ATTACH;FMTTYPE=image/jpeg:https://hvilleblast.com/wp-content/uploads/2025/08/6d485b747dd0f8a9c4d12964d4ec2f11.jpg
GEO:34.7150804;-86.5973573
X-APPLE-STRUCTURED-LOCATION;VALUE=URI;X-ADDRESS=Studio 127 – a conservatory for creativity 7500 Memorial Parkway Southwest #ste 110 Huntsville AL 35802 United States;X-APPLE-RADIUS=500;X-TITLE=7500 Memorial Parkway Southwest\, #ste 110:geo:-86.5973573,34.7150804
END:VEVENT
END:VCALENDAR