BEGIN:VCALENDAR
VERSION:2.0
PRODID:-//Hville Blast - ECPv6.15.20//NONSGML v1.0//EN
CALSCALE:GREGORIAN
METHOD:PUBLISH
X-WR-CALNAME:Hville Blast
X-ORIGINAL-URL:https://hvilleblast.com
X-WR-CALDESC:Events for Hville Blast
REFRESH-INTERVAL;VALUE=DURATION:PT1H
X-Robots-Tag:noindex
X-PUBLISHED-TTL:PT1H
BEGIN:VTIMEZONE
TZID:America/Chicago
BEGIN:DAYLIGHT
TZOFFSETFROM:-0600
TZOFFSETTO:-0500
TZNAME:CDT
DTSTART:20240310T080000
END:DAYLIGHT
BEGIN:STANDARD
TZOFFSETFROM:-0500
TZOFFSETTO:-0600
TZNAME:CST
DTSTART:20241103T070000
END:STANDARD
BEGIN:DAYLIGHT
TZOFFSETFROM:-0600
TZOFFSETTO:-0500
TZNAME:CDT
DTSTART:20250309T080000
END:DAYLIGHT
BEGIN:STANDARD
TZOFFSETFROM:-0500
TZOFFSETTO:-0600
TZNAME:CST
DTSTART:20251102T070000
END:STANDARD
BEGIN:DAYLIGHT
TZOFFSETFROM:-0600
TZOFFSETTO:-0500
TZNAME:CDT
DTSTART:20260308T080000
END:DAYLIGHT
BEGIN:STANDARD
TZOFFSETFROM:-0500
TZOFFSETTO:-0600
TZNAME:CST
DTSTART:20261101T070000
END:STANDARD
END:VTIMEZONE
BEGIN:VEVENT
DTSTART;TZID=America/Chicago:20251017T190000
DTEND;TZID=America/Chicago:20251017T235900
DTSTAMP:20260422T110803
CREATED:20250908T054028Z
LAST-MODIFIED:20251017T081208Z
UID:10015695-1760727600-1760745540@hvilleblast.com
SUMMARY:J.T. Loux
DESCRIPTION:J.T. Loux is BACK at The Camp for another epic evening of LIVE music on Friday\, October 17. The show kicks off at 7pm\, but we will be open early for food and drink specials. Mark your calendars now!\nJ.T. Loux is an amazing artist who graced our stage during HSV Music Office\, MidCity District\, and East Iris music exchange program on LIVE NIGHT of 2024. NOW\, J.T. is coming to The Camp to rock with us for our MidCity Monster Mash!!! If you haven’t experienced J.T. Loux before\, you’re missing out – DO NOT miss this show!!\nCheck out more from J.T. Loux below:https://www.facebook.com/jt.loux.2025\nhttps://open.spotify.com/artist/6VBvWwPehTLrkpcXNMdJvf\nTo reserve a table\, click the link below:\nhttps://www.opentable.com/booking/restref/availability?rid=1339681&lang=en-US&color=1&r3uid=cfe&dark=false&correlationId=fab13ec5-549b-4256-beee-5b8bf4c177b5&restRef=1339681&partySize=2&dateTime=2025-08-05T19%3A00&otSource=Restaurant%20website\nNO COVER CHARGE!!See you there\, Campers!!
URL:https://hvilleblast.com/event/them-damn-dogs-single-release-at-the-camp-with-suntread-2/
LOCATION:The Camp @ 5909 University Dr.\, Huntsville\, AL\, United States
CATEGORIES:Arts & Culture,Free Events,Live Music
ATTACH;FMTTYPE=image/jpeg:https://timelyapp-prod.s3.us-west-2.amazonaws.com/images/54704218/554446310_797538842774480_3969351634291145134_n_RCdK.jpg
GEO:34.762538;-86.685033
END:VEVENT
BEGIN:VEVENT
DTSTART;TZID=America/Chicago:20251011T120000
DTEND;TZID=America/Chicago:20251011T235900
DTSTAMP:20260422T110803
CREATED:20251011T164207Z
LAST-MODIFIED:20251011T164207Z
UID:10019053-1760184000-1760227140@hvilleblast.com
SUMMARY:Miss Majesty 's Drag Brunch
DESCRIPTION:Get ready for a fab-boo-lous afternoon with Miss Majesty Divine and the Drag Queen Mafia! Killer looks\, spooky vibes\, and hauntingly delicious brunch specials.\nHosted by Majesty DivineCo-Host Kirstin Orlando\nPerformances byBarbi KoaBrooke AlexandriaGinger DirossiEffin JacsAbsinthe MindedSapphire Starlington\nYou can reserve a table through the link below:\nhttps://www.opentable.com/booking/restref/availability?rid=1339681&lang=en-US&color=1&r3uid=cfe&dark=false&correlationId=82fe3fb6-8a18-491a-8715-ad91d3cec4eb&restRef=1339681&partySize=2&dateTime=2025-09-23T19%3A00&otSource=Restaurant%20website\nNO COVER CHARGE!!! See you there\, Campers!!!
URL:https://hvilleblast.com/event/miss-majesty-s-drag-brunch-3/
LOCATION:The Camp @ 5909 University Dr.\, Huntsville\, AL\, United States
CATEGORIES:Live Music
ATTACH;FMTTYPE=image/jpeg:https://timelyapp-prod.s3.us-west-2.amazonaws.com/images/54704218/550580757_795918379603193_299154199507354662_n_tdZq.jpg
GEO:34.762538;-86.685033
END:VEVENT
END:VCALENDAR