BEGIN:VCALENDAR
VERSION:2.0
PRODID:-//Hville Blast - ECPv6.15.20//NONSGML v1.0//EN
CALSCALE:GREGORIAN
METHOD:PUBLISH
X-ORIGINAL-URL:https://hvilleblast.com
X-WR-CALDESC:Events for Hville Blast
REFRESH-INTERVAL;VALUE=DURATION:PT1H
X-Robots-Tag:noindex
X-PUBLISHED-TTL:PT1H
BEGIN:VTIMEZONE
TZID:America/Chicago
BEGIN:DAYLIGHT
TZOFFSETFROM:-0600
TZOFFSETTO:-0500
TZNAME:CDT
DTSTART:20240310T080000
END:DAYLIGHT
BEGIN:STANDARD
TZOFFSETFROM:-0500
TZOFFSETTO:-0600
TZNAME:CST
DTSTART:20241103T070000
END:STANDARD
BEGIN:DAYLIGHT
TZOFFSETFROM:-0600
TZOFFSETTO:-0500
TZNAME:CDT
DTSTART:20250309T080000
END:DAYLIGHT
BEGIN:STANDARD
TZOFFSETFROM:-0500
TZOFFSETTO:-0600
TZNAME:CST
DTSTART:20251102T070000
END:STANDARD
BEGIN:DAYLIGHT
TZOFFSETFROM:-0600
TZOFFSETTO:-0500
TZNAME:CDT
DTSTART:20260308T080000
END:DAYLIGHT
BEGIN:STANDARD
TZOFFSETFROM:-0500
TZOFFSETTO:-0600
TZNAME:CST
DTSTART:20261101T070000
END:STANDARD
END:VTIMEZONE
BEGIN:VEVENT
DTSTART;TZID=America/Chicago:20251202T183000
DTEND;TZID=America/Chicago:20251202T220000
DTSTAMP:20260422T230934
CREATED:20251126T013131Z
LAST-MODIFIED:20251127T023700Z
UID:10020362-1764700200-1764712800@hvilleblast.com
SUMMARY:Free West Coast Swing Dancing Class in The Electric Belle!
DESCRIPTION:Join the Rocket Westies in The Electric Belle at Stovehouse every Tuesday at 6:30 pm for a FREE West Coast Swing Dancing Class\, followed by open dancing until 10 pm!
URL:https://hvilleblast.com/event/free-west-coast-swing-dancing-class-in-the-electric-belle-25/
LOCATION:The Electric Belle at Stovehouse @ 3414 Governors Dr SW\, Huntsville\, AL\, United States
CATEGORIES:Dance,Free Events,Live Music
ATTACH;FMTTYPE=image/jpeg:https://timelyapp-prod.s3.us-west-2.amazonaws.com/images/54704218/486330030_693843243174380_4034159177641609893_n_drjw.jpg
GEO:34.702327;-86.628864
END:VEVENT
BEGIN:VEVENT
DTSTART;TZID=America/Chicago:20251125T183000
DTEND;TZID=America/Chicago:20251125T220000
DTSTAMP:20260422T230934
CREATED:20251124T032806Z
LAST-MODIFIED:20251202T174509Z
UID:10020240-1764095400-1764108000@hvilleblast.com
SUMMARY:Free West Coast Swing Dancing Class in The Electric Belle!
DESCRIPTION:Join the Rocket Westies in The Electric Belle at Stovehouse every Tuesday at 6:30 pm for a FREE West Coast Swing Dancing Class\, followed by open dancing until 10 pm!
URL:https://hvilleblast.com/event/free-west-coast-swing-dancing-class-in-the-electric-belle-24/
LOCATION:The Electric Belle at Stovehouse @ 3414 Governors Dr SW\, Huntsville\, AL\, United States
CATEGORIES:Dance,Free Events,Live Music
ATTACH;FMTTYPE=image/jpeg:https://timelyapp-prod.s3.us-west-2.amazonaws.com/images/54704218/486330030_693843243174380_4034159177641609893_n_drjw.jpg
GEO:34.702327;-86.628864
END:VEVENT
BEGIN:VEVENT
DTSTART;TZID=America/Chicago:20251118T183000
DTEND;TZID=America/Chicago:20251118T220000
DTSTAMP:20260422T230934
CREATED:20251124T032734Z
LAST-MODIFIED:20251126T013013Z
UID:10020199-1763490600-1763503200@hvilleblast.com
SUMMARY:Free West Coast Swing Dancing Class in The Electric Belle!
DESCRIPTION:Join the Rocket Westies in The Electric Belle at Stovehouse every Tuesday at 6:30 pm for a FREE West Coast Swing Dancing Class\, followed by open dancing until 10 pm!
URL:https://hvilleblast.com/event/free-west-coast-swing-dancing-class-in-the-electric-belle-23/
LOCATION:The Electric Belle at Stovehouse @ 3414 Governors Dr SW\, Huntsville\, AL\, United States
CATEGORIES:Dance,Free Events,Live Music
ATTACH;FMTTYPE=image/jpeg:https://timelyapp-prod.s3.us-west-2.amazonaws.com/images/54704218/486330030_693843243174380_4034159177641609893_n_drjw.jpg
GEO:34.702327;-86.628864
END:VEVENT
BEGIN:VEVENT
DTSTART;TZID=America/Chicago:20251115T200000
DTEND;TZID=America/Chicago:20251116T000000
DTSTAMP:20260422T230934
CREATED:20251119T171042Z
LAST-MODIFIED:20251119T171042Z
UID:10019689-1763236800-1763251200@hvilleblast.com
SUMMARY:STOVEFEST After Party
DESCRIPTION:Punch Out & Dance In! The fun doesn’t stop when the sun sets at Stovefest at Stovehouse on November 15!\n\n Get your live music and festival fun fix at STOVEFEST from 3pm – 8pm then follow the trombone parade down to the Electric Belle for the STOVEFEST After Party!\n\nThis FREE late-night DJ dance party keeps the groove of 1\,000 nights going! But if you want to live that VIP life\, we’ve got VIP Packages available.\n\nVIP Packages: https://stovehouse.ticketspice.com/stovefest-1000th-show…\n\nPUNCH OUT\, DANCE IN: Stovefest After Party 8:00pm – Midnight DJ Dance Party Free to AttendThe Electric Belle at Stovehouse – 3414 Governors Dr SW Suite 310
URL:https://hvilleblast.com/event/stovefest-after-party/
LOCATION:The Electric Belle at Stovehouse @ 3414 Governors Dr SW\, Huntsville\, AL\, United States
CATEGORIES:Dance,Festivals
ATTACH;FMTTYPE=image/jpeg:https://static.xx.fbcdn.net/images/emoji.php/v9/t50/2/16/1faa9.png
GEO:34.702327;-86.628864
END:VEVENT
BEGIN:VEVENT
DTSTART;TZID=America/Chicago:20251111T183000
DTEND;TZID=America/Chicago:20251111T220000
DTSTAMP:20260422T230934
CREATED:20251115T224537Z
LAST-MODIFIED:20251118T030606Z
UID:10019956-1762885800-1762898400@hvilleblast.com
SUMMARY:Free West Coast Swing Dancing Class in The Electric Belle!
DESCRIPTION:Join the Rocket Westies in The Electric Belle at Stovehouse every Tuesday at 6:30 pm for a FREE West Coast Swing Dancing Class\, followed by open dancing until 10 pm!
URL:https://hvilleblast.com/event/free-west-coast-swing-dancing-class-in-the-electric-belle-22/
LOCATION:The Electric Belle at Stovehouse @ 3414 Governors Dr SW\, Huntsville\, AL\, United States
CATEGORIES:Dance,Free Events,Live Music
ATTACH;FMTTYPE=image/jpeg:https://timelyapp-prod.s3.us-west-2.amazonaws.com/images/54704218/486330030_693843243174380_4034159177641609893_n_drjw.jpg
GEO:34.702327;-86.628864
END:VEVENT
BEGIN:VEVENT
DTSTART;TZID=America/Chicago:20251031T200000
DTEND;TZID=America/Chicago:20251101T000000
DTSTAMP:20260422T230934
CREATED:20251020T202424Z
LAST-MODIFIED:20251020T202424Z
UID:10019108-1761940800-1761955200@hvilleblast.com
SUMMARY:Zombie Prom 2025 x The Undead Dance Party
DESCRIPTION:DYING TO PARTY?!?! ZOMBIE PROM x The Undead Dance Party 🧟☠️🧟‍♀️ \n🧟‍♀️ Get ready for one killer night with two scary good vibes under one roof! 🧟‍♂️ \n🎶 Main Room (The Electric Belle): Get your groove on with the Pat Jamar & The Funky Few Band\, bringing those frightfully funky live tunes! \n🪩 Undead Dance Party (The Royal): Switch up the vibe and creep into our brand-new dance party hosted by Events By Trent\, where the DJ takes over to keep the monsters moving all night! \nSip on spooky drink specials + mocktail bar 🍸\, snack on eerie bites 🍕\, and show off your best look in a costume contest to die for ☠️. \nGET TICKETS 🎟:https://stovehouse.ticketspice.com/zombie-prom-2025?t=CC  \n  \n☠️THE DEVILISH DETAILS☠️: \n🧟 Zombie Prom 2025 x The Undead Dance Party 🧟\n📆 October 31\, 2025\n📍The Electric Belle – 3414 Governors Dr DW Suite 310\, Huntsville\, AL\n⏰ Doors Open: 7:30PM | Band/Party: 8:00PM – Midnight\n🎶 Main Room (The Electric Belle): Tunes by Pat Jamar & The Funky Few Band\n🪩 Undead Dance Party (The Royal): DJ dance party\n🍕 Late Night Food: 9:00PM – Midnight\n🎃 Costume Contest (Costumes of all kinds welcome)\n🍸 Scary Good Signature Drinks + Mocktail Bar\n☢️ 18+ to enter | 21+ to drink \n🎟General Admission: Limited Tickets | Prices will increase as ticket tiers sell out\n🎟VIP Admission: Limited Tickets | Prices will increase as ticket tiers sell out
URL:https://hvilleblast.com/event/zombie-prom-2025-x-the-undead-dance-party/
LOCATION:The Electric Belle at Stovehouse @ 3414 Governors Dr SW\, Huntsville\, AL\, United States
CATEGORIES:Dance
ATTACH;FMTTYPE=image/jpeg:https://hvilleblast.com/wp-content/uploads/2025/10/ZombieProm2025_EventPage.jpg
GEO:34.702327;-86.628864
END:VEVENT
BEGIN:VEVENT
DTSTART;TZID=America/Chicago:20251028T183000
DTEND;TZID=America/Chicago:20251028T220000
DTSTAMP:20260422T230934
CREATED:20251025T174232Z
LAST-MODIFIED:20251026T212752Z
UID:10019425-1761676200-1761688800@hvilleblast.com
SUMMARY:Free West Coast Swing Dancing Class in The Electric Belle!
DESCRIPTION:Join the Rocket Westies in The Electric Belle at Stovehouse every Tuesday at 6:30 pm for a FREE West Coast Swing Dancing Class\, followed by open dancing until 10 pm!
URL:https://hvilleblast.com/event/free-west-coast-swing-dancing-class-in-the-electric-belle-21/
LOCATION:The Electric Belle at Stovehouse @ 3414 Governors Dr SW\, Huntsville\, AL\, United States
CATEGORIES:Dance,Free Events,Live Music
ATTACH;FMTTYPE=image/jpeg:https://timelyapp-prod.s3.us-west-2.amazonaws.com/images/54704218/486330030_693843243174380_4034159177641609893_n_drjw.jpg
GEO:34.702327;-86.628864
END:VEVENT
BEGIN:VEVENT
DTSTART;TZID=America/Chicago:20251021T183000
DTEND;TZID=America/Chicago:20251021T220000
DTSTAMP:20260422T230934
CREATED:20251011T161306Z
LAST-MODIFIED:20251020T094223Z
UID:10019026-1761071400-1761084000@hvilleblast.com
SUMMARY:Free West Coast Swing Dancing Class in The Electric Belle!
DESCRIPTION:Join the Rocket Westies in The Electric Belle at Stovehouse every Tuesday at 6:30 pm for a FREE West Coast Swing Dancing Class\, followed by open dancing until 10 pm!
URL:https://hvilleblast.com/event/free-west-coast-swing-dancing-class-in-the-electric-belle-20/
LOCATION:The Electric Belle at Stovehouse @ 3414 Governors Dr SW\, Huntsville\, AL\, United States
CATEGORIES:Dance,Free Events,Live Music
ATTACH;FMTTYPE=image/jpeg:https://timelyapp-prod.s3.us-west-2.amazonaws.com/images/54704218/486330030_693843243174380_4034159177641609893_n_drjw.jpg
GEO:34.702327;-86.628864
END:VEVENT
BEGIN:VEVENT
DTSTART;TZID=America/Chicago:20251014T183000
DTEND;TZID=America/Chicago:20251014T220000
DTSTAMP:20260422T230934
CREATED:20251011T142731Z
LAST-MODIFIED:20251014T161209Z
UID:10018937-1760466600-1760479200@hvilleblast.com
SUMMARY:Free West Coast Swing Dancing Class in The Electric Belle!
DESCRIPTION:Join the Rocket Westies in The Electric Belle at Stovehouse every Tuesday at 6:30 pm for a FREE West Coast Swing Dancing Class\, followed by open dancing until 10 pm!
URL:https://hvilleblast.com/event/free-west-coast-swing-dancing-class-in-the-electric-belle-19/
LOCATION:The Electric Belle at Stovehouse @ 3414 Governors Dr SW\, Huntsville\, AL\, United States
CATEGORIES:Dance,Free Events,Live Music
ATTACH;FMTTYPE=image/jpeg:https://timelyapp-prod.s3.us-west-2.amazonaws.com/images/54704218/486330030_693843243174380_4034159177641609893_n_drjw.jpg
GEO:34.702327;-86.628864
END:VEVENT
BEGIN:VEVENT
DTSTART;TZID=America/Chicago:20250923T183000
DTEND;TZID=America/Chicago:20250923T220000
DTSTAMP:20260422T230934
CREATED:20250916T015802Z
LAST-MODIFIED:20250923T184238Z
UID:10015995-1758652200-1758664800@hvilleblast.com
SUMMARY:Free West Coast Swing Dancing Class in The Electric Belle!
DESCRIPTION:Join the Rocket Westies in The Electric Belle at Stovehouse every Tuesday at 6:30 pm for a FREE West Coast Swing Dancing Class\, followed by open dancing until 10 pm!
URL:https://hvilleblast.com/event/free-west-coast-swing-dancing-class-in-the-electric-belle-18/
LOCATION:The Electric Belle at Stovehouse @ 3414 Governors Dr SW\, Huntsville\, AL\, United States
CATEGORIES:Dance,Free Events,Live Music
ATTACH;FMTTYPE=image/jpeg:https://timelyapp-prod.s3.us-west-2.amazonaws.com/images/54704218/486330030_693843243174380_4034159177641609893_n_drjw.jpg
GEO:34.702327;-86.628864
END:VEVENT
BEGIN:VEVENT
DTSTART;TZID=America/Chicago:20250921T160000
DTEND;TZID=America/Chicago:20250921T200000
DTSTAMP:20260422T230934
CREATED:20250916T022836Z
LAST-MODIFIED:20250921T141228Z
UID:10016055-1758470400-1758484800@hvilleblast.com
SUMMARY:Working Class Blues Festival at The Electric Belle
DESCRIPTION:Step into the soul of the South with the Working Class Blues Festival\, a celebration of southern grit\, soul\, and a WHOLE lot of blues.  \nFrom the down-home grit of Blues of Steel\, to the soul-shaking jams of Astronomical Blues Society\, the once-in-a-lifetime powerhouse of Otis Walker & The North Alabama All Stars\, and the foot-stomping fire of Working Class Jones\, this lineup brings together the best of local legends and regional heavy-hitters to pour the heart of the blues straight into Huntsville. \nAnd the best part? Every ticket supports WLRH 89.3FM\, helping keep public arts alive and thriving in the Huntsville community. \nWorking Class Blues Festival Sunday\, September 21\, 2025 Doors: 3:30pm | Show: 4:00pm – 8:00pm The Electric Belle – 3414 Governors Dr DW Suite 310\, Huntsville\, AL $10 – https://stovehouse.ticketspice.com/working-class-blues-festival?t=cc
URL:https://hvilleblast.com/event/working-class-blues-festival-at-the-electric-belle/
LOCATION:The Electric Belle at Stovehouse @ 3414 Governors Dr SW\, Huntsville\, AL\, United States
CATEGORIES:Live Music
ATTACH;FMTTYPE=image/jpeg:https://timelyapp-prod.s3.us-west-2.amazonaws.com/images/54704218/Workingclassevent_gSnT.jpg
GEO:34.702327;-86.628864
END:VEVENT
BEGIN:VEVENT
DTSTART;TZID=America/Chicago:20250919T190000
DTEND;TZID=America/Chicago:20250919T220000
DTSTAMP:20260422T230934
CREATED:20250916T022817Z
LAST-MODIFIED:20250918T025745Z
UID:10016046-1758308400-1758319200@hvilleblast.com
SUMMARY:The Supply Chain: A Tribute To The Warped Tour
DESCRIPTION:Get ready to turn back the clock and crank up the volume! The Supply Chain is bringing the raw energy and rebellious spirit of Warped Tour to the Electric Belle stage!\nThis tribute show celebrates the punk\, rock\, and alt anthems that defined a generation\, with a powerhouse setlist featuring blink-182\, Green Day\, NOFX\, New Found Glory\, and more.\n \nThe Supply Chain: A Tribute To The Warped Tour September 19\, 2025 Doors Open: 6:30pm | Show: 7:00pmThe Electric Belle – 3414 Governors Dr DW Suite 310\, Huntsville\, AL Ticketed Event – TICKETS HERE
URL:https://hvilleblast.com/event/the-supply-chain-a-tribute-to-the-warped-tour-2/
LOCATION:The Electric Belle at Stovehouse @ 3414 Governors Dr SW\, Huntsville\, AL\, United States
CATEGORIES:Live Music
ATTACH;FMTTYPE=image/jpeg:https://timelyapp-prod.s3.us-west-2.amazonaws.com/images/54704218/SupplyChain_Event_0ETh.jpg
GEO:34.702327;-86.628864
END:VEVENT
END:VCALENDAR