BEGIN:VCALENDAR
VERSION:2.0
PRODID:-//Hville Blast - ECPv6.15.20//NONSGML v1.0//EN
CALSCALE:GREGORIAN
METHOD:PUBLISH
X-WR-CALNAME:Hville Blast
X-ORIGINAL-URL:https://hvilleblast.com
X-WR-CALDESC:Events for Hville Blast
REFRESH-INTERVAL;VALUE=DURATION:PT1H
X-Robots-Tag:noindex
X-PUBLISHED-TTL:PT1H
BEGIN:VTIMEZONE
TZID:America/Chicago
BEGIN:DAYLIGHT
TZOFFSETFROM:-0600
TZOFFSETTO:-0500
TZNAME:CDT
DTSTART:20250309T080000
END:DAYLIGHT
BEGIN:STANDARD
TZOFFSETFROM:-0500
TZOFFSETTO:-0600
TZNAME:CST
DTSTART:20251102T070000
END:STANDARD
BEGIN:DAYLIGHT
TZOFFSETFROM:-0600
TZOFFSETTO:-0500
TZNAME:CDT
DTSTART:20260308T080000
END:DAYLIGHT
BEGIN:STANDARD
TZOFFSETFROM:-0500
TZOFFSETTO:-0600
TZNAME:CST
DTSTART:20261101T070000
END:STANDARD
BEGIN:DAYLIGHT
TZOFFSETFROM:-0600
TZOFFSETTO:-0500
TZNAME:CDT
DTSTART:20270314T080000
END:DAYLIGHT
BEGIN:STANDARD
TZOFFSETFROM:-0500
TZOFFSETTO:-0600
TZNAME:CST
DTSTART:20271107T070000
END:STANDARD
END:VTIMEZONE
BEGIN:VEVENT
DTSTART;TZID=America/Chicago:20260414T173000
DTEND;TZID=America/Chicago:20260414T183000
DTSTAMP:20260422T142639
CREATED:20260417T041304Z
LAST-MODIFIED:20260417T041304Z
UID:10024687-1776187800-1776191400@hvilleblast.com
SUMMARY:Free Fitness Tuesdays with The Cardio Factory
DESCRIPTION:Ready to break a sweat? \n  \nJoin The Cardio Factory for a free Step Aerobics session in partnership with The Orion Amphitheater! Come out for an energetic workout that’s fun\, different\, and perfect for all fitness levels. Bring a friend and step into something new! Reserve yours spot today at theorionhuntsville.com. 
URL:https://hvilleblast.com/event/free-fitness-tuesdays-with-the-cardio-factory-46/
LOCATION:The Orion Amphitheater @ 701 Amphitheater Drive\, Huntsville\, AL\, United States
ATTACH;FMTTYPE=image/jpeg:https://timelyapp-prod.s3.us-west-2.amazonaws.com/images/54704218/CardioFactory_FLVR.jpg
GEO:34.702327;-86.628864
END:VEVENT
BEGIN:VEVENT
DTSTART;TZID=America/Chicago:20260414T173000
DTEND;TZID=America/Chicago:20260414T183000
DTSTAMP:20260422T142639
CREATED:20260417T032803Z
LAST-MODIFIED:20260417T032803Z
UID:10024686-1776187800-1776191400@hvilleblast.com
SUMMARY:Free Fitness Tuesdays with The Cardio Factory
DESCRIPTION:Ready to break a sweat? \n  \nJoin The Cardio Factory for a free Step Aerobics session in partnership with The Orion Amphitheater! Come out for an energetic workout that’s fun\, different\, and perfect for all fitness levels. Bring a friend and step into something new! Reserve yours spot today at theorionhuntsville.com. 
URL:https://hvilleblast.com/event/free-fitness-tuesdays-with-the-cardio-factory-45/
LOCATION:The Orion Amphitheater @ 701 Amphitheater Drive\, Huntsville\, AL\, United States
ATTACH;FMTTYPE=image/jpeg:https://timelyapp-prod.s3.us-west-2.amazonaws.com/images/54704218/CardioFactory_FLVR.jpg
GEO:34.702327;-86.628864
END:VEVENT
BEGIN:VEVENT
DTSTART;TZID=America/Chicago:20260414T173000
DTEND;TZID=America/Chicago:20260414T183000
DTSTAMP:20260422T142639
CREATED:20260417T022804Z
LAST-MODIFIED:20260417T022804Z
UID:10024685-1776187800-1776191400@hvilleblast.com
SUMMARY:Free Fitness Tuesdays with The Cardio Factory
DESCRIPTION:Ready to break a sweat? \n  \nJoin The Cardio Factory for a free Step Aerobics session in partnership with The Orion Amphitheater! Come out for an energetic workout that’s fun\, different\, and perfect for all fitness levels. Bring a friend and step into something new! Reserve yours spot today at theorionhuntsville.com. 
URL:https://hvilleblast.com/event/free-fitness-tuesdays-with-the-cardio-factory-44/
LOCATION:The Orion Amphitheater @ 701 Amphitheater Drive\, Huntsville\, AL\, United States
ATTACH;FMTTYPE=image/jpeg:https://timelyapp-prod.s3.us-west-2.amazonaws.com/images/54704218/CardioFactory_FLVR.jpg
GEO:34.702327;-86.628864
END:VEVENT
BEGIN:VEVENT
DTSTART;TZID=America/Chicago:20260414T173000
DTEND;TZID=America/Chicago:20260414T183000
DTSTAMP:20260422T142639
CREATED:20260416T101304Z
LAST-MODIFIED:20260416T101304Z
UID:10024683-1776187800-1776191400@hvilleblast.com
SUMMARY:Free Fitness Tuesdays with The Cardio Factory
DESCRIPTION:Ready to break a sweat? \n  \nJoin The Cardio Factory for a free Step Aerobics session in partnership with The Orion Amphitheater! Come out for an energetic workout that’s fun\, different\, and perfect for all fitness levels. Bring a friend and step into something new! Reserve yours spot today at theorionhuntsville.com. 
URL:https://hvilleblast.com/event/free-fitness-tuesdays-with-the-cardio-factory-43/
LOCATION:The Orion Amphitheater @ 701 Amphitheater Drive\, Huntsville\, AL\, United States
ATTACH;FMTTYPE=image/jpeg:https://timelyapp-prod.s3.us-west-2.amazonaws.com/images/54704218/CardioFactory_FLVR.jpg
GEO:34.702327;-86.628864
END:VEVENT
BEGIN:VEVENT
DTSTART;TZID=America/Chicago:20260414T173000
DTEND;TZID=America/Chicago:20260414T183000
DTSTAMP:20260422T142639
CREATED:20260416T091304Z
LAST-MODIFIED:20260416T091304Z
UID:10024682-1776187800-1776191400@hvilleblast.com
SUMMARY:Free Fitness Tuesdays with The Cardio Factory
DESCRIPTION:Ready to break a sweat? \n  \nJoin The Cardio Factory for a free Step Aerobics session in partnership with The Orion Amphitheater! Come out for an energetic workout that’s fun\, different\, and perfect for all fitness levels. Bring a friend and step into something new! Reserve yours spot today at theorionhuntsville.com. 
URL:https://hvilleblast.com/event/free-fitness-tuesdays-with-the-cardio-factory-42/
LOCATION:The Orion Amphitheater @ 701 Amphitheater Drive\, Huntsville\, AL\, United States
ATTACH;FMTTYPE=image/jpeg:https://timelyapp-prod.s3.us-west-2.amazonaws.com/images/54704218/CardioFactory_FLVR.jpg
GEO:34.702327;-86.628864
END:VEVENT
BEGIN:VEVENT
DTSTART;TZID=America/Chicago:20260414T173000
DTEND;TZID=America/Chicago:20260414T183000
DTSTAMP:20260422T142639
CREATED:20260416T085803Z
LAST-MODIFIED:20260416T085803Z
UID:10024681-1776187800-1776191400@hvilleblast.com
SUMMARY:Free Fitness Tuesdays with The Cardio Factory
DESCRIPTION:Ready to break a sweat? \n  \nJoin The Cardio Factory for a free Step Aerobics session in partnership with The Orion Amphitheater! Come out for an energetic workout that’s fun\, different\, and perfect for all fitness levels. Bring a friend and step into something new! Reserve yours spot today at theorionhuntsville.com. 
URL:https://hvilleblast.com/event/free-fitness-tuesdays-with-the-cardio-factory-41/
LOCATION:The Orion Amphitheater @ 701 Amphitheater Drive\, Huntsville\, AL\, United States
ATTACH;FMTTYPE=image/jpeg:https://timelyapp-prod.s3.us-west-2.amazonaws.com/images/54704218/CardioFactory_FLVR.jpg
GEO:34.702327;-86.628864
END:VEVENT
BEGIN:VEVENT
DTSTART;TZID=America/Chicago:20260414T173000
DTEND;TZID=America/Chicago:20260414T183000
DTSTAMP:20260422T142639
CREATED:20260416T082803Z
LAST-MODIFIED:20260416T082803Z
UID:10024680-1776187800-1776191400@hvilleblast.com
SUMMARY:Free Fitness Tuesdays with The Cardio Factory
DESCRIPTION:Ready to break a sweat? \n  \nJoin The Cardio Factory for a free Step Aerobics session in partnership with The Orion Amphitheater! Come out for an energetic workout that’s fun\, different\, and perfect for all fitness levels. Bring a friend and step into something new! Reserve yours spot today at theorionhuntsville.com. 
URL:https://hvilleblast.com/event/free-fitness-tuesdays-with-the-cardio-factory-40/
LOCATION:The Orion Amphitheater @ 701 Amphitheater Drive\, Huntsville\, AL\, United States
ATTACH;FMTTYPE=image/jpeg:https://timelyapp-prod.s3.us-west-2.amazonaws.com/images/54704218/CardioFactory_FLVR.jpg
GEO:34.702327;-86.628864
END:VEVENT
BEGIN:VEVENT
DTSTART;TZID=America/Chicago:20260414T173000
DTEND;TZID=America/Chicago:20260414T183000
DTSTAMP:20260422T142639
CREATED:20260416T055803Z
LAST-MODIFIED:20260416T055803Z
UID:10024679-1776187800-1776191400@hvilleblast.com
SUMMARY:Free Fitness Tuesdays with The Cardio Factory
DESCRIPTION:Ready to break a sweat? \n  \nJoin The Cardio Factory for a free Step Aerobics session in partnership with The Orion Amphitheater! Come out for an energetic workout that’s fun\, different\, and perfect for all fitness levels. Bring a friend and step into something new! Reserve yours spot today at theorionhuntsville.com. 
URL:https://hvilleblast.com/event/free-fitness-tuesdays-with-the-cardio-factory-39/
LOCATION:The Orion Amphitheater @ 701 Amphitheater Drive\, Huntsville\, AL\, United States
ATTACH;FMTTYPE=image/jpeg:https://timelyapp-prod.s3.us-west-2.amazonaws.com/images/54704218/CardioFactory_FLVR.jpg
GEO:34.702327;-86.628864
END:VEVENT
BEGIN:VEVENT
DTSTART;TZID=America/Chicago:20260414T173000
DTEND;TZID=America/Chicago:20260414T183000
DTSTAMP:20260422T142639
CREATED:20260416T034304Z
LAST-MODIFIED:20260416T034304Z
UID:10024678-1776187800-1776191400@hvilleblast.com
SUMMARY:Free Fitness Tuesdays with The Cardio Factory
DESCRIPTION:Ready to break a sweat? \n  \nJoin The Cardio Factory for a free Step Aerobics session in partnership with The Orion Amphitheater! Come out for an energetic workout that’s fun\, different\, and perfect for all fitness levels. Bring a friend and step into something new! Reserve yours spot today at theorionhuntsville.com. 
URL:https://hvilleblast.com/event/free-fitness-tuesdays-with-the-cardio-factory-38/
LOCATION:The Orion Amphitheater @ 701 Amphitheater Drive\, Huntsville\, AL\, United States
ATTACH;FMTTYPE=image/jpeg:https://timelyapp-prod.s3.us-west-2.amazonaws.com/images/54704218/CardioFactory_FLVR.jpg
GEO:34.702327;-86.628864
END:VEVENT
BEGIN:VEVENT
DTSTART;TZID=America/Chicago:20260414T173000
DTEND;TZID=America/Chicago:20260414T183000
DTSTAMP:20260422T142639
CREATED:20260416T031603Z
LAST-MODIFIED:20260416T031603Z
UID:10024677-1776187800-1776191400@hvilleblast.com
SUMMARY:Free Fitness Tuesdays with The Cardio Factory
DESCRIPTION:Ready to break a sweat? \n  \nJoin The Cardio Factory for a free Step Aerobics session in partnership with The Orion Amphitheater! Come out for an energetic workout that’s fun\, different\, and perfect for all fitness levels. Bring a friend and step into something new! Reserve yours spot today at theorionhuntsville.com. 
URL:https://hvilleblast.com/event/free-fitness-tuesdays-with-the-cardio-factory-37/
LOCATION:The Orion Amphitheater @ 701 Amphitheater Drive\, Huntsville\, AL\, United States
ATTACH;FMTTYPE=image/jpeg:https://timelyapp-prod.s3.us-west-2.amazonaws.com/images/54704218/CardioFactory_FLVR.jpg
GEO:34.702327;-86.628864
END:VEVENT
BEGIN:VEVENT
DTSTART;TZID=America/Chicago:20260414T173000
DTEND;TZID=America/Chicago:20260414T183000
DTSTAMP:20260422T142639
CREATED:20260416T021303Z
LAST-MODIFIED:20260416T021303Z
UID:10024676-1776187800-1776191400@hvilleblast.com
SUMMARY:Free Fitness Tuesdays with The Cardio Factory
DESCRIPTION:Ready to break a sweat? \n  \nJoin The Cardio Factory for a free Step Aerobics session in partnership with The Orion Amphitheater! Come out for an energetic workout that’s fun\, different\, and perfect for all fitness levels. Bring a friend and step into something new! Reserve yours spot today at theorionhuntsville.com. 
URL:https://hvilleblast.com/event/free-fitness-tuesdays-with-the-cardio-factory-36/
LOCATION:The Orion Amphitheater @ 701 Amphitheater Drive\, Huntsville\, AL\, United States
ATTACH;FMTTYPE=image/jpeg:https://timelyapp-prod.s3.us-west-2.amazonaws.com/images/54704218/CardioFactory_FLVR.jpg
GEO:34.702327;-86.628864
END:VEVENT
BEGIN:VEVENT
DTSTART;TZID=America/Chicago:20260414T173000
DTEND;TZID=America/Chicago:20260414T183000
DTSTAMP:20260422T142639
CREATED:20260415T095803Z
LAST-MODIFIED:20260415T095803Z
UID:10024671-1776187800-1776191400@hvilleblast.com
SUMMARY:Free Fitness Tuesdays with The Cardio Factory
DESCRIPTION:Ready to break a sweat? \n  \nJoin The Cardio Factory for a free Step Aerobics session in partnership with The Orion Amphitheater! Come out for an energetic workout that’s fun\, different\, and perfect for all fitness levels. Bring a friend and step into something new! Reserve yours spot today at theorionhuntsville.com. 
URL:https://hvilleblast.com/event/free-fitness-tuesdays-with-the-cardio-factory-35/
LOCATION:The Orion Amphitheater @ 701 Amphitheater Drive\, Huntsville\, AL\, United States
ATTACH;FMTTYPE=image/jpeg:https://timelyapp-prod.s3.us-west-2.amazonaws.com/images/54704218/CardioFactory_FLVR.jpg
GEO:34.702327;-86.628864
END:VEVENT
BEGIN:VEVENT
DTSTART;TZID=America/Chicago:20260414T173000
DTEND;TZID=America/Chicago:20260414T183000
DTSTAMP:20260422T142639
CREATED:20260415T085803Z
LAST-MODIFIED:20260415T085803Z
UID:10024670-1776187800-1776191400@hvilleblast.com
SUMMARY:Free Fitness Tuesdays with The Cardio Factory
DESCRIPTION:Ready to break a sweat? \n  \nJoin The Cardio Factory for a free Step Aerobics session in partnership with The Orion Amphitheater! Come out for an energetic workout that’s fun\, different\, and perfect for all fitness levels. Bring a friend and step into something new! Reserve yours spot today at theorionhuntsville.com. 
URL:https://hvilleblast.com/event/free-fitness-tuesdays-with-the-cardio-factory-34/
LOCATION:The Orion Amphitheater @ 701 Amphitheater Drive\, Huntsville\, AL\, United States
ATTACH;FMTTYPE=image/jpeg:https://timelyapp-prod.s3.us-west-2.amazonaws.com/images/54704218/CardioFactory_FLVR.jpg
GEO:34.702327;-86.628864
END:VEVENT
BEGIN:VEVENT
DTSTART;TZID=America/Chicago:20260414T173000
DTEND;TZID=America/Chicago:20260414T183000
DTSTAMP:20260422T142639
CREATED:20260415T084303Z
LAST-MODIFIED:20260415T084303Z
UID:10024669-1776187800-1776191400@hvilleblast.com
SUMMARY:Free Fitness Tuesdays with The Cardio Factory
DESCRIPTION:Ready to break a sweat? \n  \nJoin The Cardio Factory for a free Step Aerobics session in partnership with The Orion Amphitheater! Come out for an energetic workout that’s fun\, different\, and perfect for all fitness levels. Bring a friend and step into something new! Reserve yours spot today at theorionhuntsville.com. 
URL:https://hvilleblast.com/event/free-fitness-tuesdays-with-the-cardio-factory-33/
LOCATION:The Orion Amphitheater @ 701 Amphitheater Drive\, Huntsville\, AL\, United States
ATTACH;FMTTYPE=image/jpeg:https://timelyapp-prod.s3.us-west-2.amazonaws.com/images/54704218/CardioFactory_FLVR.jpg
GEO:34.702327;-86.628864
END:VEVENT
BEGIN:VEVENT
DTSTART;TZID=America/Chicago:20260414T173000
DTEND;TZID=America/Chicago:20260414T183000
DTSTAMP:20260422T142639
CREATED:20260415T081303Z
LAST-MODIFIED:20260415T081303Z
UID:10024668-1776187800-1776191400@hvilleblast.com
SUMMARY:Free Fitness Tuesdays with The Cardio Factory
DESCRIPTION:Ready to break a sweat? \n  \nJoin The Cardio Factory for a free Step Aerobics session in partnership with The Orion Amphitheater! Come out for an energetic workout that’s fun\, different\, and perfect for all fitness levels. Bring a friend and step into something new! Reserve yours spot today at theorionhuntsville.com. 
URL:https://hvilleblast.com/event/free-fitness-tuesdays-with-the-cardio-factory-32/
LOCATION:The Orion Amphitheater @ 701 Amphitheater Drive\, Huntsville\, AL\, United States
ATTACH;FMTTYPE=image/jpeg:https://timelyapp-prod.s3.us-west-2.amazonaws.com/images/54704218/CardioFactory_FLVR.jpg
GEO:34.702327;-86.628864
END:VEVENT
BEGIN:VEVENT
DTSTART;TZID=America/Chicago:20260414T173000
DTEND;TZID=America/Chicago:20260414T183000
DTSTAMP:20260422T142639
CREATED:20260415T054304Z
LAST-MODIFIED:20260415T054304Z
UID:10024667-1776187800-1776191400@hvilleblast.com
SUMMARY:Free Fitness Tuesdays with The Cardio Factory
DESCRIPTION:Ready to break a sweat? \n  \nJoin The Cardio Factory for a free Step Aerobics session in partnership with The Orion Amphitheater! Come out for an energetic workout that’s fun\, different\, and perfect for all fitness levels. Bring a friend and step into something new! Reserve yours spot today at theorionhuntsville.com. 
URL:https://hvilleblast.com/event/free-fitness-tuesdays-with-the-cardio-factory-31/
LOCATION:The Orion Amphitheater @ 701 Amphitheater Drive\, Huntsville\, AL\, United States
ATTACH;FMTTYPE=image/jpeg:https://timelyapp-prod.s3.us-west-2.amazonaws.com/images/54704218/CardioFactory_FLVR.jpg
GEO:34.702327;-86.628864
END:VEVENT
BEGIN:VEVENT
DTSTART;TZID=America/Chicago:20260414T173000
DTEND;TZID=America/Chicago:20260414T183000
DTSTAMP:20260422T142639
CREATED:20260415T032904Z
LAST-MODIFIED:20260415T032904Z
UID:10024666-1776187800-1776191400@hvilleblast.com
SUMMARY:Free Fitness Tuesdays with The Cardio Factory
DESCRIPTION:Ready to break a sweat? \n  \nJoin The Cardio Factory for a free Step Aerobics session in partnership with The Orion Amphitheater! Come out for an energetic workout that’s fun\, different\, and perfect for all fitness levels. Bring a friend and step into something new! Reserve yours spot today at theorionhuntsville.com. 
URL:https://hvilleblast.com/event/free-fitness-tuesdays-with-the-cardio-factory-30/
LOCATION:The Orion Amphitheater @ 701 Amphitheater Drive\, Huntsville\, AL\, United States
ATTACH;FMTTYPE=image/jpeg:https://timelyapp-prod.s3.us-west-2.amazonaws.com/images/54704218/CardioFactory_FLVR.jpg
GEO:34.702327;-86.628864
END:VEVENT
BEGIN:VEVENT
DTSTART;TZID=America/Chicago:20260414T173000
DTEND;TZID=America/Chicago:20260414T183000
DTSTAMP:20260422T142639
CREATED:20260415T031403Z
LAST-MODIFIED:20260415T031403Z
UID:10024665-1776187800-1776191400@hvilleblast.com
SUMMARY:Free Fitness Tuesdays with The Cardio Factory
DESCRIPTION:Ready to break a sweat? \n  \nJoin The Cardio Factory for a free Step Aerobics session in partnership with The Orion Amphitheater! Come out for an energetic workout that’s fun\, different\, and perfect for all fitness levels. Bring a friend and step into something new! Reserve yours spot today at theorionhuntsville.com. 
URL:https://hvilleblast.com/event/free-fitness-tuesdays-with-the-cardio-factory-29/
LOCATION:The Orion Amphitheater @ 701 Amphitheater Drive\, Huntsville\, AL\, United States
ATTACH;FMTTYPE=image/jpeg:https://timelyapp-prod.s3.us-west-2.amazonaws.com/images/54704218/CardioFactory_FLVR.jpg
GEO:34.702327;-86.628864
END:VEVENT
BEGIN:VEVENT
DTSTART;TZID=America/Chicago:20260414T173000
DTEND;TZID=America/Chicago:20260414T183000
DTSTAMP:20260422T142639
CREATED:20260415T015803Z
LAST-MODIFIED:20260415T015803Z
UID:10024664-1776187800-1776191400@hvilleblast.com
SUMMARY:Free Fitness Tuesdays with The Cardio Factory
DESCRIPTION:Ready to break a sweat? \n  \nJoin The Cardio Factory for a free Step Aerobics session in partnership with The Orion Amphitheater! Come out for an energetic workout that’s fun\, different\, and perfect for all fitness levels. Bring a friend and step into something new! Reserve yours spot today at theorionhuntsville.com. 
URL:https://hvilleblast.com/event/free-fitness-tuesdays-with-the-cardio-factory-28/
LOCATION:The Orion Amphitheater @ 701 Amphitheater Drive\, Huntsville\, AL\, United States
ATTACH;FMTTYPE=image/jpeg:https://timelyapp-prod.s3.us-west-2.amazonaws.com/images/54704218/CardioFactory_FLVR.jpg
GEO:34.702327;-86.628864
END:VEVENT
BEGIN:VEVENT
DTSTART;TZID=America/Chicago:20260414T173000
DTEND;TZID=America/Chicago:20260414T183000
DTSTAMP:20260422T142639
CREATED:20260414T094303Z
LAST-MODIFIED:20260414T094303Z
UID:10024661-1776187800-1776191400@hvilleblast.com
SUMMARY:Free Fitness Tuesdays with The Cardio Factory
DESCRIPTION:Ready to break a sweat? \n  \nJoin The Cardio Factory for a free Step Aerobics session in partnership with The Orion Amphitheater! Come out for an energetic workout that’s fun\, different\, and perfect for all fitness levels. Bring a friend and step into something new! Reserve yours spot today at theorionhuntsville.com. 
URL:https://hvilleblast.com/event/free-fitness-tuesdays-with-the-cardio-factory-27/
LOCATION:The Orion Amphitheater @ 701 Amphitheater Drive\, Huntsville\, AL\, United States
ATTACH;FMTTYPE=image/jpeg:https://timelyapp-prod.s3.us-west-2.amazonaws.com/images/54704218/CardioFactory_FLVR.jpg
GEO:34.702327;-86.628864
END:VEVENT
BEGIN:VEVENT
DTSTART;TZID=America/Chicago:20260414T173000
DTEND;TZID=America/Chicago:20260414T183000
DTSTAMP:20260422T142639
CREATED:20260414T084303Z
LAST-MODIFIED:20260414T084303Z
UID:10024660-1776187800-1776191400@hvilleblast.com
SUMMARY:Free Fitness Tuesdays with The Cardio Factory
DESCRIPTION:Ready to break a sweat? \n  \nJoin The Cardio Factory for a free Step Aerobics session in partnership with The Orion Amphitheater! Come out for an energetic workout that’s fun\, different\, and perfect for all fitness levels. Bring a friend and step into something new! Reserve yours spot today at theorionhuntsville.com. 
URL:https://hvilleblast.com/event/free-fitness-tuesdays-with-the-cardio-factory-26/
LOCATION:The Orion Amphitheater @ 701 Amphitheater Drive\, Huntsville\, AL\, United States
ATTACH;FMTTYPE=image/jpeg:https://timelyapp-prod.s3.us-west-2.amazonaws.com/images/54704218/CardioFactory_FLVR.jpg
GEO:34.702327;-86.628864
END:VEVENT
BEGIN:VEVENT
DTSTART;TZID=America/Chicago:20260414T173000
DTEND;TZID=America/Chicago:20260414T183000
DTSTAMP:20260422T142639
CREATED:20260414T082803Z
LAST-MODIFIED:20260414T082803Z
UID:10024659-1776187800-1776191400@hvilleblast.com
SUMMARY:Free Fitness Tuesdays with The Cardio Factory
DESCRIPTION:Ready to break a sweat? \n  \nJoin The Cardio Factory for a free Step Aerobics session in partnership with The Orion Amphitheater! Come out for an energetic workout that’s fun\, different\, and perfect for all fitness levels. Bring a friend and step into something new! Reserve yours spot today at theorionhuntsville.com. 
URL:https://hvilleblast.com/event/free-fitness-tuesdays-with-the-cardio-factory-25/
LOCATION:The Orion Amphitheater @ 701 Amphitheater Drive\, Huntsville\, AL\, United States
ATTACH;FMTTYPE=image/jpeg:https://timelyapp-prod.s3.us-west-2.amazonaws.com/images/54704218/CardioFactory_FLVR.jpg
GEO:34.702327;-86.628864
END:VEVENT
BEGIN:VEVENT
DTSTART;TZID=America/Chicago:20260414T173000
DTEND;TZID=America/Chicago:20260414T183000
DTSTAMP:20260422T142639
CREATED:20260414T075803Z
LAST-MODIFIED:20260414T075803Z
UID:10024658-1776187800-1776191400@hvilleblast.com
SUMMARY:Free Fitness Tuesdays with The Cardio Factory
DESCRIPTION:Ready to break a sweat? \n  \nJoin The Cardio Factory for a free Step Aerobics session in partnership with The Orion Amphitheater! Come out for an energetic workout that’s fun\, different\, and perfect for all fitness levels. Bring a friend and step into something new! Reserve yours spot today at theorionhuntsville.com. 
URL:https://hvilleblast.com/event/free-fitness-tuesdays-with-the-cardio-factory-24/
LOCATION:The Orion Amphitheater @ 701 Amphitheater Drive\, Huntsville\, AL\, United States
ATTACH;FMTTYPE=image/jpeg:https://timelyapp-prod.s3.us-west-2.amazonaws.com/images/54704218/CardioFactory_FLVR.jpg
GEO:34.702327;-86.628864
END:VEVENT
BEGIN:VEVENT
DTSTART;TZID=America/Chicago:20260414T173000
DTEND;TZID=America/Chicago:20260414T183000
DTSTAMP:20260422T142639
CREATED:20260414T052803Z
LAST-MODIFIED:20260414T052803Z
UID:10024657-1776187800-1776191400@hvilleblast.com
SUMMARY:Free Fitness Tuesdays with The Cardio Factory
DESCRIPTION:Ready to break a sweat? \n  \nJoin The Cardio Factory for a free Step Aerobics session in partnership with The Orion Amphitheater! Come out for an energetic workout that’s fun\, different\, and perfect for all fitness levels. Bring a friend and step into something new! Reserve yours spot today at theorionhuntsville.com. 
URL:https://hvilleblast.com/event/free-fitness-tuesdays-with-the-cardio-factory-23/
LOCATION:The Orion Amphitheater @ 701 Amphitheater Drive\, Huntsville\, AL\, United States
ATTACH;FMTTYPE=image/jpeg:https://timelyapp-prod.s3.us-west-2.amazonaws.com/images/54704218/CardioFactory_FLVR.jpg
GEO:34.702327;-86.628864
END:VEVENT
BEGIN:VEVENT
DTSTART;TZID=America/Chicago:20260414T173000
DTEND;TZID=America/Chicago:20260414T183000
DTSTAMP:20260422T142639
CREATED:20260414T025903Z
LAST-MODIFIED:20260414T025903Z
UID:10024656-1776187800-1776191400@hvilleblast.com
SUMMARY:Free Fitness Tuesdays with The Cardio Factory
DESCRIPTION:Ready to break a sweat? \n  \nJoin The Cardio Factory for a free Step Aerobics session in partnership with The Orion Amphitheater! Come out for an energetic workout that’s fun\, different\, and perfect for all fitness levels. Bring a friend and step into something new! Reserve yours spot today at theorionhuntsville.com. 
URL:https://hvilleblast.com/event/free-fitness-tuesdays-with-the-cardio-factory-22/
LOCATION:The Orion Amphitheater @ 701 Amphitheater Drive\, Huntsville\, AL\, United States
ATTACH;FMTTYPE=image/jpeg:https://timelyapp-prod.s3.us-west-2.amazonaws.com/images/54704218/CardioFactory_FLVR.jpg
GEO:34.702327;-86.628864
END:VEVENT
BEGIN:VEVENT
DTSTART;TZID=America/Chicago:20260414T173000
DTEND;TZID=America/Chicago:20260414T183000
DTSTAMP:20260422T142639
CREATED:20260414T022903Z
LAST-MODIFIED:20260414T022903Z
UID:10024655-1776187800-1776191400@hvilleblast.com
SUMMARY:Free Fitness Tuesdays with The Cardio Factory
DESCRIPTION:Ready to break a sweat? \n  \nJoin The Cardio Factory for a free Step Aerobics session in partnership with The Orion Amphitheater! Come out for an energetic workout that’s fun\, different\, and perfect for all fitness levels. Bring a friend and step into something new! Reserve yours spot today at theorionhuntsville.com. 
URL:https://hvilleblast.com/event/free-fitness-tuesdays-with-the-cardio-factory-21/
LOCATION:The Orion Amphitheater @ 701 Amphitheater Drive\, Huntsville\, AL\, United States
ATTACH;FMTTYPE=image/jpeg:https://timelyapp-prod.s3.us-west-2.amazonaws.com/images/54704218/CardioFactory_FLVR.jpg
GEO:34.702327;-86.628864
END:VEVENT
BEGIN:VEVENT
DTSTART;TZID=America/Chicago:20260414T173000
DTEND;TZID=America/Chicago:20260414T183000
DTSTAMP:20260422T142639
CREATED:20260414T021403Z
LAST-MODIFIED:20260414T021403Z
UID:10024654-1776187800-1776191400@hvilleblast.com
SUMMARY:Free Fitness Tuesdays with The Cardio Factory
DESCRIPTION:Ready to break a sweat? \n  \nJoin The Cardio Factory for a free Step Aerobics session in partnership with The Orion Amphitheater! Come out for an energetic workout that’s fun\, different\, and perfect for all fitness levels. Bring a friend and step into something new! Reserve yours spot today at theorionhuntsville.com. 
URL:https://hvilleblast.com/event/free-fitness-tuesdays-with-the-cardio-factory-20/
LOCATION:The Orion Amphitheater @ 701 Amphitheater Drive\, Huntsville\, AL\, United States
ATTACH;FMTTYPE=image/jpeg:https://timelyapp-prod.s3.us-west-2.amazonaws.com/images/54704218/CardioFactory_FLVR.jpg
GEO:34.702327;-86.628864
END:VEVENT
BEGIN:VEVENT
DTSTART;TZID=America/Chicago:20260414T173000
DTEND;TZID=America/Chicago:20260414T183000
DTSTAMP:20260422T142639
CREATED:20260414T014303Z
LAST-MODIFIED:20260414T014303Z
UID:10024653-1776187800-1776191400@hvilleblast.com
SUMMARY:Free Fitness Tuesdays with The Cardio Factory
DESCRIPTION:Ready to break a sweat? \n  \nJoin The Cardio Factory for a free Step Aerobics session in partnership with The Orion Amphitheater! Come out for an energetic workout that’s fun\, different\, and perfect for all fitness levels. Bring a friend and step into something new! Reserve yours spot today at theorionhuntsville.com. 
URL:https://hvilleblast.com/event/free-fitness-tuesdays-with-the-cardio-factory-19/
LOCATION:The Orion Amphitheater @ 701 Amphitheater Drive\, Huntsville\, AL\, United States
ATTACH;FMTTYPE=image/jpeg:https://timelyapp-prod.s3.us-west-2.amazonaws.com/images/54704218/CardioFactory_FLVR.jpg
GEO:34.702327;-86.628864
END:VEVENT
BEGIN:VEVENT
DTSTART;TZID=America/Chicago:20260414T173000
DTEND;TZID=America/Chicago:20260414T183000
DTSTAMP:20260422T142639
CREATED:20260414T001404Z
LAST-MODIFIED:20260414T001404Z
UID:10024652-1776187800-1776191400@hvilleblast.com
SUMMARY:Free Fitness Tuesdays with The Cardio Factory
DESCRIPTION:Ready to break a sweat? \n  \nJoin The Cardio Factory for a free Step Aerobics session in partnership with The Orion Amphitheater! Come out for an energetic workout that’s fun\, different\, and perfect for all fitness levels. Bring a friend and step into something new! Reserve yours spot today at theorionhuntsville.com. 
URL:https://hvilleblast.com/event/free-fitness-tuesdays-with-the-cardio-factory-18/
LOCATION:The Orion Amphitheater @ 701 Amphitheater Drive\, Huntsville\, AL\, United States
ATTACH;FMTTYPE=image/jpeg:https://timelyapp-prod.s3.us-west-2.amazonaws.com/images/54704218/CardioFactory_FLVR.jpg
GEO:34.702327;-86.628864
END:VEVENT
BEGIN:VEVENT
DTSTART;TZID=America/Chicago:20260414T173000
DTEND;TZID=America/Chicago:20260414T183000
DTSTAMP:20260422T142639
CREATED:20260413T092803Z
LAST-MODIFIED:20260413T092803Z
UID:10024572-1776187800-1776191400@hvilleblast.com
SUMMARY:Free Fitness Tuesdays with The Cardio Factory
DESCRIPTION:Ready to break a sweat? \n  \nJoin The Cardio Factory for a free Step Aerobics session in partnership with The Orion Amphitheater! Come out for an energetic workout that’s fun\, different\, and perfect for all fitness levels. Bring a friend and step into something new! Reserve yours spot today at theorionhuntsville.com. 
URL:https://hvilleblast.com/event/free-fitness-tuesdays-with-the-cardio-factory-17/
LOCATION:The Orion Amphitheater @ 701 Amphitheater Drive\, Huntsville\, AL\, United States
ATTACH;FMTTYPE=image/jpeg:https://timelyapp-prod.s3.us-west-2.amazonaws.com/images/54704218/CardioFactory_FLVR.jpg
GEO:34.702327;-86.628864
END:VEVENT
END:VCALENDAR