BEGIN:VCALENDAR
VERSION:2.0
PRODID:-//Hville Blast - ECPv6.15.20//NONSGML v1.0//EN
CALSCALE:GREGORIAN
METHOD:PUBLISH
X-ORIGINAL-URL:https://hvilleblast.com
X-WR-CALDESC:Events for Hville Blast
REFRESH-INTERVAL;VALUE=DURATION:PT1H
X-Robots-Tag:noindex
X-PUBLISHED-TTL:PT1H
BEGIN:VTIMEZONE
TZID:America/Chicago
BEGIN:DAYLIGHT
TZOFFSETFROM:-0600
TZOFFSETTO:-0500
TZNAME:CDT
DTSTART:20250309T080000
END:DAYLIGHT
BEGIN:STANDARD
TZOFFSETFROM:-0500
TZOFFSETTO:-0600
TZNAME:CST
DTSTART:20251102T070000
END:STANDARD
BEGIN:DAYLIGHT
TZOFFSETFROM:-0600
TZOFFSETTO:-0500
TZNAME:CDT
DTSTART:20260308T080000
END:DAYLIGHT
BEGIN:STANDARD
TZOFFSETFROM:-0500
TZOFFSETTO:-0600
TZNAME:CST
DTSTART:20261101T070000
END:STANDARD
BEGIN:DAYLIGHT
TZOFFSETFROM:-0600
TZOFFSETTO:-0500
TZNAME:CDT
DTSTART:20270314T080000
END:DAYLIGHT
BEGIN:STANDARD
TZOFFSETFROM:-0500
TZOFFSETTO:-0600
TZNAME:CST
DTSTART:20271107T070000
END:STANDARD
END:VTIMEZONE
BEGIN:VEVENT
DTSTART;TZID=America/Chicago:20260422T180000
DTEND;TZID=America/Chicago:20260422T193000
DTSTAMP:20260422T123110
CREATED:20260317T193457Z
LAST-MODIFIED:20260317T193457Z
UID:10023563-1776880800-1776886200@hvilleblast.com
SUMMARY:Book Launch: Michelle Collins Anderson\, The Moonshine Women
DESCRIPTION:The Snail on the Wall is thrilled to celebrate the launch of Michelle Collins Anderson’s new novel\, The Moonshine Women\, a powerful tale of reinvention\, sisterhood\, revenge\, and love. Fans of Southern writers and historical fiction will love the chance to meet Michelle and learn about this Prohibition-era story. \nThis event is part of our weekly celebration leading up to Independent Bookstore Day (which will be Saturday\, April 25). Join us for all five events on all five days if you can! \nGet Tickets Here! \nThe event will be at The Snail on the Wall bookstore. Tickets are $18.95 and include a copy of The Moonshine Women. \nAbout The Moonshine Women:\nEvery batch of the Strong family’s moonshine has its own special flavor\, thanks to the secret ingredients that matriarch Lidy Strong adds to the barrels of fermenting corn mash. That extra “something something” is what makes the Strong “shine” so prized—and allows the family to survive after crop prices plummeted in the wake of the Great War. Each of the Strong sisters is distinct. The eldest\, Rebecca\, finds a new home in the love she discovers after a near-devastating accident. Middle sister Elsie is kind\, beautiful\, and itching for a life more thrilling than the farm can offer. And Jace\, the bold and wild-hearted youngest\, is known far and wide as “Shine.” Their father\, Hiram\, has been drowning himself in grief and liquor ever since his wife died. When tragedy strikes\, it falls to the Strong women to keep the still running\, the family together\, and hope burning on the horizon. \nAbout Michelle Collins Anderson:\nMichelle Collins Anderson was born in St. Louis\, Missouri\, and grew up on a farm in the Missouri Ozarks — a place and a way of life that has shaped her writing. She graduated summa cum laude from the University of Missouri with a Bachelor of Journalism degree. In 2013\, she graduated with an MFA in Fiction from Warren Wilson College in Asheville\, North Carolina. Michelle lives in St. Louis\, Missouri.
URL:https://hvilleblast.com/event/book-launch-michelle-collins-anderson-the-moonshine-women/
LOCATION:The Snail on the Wall bookstore @ 816 Wellman Avenue\, Huntsville\, AL\, United States
CATEGORIES:Adult Events,Arts & Culture
ATTACH;FMTTYPE=image/png:https://hvilleblast.com/wp-content/uploads/2026/03/1_2.png
GEO:34.718428;-86.556439
END:VEVENT
BEGIN:VEVENT
DTSTART;TZID=America/Chicago:20260512T180000
DTEND;TZID=America/Chicago:20260512T193000
DTSTAMP:20260422T123110
CREATED:20260317T193510Z
LAST-MODIFIED:20260317T193510Z
UID:10023515-1778608800-1778614200@hvilleblast.com
SUMMARY:Book Launch: Robert Bailey\, The Mediator
DESCRIPTION:We are thrilled to host the launch for Huntsville author Robert Bailey’s newest book\, The Mediator\, a gripping thriller about a disgraced lawyer facing the legal battle of her life as she tries to redeem herself–and save her son. \nTickets are $16.99 and include a copy of the book. \nGet Tickets Here. \nAbout The Mediator:\nMax Ringo was once a courtroom star at an elite law firm. Then a car accident left her addicted to painkillers\, and her life dissolved into shambles. Now fresh out of rehab and making a comeback as a mediator\, she gets her shot at redemption when she is appointed to handle a high-stakes divorce. But as Max begins negotiations between the two notorious power players\, the trap is already sprung. The husband kidnaps her teenage son\, Nathan\, and gives her a chilling ultimatum: settle the case on his terms…or the boy dies. \nAbout Robert Bailey:\nRobert Bailey is the bestselling author of The Boomerang as well as the Jason Rich series\, the Bocephus Haynes series\, and the award-winning McMurtrie and Drake legal thriller series. He also wrote the inspirational novel The Golfer’s Carol. The Mediator is his twelfth novel. A retired attorney and registered mediator\, Bailey lives in Huntsville\, Alabama\, with his wife\, Dixie. They are the proud parents of three children\, two dogs\, and two cats. For more information\, visit www.robertbaileybooks.com.
URL:https://hvilleblast.com/event/book-launch-robert-bailey-the-mediator/
LOCATION:The Snail on the Wall bookstore @ 816 Wellman Avenue\, Huntsville\, AL\, United States
CATEGORIES:Adult Events,Arts & Culture,Social Events
ATTACH;FMTTYPE=image/png:https://hvilleblast.com/wp-content/uploads/2026/03/1-1.png
GEO:34.718428;-86.556439
END:VEVENT
BEGIN:VEVENT
DTSTART;TZID=America/Chicago:20260519T180000
DTEND;TZID=America/Chicago:20260519T193000
DTSTAMP:20260422T123110
CREATED:20260317T193434Z
LAST-MODIFIED:20260317T193434Z
UID:10023564-1779213600-1779219000@hvilleblast.com
SUMMARY:Book Talk: Marybeth Whalen and Lisa Patton
DESCRIPTION:We’re delighted to welcome authors Marybeth Mayhew Whalen and Lisa Patton for a special evening of conversation about their newest novels\, Handle with Care and Kissing the Sky. \nThere are three ticket options:\nBook with copy of Handle with Care ($18.99)\nBook with copy of Kissing the Sky ($28.99)\nBook with copies of both Handle with Care and Kissing the Sky ($45) \nGet Tickets Here! \nAbout Handle with Care:\nHandle with Care story about finding hope in the face of hardship and connection in the face of crisis\, Handle with Care is a novel for our time. Three women walk into a post office. This is no joke–it’s the spark that ignites a life-altering hostage crisis. \nAbout Kissing the Sky:\nKissing the Sky is a soulful\, nostalgic novel about a young woman coming of age in the ’60s to the blare of the music that shaped a generation. \nAbout Marybeth Whalen:\nMarybeth received a BA in English with a concentration in Writing and Editing from NC State University and has been writing ever since. She is the co-founder of The Book Tide\, an online community of readers where “a rising tide raises all books.” Marybeth and her husband Curt are the parents of six kids who are now all in various stages of adulting. \nAbout Lisa Patton:\nLisa Patton began her career in entertainment and media in Memphis before later joining musician Michael McDonald on multiple album and video projects. After a stint as an innkeeper in Vermont inspired her debut novel\, Whistlin’ Dixie in a Nor’easter\, she became a bestselling author known for her Southern-themed “Dixie” series. A breast cancer survivor\, she now lives in Nashville with her husband and continues writing while celebrating a large blended family.
URL:https://hvilleblast.com/event/book-talk-marybeth-whalen-and-lisa-patton/
LOCATION:The Snail on the Wall bookstore @ 816 Wellman Avenue\, Huntsville\, AL\, United States
CATEGORIES:Adult Events,Arts & Culture
ATTACH;FMTTYPE=image/png:https://hvilleblast.com/wp-content/uploads/2026/03/1-2.png
GEO:34.718428;-86.556439
END:VEVENT
BEGIN:VEVENT
DTSTART;TZID=America/Chicago:20260719T180000
DTEND;TZID=America/Chicago:20260719T193000
DTSTAMP:20260422T123110
CREATED:20260413T175201Z
LAST-MODIFIED:20260413T175201Z
UID:10024563-1784484000-1784489400@hvilleblast.com
SUMMARY:Book Launch: Ashley Winstead\, Hot Girl Murder Club
DESCRIPTION:The Snail on the Wall is thrilled to celebrate the launch of Ashley Winstead’s new novel\, Hot Girl Murder Club\, a buzzy\, bloody new thriller about success\, sisterhood\, and demanding justice…by any means necessary. \nThe event will be at The Snail on the Wall bookstore. Tickets are $29.00 and include a copy of Hot Girl Murder Club. \nGet Tickets Here! \nAbout Hot Girl Murder Club:\nTen years ago\, aspiring singer-actress Scout Sage lost the only thing that mattered: her sister\, Georgia. Ever since Georgia’s mysterious death at a Hollywood party\, Scout’s done her best to honor her memory\, clawing her way through the industry and collecting a network of climbers along the way\, fellow hot girls in stilettos with cutthroat ambition\, a new Hollywood order. \nBut when a slew of targeted murders makes headlines across L.A.\, all pointing to Scout as the killer\, she turns overnight from a mid-tier pop star into the world’s most famous (alleged) murderer. Now everything she’s worked to build—including the justice she wants for Georgia—will fall apart unless Scout can prove she’s not guilty. \nAbout Michelle Ashley Winstead:\nAshley Winstead is the national bestselling author of many beloved thrillers\, including This Book Will Bury Me\, The Last Housewife\, In My Dreams I Hold a Knife\, and Midnight Is the Darkest Hour. Her novels have been optioned for television; chosen as Book of the Month\, Best of Amazon\, LibraryReads\, Indie Next\, Apple Books\, and Lone Star picks; and received attention from major outlets\, from The New York Times to The Washington Post.
URL:https://hvilleblast.com/event/book-launch-ashley-winstead-hot-girl-murder-club/
LOCATION:The Snail on the Wall bookstore @ 816 Wellman Avenue\, Huntsville\, AL\, United States
CATEGORIES:Adult Events,Arts & Culture
ATTACH;FMTTYPE=image/png:https://hvilleblast.com/wp-content/uploads/2026/04/1-2.png
GEO:34.718428;-86.556439
END:VEVENT
END:VCALENDAR