BEGIN:VCALENDAR
VERSION:2.0
PRODID:-//Hville Blast - ECPv6.15.20//NONSGML v1.0//EN
CALSCALE:GREGORIAN
METHOD:PUBLISH
X-ORIGINAL-URL:https://hvilleblast.com
X-WR-CALDESC:Events for Hville Blast
REFRESH-INTERVAL;VALUE=DURATION:PT1H
X-Robots-Tag:noindex
X-PUBLISHED-TTL:PT1H
BEGIN:VTIMEZONE
TZID:America/Chicago
BEGIN:DAYLIGHT
TZOFFSETFROM:-0600
TZOFFSETTO:-0500
TZNAME:CDT
DTSTART:20240310T080000
END:DAYLIGHT
BEGIN:STANDARD
TZOFFSETFROM:-0500
TZOFFSETTO:-0600
TZNAME:CST
DTSTART:20241103T070000
END:STANDARD
BEGIN:DAYLIGHT
TZOFFSETFROM:-0600
TZOFFSETTO:-0500
TZNAME:CDT
DTSTART:20250309T080000
END:DAYLIGHT
BEGIN:STANDARD
TZOFFSETFROM:-0500
TZOFFSETTO:-0600
TZNAME:CST
DTSTART:20251102T070000
END:STANDARD
BEGIN:DAYLIGHT
TZOFFSETFROM:-0600
TZOFFSETTO:-0500
TZNAME:CDT
DTSTART:20260308T080000
END:DAYLIGHT
BEGIN:STANDARD
TZOFFSETFROM:-0500
TZOFFSETTO:-0600
TZNAME:CST
DTSTART:20261101T070000
END:STANDARD
END:VTIMEZONE
BEGIN:VEVENT
DTSTART;TZID=America/Chicago:20251024T180000
DTEND;TZID=America/Chicago:20251024T210000
DTSTAMP:20260425T122922
CREATED:20250927T221241Z
LAST-MODIFIED:20251024T211209Z
UID:10016740-1761328800-1761339600@hvilleblast.com
SUMMARY:Friday Night Flick at Three Caves: Beetlejuice
DESCRIPTION:Friday Night Flick at Three Caves: Beetlejuice (1988\, PG) \nJoin the Land Trust of North Alabama for a special movie night under the stars at the beautiful Three Caves Quarry! This year’s Friday Night Flick features the original cult classic Beetlejuice\, a perfect spooky-season film for this unique venue. \nTickets \n\n$5 for guests under 18\n$15 for Land Trust members\n$20 for non-members\nFree tickets for furloughed employees\nPurchase tickets: https://events.humanitix.com/friday-night-flick-at-three-caves\n\nImportant Ticket Information: Land Trust Members receive a discounted ticket price. To redeem your discount\, please enter the Access Code sent to you by email on 9/26/25. If you are a member and did not receive the Access Code\, please call the Land Trust office at 256-534-5263 BEFORE purchasing tickets\, and we will provide the code. \nIf you are not a member and would like to save money on this and future Land Trust events\, consider joining! Details on membership levels\, benefits\, and how to become a member can be found at https://landtrustnal.org/support/membership/. You need to purchase a membership BEFORE buying tickets to receive your access code. After purchasing your membership\, please call the Land Trust office to receive the code. \nWhat’s Included \n\nComplimentary water and popcorn (while supplies last)\nBeer and wine available for purchase for ages 21+\nFood available for purchase from a food truck\n\nEvent Details \n\nDate: Friday\, October 24\nGates open: 6 PM (arrive early to grab food and set up chairs)\nMovie begins: 7 PM (runtime: 92 minutes\, no intermission)\nLocation: Three Caves\, one of the most unique outdoor venues in North Alabama\nPlease bring your own camp chair.\nNo outside food or beverages permitted.\n\nParking & Shuttle Service \n\nParking passes available for purchase to park at the trailhead lot.\nFree parking and shuttle service available from Cornerstone Presbyterian Church (1413 McClung Ave\, Huntsville\, AL 35801).\nVans begin running at 5:45 PM and continue until 9 PM.\n\nThis is a ticketed event open to both members and non-members. Don’t miss your chance to experience a Halloween-season favorite in one of Huntsville’s most unique venues! \n  \nThank you to our sponsor!
URL:https://hvilleblast.com/event/friday-night-flick-at-three-caves-beetlejuice/
LOCATION:Three Caves\, 901 Kennamer Drive Southeast\, Huntsville\, AL\, 35801\, United States
ATTACH;FMTTYPE=image/png:https://hvilleblast.com/wp-content/uploads/2025/10/Friday-Night-Flick-Banner-BxQugX.png
END:VEVENT
BEGIN:VEVENT
DTSTART;TZID=America/Chicago:20250921T090000
DTEND;TZID=America/Chicago:20250921T120000
DTSTAMP:20260425T122922
CREATED:20250830T011549Z
LAST-MODIFIED:20250921T175726Z
UID:10015146-1758445200-1758456000@hvilleblast.com
SUMMARY:Three Caves Clean Up
DESCRIPTION:Join staff members in restoring Three Caves back to normal after Moon Dance! \nNo experience required. Please wear sturdy\, closed-toe shoes. Bug spray\, sunscreen\, work gloves\, eye protection\, and water recommended. Complete a separate registration for each individual participating (each person must sign a waiver). Guardians may sign up on behalf of minors. Registration Required. \nMeeting Location: Three Caves Trailhead – 901 Kennamer Drive\, Huntsville\, AL 35801 \nLed by Andy Prewett \nSign Up! \nIf this event is canceled due to weather or trail conditions\, we will send a notification to registered participants to the email address provided at sign up.
URL:https://hvilleblast.com/event/trail-care-three-caves-clean-up/
LOCATION:Three Caves\, 901 Kennamer Drive Southeast\, Huntsville\, AL\, 35801\, United States
CATEGORIES:Monte Sano,Volunteer Opportunities
ATTACH;FMTTYPE=image/png:https://hvilleblast.com/wp-content/uploads/2025/08/Untitled-design-50-scaled-wh3pWC.png
END:VEVENT
BEGIN:VEVENT
DTSTART;TZID=America/Chicago:20250920T190000
DTEND;TZID=America/Chicago:20250920T223000
DTSTAMP:20260425T122922
CREATED:20250830T011537Z
LAST-MODIFIED:20250918T024230Z
UID:10015145-1758394800-1758407400@hvilleblast.com
SUMMARY:Moon Dance at Three Caves
DESCRIPTION:Dance with friends under the stars to help save freshwater resources and great natural lands. Moon Dance is a dinner featuring live music from Quantaphonics and a silent auction. The event is held in the beautiful bowl of Three Caves Quarry on Monte Sano Nature Preserve and is our biggest fundraiser of the year! \nPurchase Tickets Here! \nTicket Pricing (before fees and tax) \n\nNon-member individual ticket (1 seat) | $150\nNon-member Tables (8 seats) | $1\,100\nMember individual ticket (1 seat) | $115\nMember Table (8 seats) | $800\nCorporate Table (8 seats) | $1\,500\n\n  \nThank you to our sponsors: \n \n  \nWhat is Moon Dance?\n\nThe Venue | Three Caves is located within the Land Trust’s Monte Sano Nature Preserve – one of the largest urban nature preserves in the US – and has become one of the most unique outdoor venues in North Alabama. Conveniently located just two miles from Downtown Huntsville\, Three Caves gets its name from the three limestone openings that accentuate the stage. The venue offers a comfortable ~55°F temperature year-round. As the sun sets and the lights begin to accentuate the walls\, guests are in store for a truly magical experience.\nDinner | A buffet-style dinner\, including a vegetarian option\, will be provided by Carrabba’s Italian Grill. Two drink tickets are included with your admission and additional wine and beer will be available for purchase. No outside food or drink allowed.\nMusic | The talent for the evening will be Quantaphonics\, a local favorite and staple in the Huntsville music community since early 2018. This progressive-soul powerhouse\, with up to 13 members on stage\, fuses jazz\, soul\, hip hop\, funk\, rock\, and more into an unforgettable sonic experience.\nSilent Auction | Shop the silent auction! All bidding will be conducted online through 32Auctions. Select items will be displayed at the event\, including unique experiences on Land Trust properties\, local art\, and a variety of products or services contributed by regional businesses. Bidding is one day only – Saturday\, September 20 from 8 AM to 9:30 PM\, CDT.\nTransportation | A free shuttle service from Huntsville Hospital parking lots begins around 6:30 PM\, as there is no on-site parking at the venue. Rideshare drop-off is at Mountain Springs Pool. Gates open at 6:30 PM.\nAttire | Casual dress with closed toe shoes (due to gravel) recommended. The temperature at Three Caves is typically a few degrees cooler due to cool air coming from the caves.\n\n  \nImportant Ticket Information: Land Trust Members at the Pathfinder ($100 annually) level or above receive a discounted ticket price. To redeem your discount\, please enter the Access Code sent to you by email on 8/1/25. If you are a qualifying member and did not receive the Access Code\, please call the Land Trust office at 256-534-5263 BEFORE purchasing tickets\, and we will provide the code. \nIf you are not a member and would like to save money on this and future Land Trust events\, consider joining at the Pathfinder Level ($100 annually). Details on membership levels\, benefits\, and how to become a member can be found at https://landtrustnal.org/support/membership/. You need to purchase a membership BEFORE buying tickets to receive your access code. After purchasing your membership\, please call the Land Trust office to receive the code.
URL:https://hvilleblast.com/event/moon-dance-at-three-caves/
LOCATION:Three Caves\, 901 Kennamer Drive Southeast\, Huntsville\, AL\, 35801\, United States
ATTACH;FMTTYPE=image/png:https://hvilleblast.com/wp-content/uploads/2025/08/Untitled-design-50-scaled-wh3pWC.png
END:VEVENT
END:VCALENDAR