BEGIN:VCALENDAR
VERSION:2.0
PRODID:-//Hville Blast - ECPv6.15.20//NONSGML v1.0//EN
CALSCALE:GREGORIAN
METHOD:PUBLISH
X-ORIGINAL-URL:https://hvilleblast.com
X-WR-CALDESC:Events for Hville Blast
REFRESH-INTERVAL;VALUE=DURATION:PT1H
X-Robots-Tag:noindex
X-PUBLISHED-TTL:PT1H
BEGIN:VTIMEZONE
TZID:America/Chicago
BEGIN:DAYLIGHT
TZOFFSETFROM:-0600
TZOFFSETTO:-0500
TZNAME:CDT
DTSTART:20240310T080000
END:DAYLIGHT
BEGIN:STANDARD
TZOFFSETFROM:-0500
TZOFFSETTO:-0600
TZNAME:CST
DTSTART:20241103T070000
END:STANDARD
BEGIN:DAYLIGHT
TZOFFSETFROM:-0600
TZOFFSETTO:-0500
TZNAME:CDT
DTSTART:20250309T080000
END:DAYLIGHT
BEGIN:STANDARD
TZOFFSETFROM:-0500
TZOFFSETTO:-0600
TZNAME:CST
DTSTART:20251102T070000
END:STANDARD
BEGIN:DAYLIGHT
TZOFFSETFROM:-0600
TZOFFSETTO:-0500
TZNAME:CDT
DTSTART:20260308T080000
END:DAYLIGHT
BEGIN:STANDARD
TZOFFSETFROM:-0500
TZOFFSETTO:-0600
TZNAME:CST
DTSTART:20261101T070000
END:STANDARD
BEGIN:DAYLIGHT
TZOFFSETFROM:-0600
TZOFFSETTO:-0500
TZNAME:CDT
DTSTART:20270314T080000
END:DAYLIGHT
BEGIN:STANDARD
TZOFFSETFROM:-0500
TZOFFSETTO:-0600
TZNAME:CST
DTSTART:20271107T070000
END:STANDARD
END:VTIMEZONE
BEGIN:VEVENT
DTSTART;TZID=America/Chicago:20260418T090000
DTEND;TZID=America/Chicago:20260419T000000
DTSTAMP:20260422T204952
CREATED:20260419T045804Z
LAST-MODIFIED:20260419T045804Z
UID:10024782-1776502800-1776556800@hvilleblast.com
SUMMARY:Daryl\, Jr.
DESCRIPTION:We first saw Daryl\, Jr. at a battle of the bands last fall\, and our jaws were on the ground.  Finally\, we have him for his own show.   We all know that person that can sing.  Really sing.  Daryl\, Jr. is that person x 100.  Huntsville is so lucky to have him and so are we!  Sat. April 18 9:00. $7
URL:https://hvilleblast.com/event/daryl-jr/
LOCATION:Tip Top Cafe @ 125 Northwest Maple Avenue\, Huntsville\, AL\, United States
CATEGORIES:Arts & Culture,Dance,Downtown Huntsville,Live Music
ATTACH;FMTTYPE=image/jpeg:https://timelyapp-prod.s3.us-west-2.amazonaws.com/images/54704218/IMG_20260402_103733_wD6k.jpg
GEO:34.718428;-86.556439
END:VEVENT
BEGIN:VEVENT
DTSTART;TZID=America/Chicago:20260411T210000
DTEND;TZID=America/Chicago:20260412T000000
DTSTAMP:20260422T204952
CREATED:20260411T012811Z
LAST-MODIFIED:20260411T071307Z
UID:10024441-1775941200-1775952000@hvilleblast.com
SUMMARY:The Other Brothers
DESCRIPTION:A genre bending act out of Chattanooga performing their own heady blend of Grateful Soul\, Folk-N-Weir-dgrass since 2018.  Saturday\, April 11\, 9:00  $7 door
URL:https://hvilleblast.com/event/the-other-brothers/
LOCATION:Tip Top Cafe @ 125 Northwest Maple Avenue\, Huntsville\, AL\, United States
CATEGORIES:Arts & Culture,Dance,Downtown Huntsville,Live Music
ATTACH;FMTTYPE=image/jpeg:https://timelyapp-prod.s3.us-west-2.amazonaws.com/images/54704218/The%20Other%20Brothers_6hrV.png
GEO:34.718428;-86.556439
END:VEVENT
BEGIN:VEVENT
DTSTART;TZID=America/Chicago:20260410T210000
DTEND;TZID=America/Chicago:20260411T000000
DTSTAMP:20260422T204952
CREATED:20260411T012809Z
LAST-MODIFIED:20260411T012809Z
UID:10024435-1775854800-1775865600@hvilleblast.com
SUMMARY:The Silver Silos
DESCRIPTION:Taylor and the boys slide into Tip Top Friday\, April 10th to rock out tunes from their latest album Alabama Stars.  9-12 $5 door
URL:https://hvilleblast.com/event/the-silver-silos-6/
LOCATION:Tip Top Cafe @ 125 Northwest Maple Avenue\, Huntsville\, AL\, United States
CATEGORIES:Downtown Huntsville,Live Music,Things to Do *Featured*
ATTACH;FMTTYPE=image/jpeg:https://timelyapp-prod.s3.us-west-2.amazonaws.com/images/54704218/IMG_20260319_150052_741_J5P2.jpg
GEO:34.718428;-86.556439
END:VEVENT
BEGIN:VEVENT
DTSTART;TZID=America/Chicago:20260327T213000
DTEND;TZID=America/Chicago:20260328T000000
DTSTAMP:20260422T204952
CREATED:20260318T121046Z
LAST-MODIFIED:20260318T140504Z
UID:10023634-1774647000-1774656000@hvilleblast.com
SUMMARY:Sicard Hollow
DESCRIPTION:Sicard Hollow is a four-piece progressive bluegrass and ‘psychedelic punk-grass’ band based in Nashville\, Tennessee. Formed in 2018\, they’re known for pushing the traditional boundaries of bluegrass by infusing it with punk energy and jam-band improvisation.. $15 pre/$20 door. Fri\, Mar. 27\, 9:00 \nhttps://www.tiptophsv.com/event-details/sicard-hollow
URL:https://hvilleblast.com/event/sicard-hollow/
LOCATION:Tip Top Cafe @ 125 Northwest Maple Avenue\, Huntsville\, AL\, United States
CATEGORIES:Dance,Downtown Huntsville,Live Music
ATTACH;FMTTYPE=image/jpeg:https://timelyapp-prod.s3.us-west-2.amazonaws.com/images/54704218/Sicard%20Hollow%20-%203_risk.27
GEO:34.718428;-86.556439
END:VEVENT
BEGIN:VEVENT
DTSTART;TZID=America/Chicago:20260324T200000
DTEND;TZID=America/Chicago:20260324T230000
DTSTAMP:20260422T204952
CREATED:20260317T052536Z
LAST-MODIFIED:20260318T121032Z
UID:10023610-1774382400-1774393200@hvilleblast.com
SUMMARY:Steven Jackson
DESCRIPTION:Steven Jackson is not only one fo the finest songwriters in Huntsville\, he is an integral part of the music community.  If you go anywhere is Huntsville that has live music\, and we do mean anywhere\, you are going to cross paths with Steven.  A true music ambassador.  Wed.\, Mar 25\, 8:00.
URL:https://hvilleblast.com/event/steven-jackson/
LOCATION:Tip Top Cafe @ 125 Northwest Maple Avenue\, Huntsville\, AL\, United States
CATEGORIES:Arts & Culture,Downtown Huntsville,Free Events,Live Music
ATTACH;FMTTYPE=image/jpeg:https://timelyapp-prod.s3.us-west-2.amazonaws.com/images/54704218/Steven%20Jackson_XJyt.png
GEO:34.718428;-86.556439
END:VEVENT
BEGIN:VEVENT
DTSTART;TZID=America/Chicago:20260319T210000
DTEND;TZID=America/Chicago:20260320T000000
DTSTAMP:20260422T204952
CREATED:20260317T052520Z
LAST-MODIFIED:20260319T142617Z
UID:10023589-1773954000-1773964800@hvilleblast.com
SUMMARY:Jason D. Williams
DESCRIPTION:Jason D. Williams has been scorching pianos all over the world for years\, and it is time for him to return the new Tip Top!  Tables will be available for purchase starting at $75 which includes 4 tickets.  $15 general admission  $20 at the show.
URL:https://hvilleblast.com/event/jason-d-williams/
LOCATION:Tip Top Cafe @ 125 Northwest Maple Avenue\, Huntsville\, AL\, United States
CATEGORIES:Arts & Culture,Comedy,Cultural,Dance,Downtown Huntsville,Live Music
ATTACH;FMTTYPE=image/jpeg:https://timelyapp-prod.s3.us-west-2.amazonaws.com/images/54704218/3_N48v.19
GEO:34.718428;-86.556439
END:VEVENT
BEGIN:VEVENT
DTSTART;TZID=America/Chicago:20260318T200000
DTEND;TZID=America/Chicago:20260318T230000
DTSTAMP:20260422T204952
CREATED:20260317T052511Z
LAST-MODIFIED:20260318T121011Z
UID:10023577-1773864000-1773874800@hvilleblast.com
SUMMARY:Porchfest Fundraiser!
DESCRIPTION:Want a sneak preview of some of the acts that will be performing at Porchfest this year?!  Now is your chance.  Wed\, March 18 starting at 8:00 we will have Children of Divorce\, Paper Comet\, and Molena.  $5 cover with proceeds going to Porchfest!  Come out and check out these amazing new artists!
URL:https://hvilleblast.com/event/porchfest-fundraiser/
LOCATION:Tip Top Cafe @ 125 Northwest Maple Avenue\, Huntsville\, AL\, United States
CATEGORIES:Arts & Culture,Cultural,Downtown Huntsville,Live Music
ATTACH;FMTTYPE=image/jpeg:https://timelyapp-prod.s3.us-west-2.amazonaws.com/images/54704218/PORCHFEST%20%20show%203_pCOZ.18
GEO:34.718428;-86.556439
END:VEVENT
BEGIN:VEVENT
DTSTART;TZID=America/Chicago:20260206T210000
DTEND;TZID=America/Chicago:20260207T000000
DTSTAMP:20260422T204952
CREATED:20260201T222529Z
LAST-MODIFIED:20260201T222529Z
UID:10022516-1770411600-1770422400@hvilleblast.com
SUMMARY:The Captain Midnight Band
DESCRIPTION:Friday\, Feb 6th at 9:00\, The Captain Midnight Band\, the world’s only known purveyor of “Waterbed Rock & Roll”\, rolls into town. \nCrunchy Rock Guitar Riffs\, Thick R&B Grooves\, and Soaring Vocal Harmonies combine to create a unique soundscape for jammy anthems\, sci-fi imagery\, and humorous situations. \nThe group’s diverse appeal has resulted in club\, theater\, and festival plays with such acts as Dark Star Orchestra\, String Cheese Incident\, moe\, Goose\, Twiddle\, Billy Strings\, Karl Denson\, Keller Williams\, TAUK\, and too many other weirdos to list\, as well as featured slots at Floyd Fest\, Dark Star Jubilee\, Hulaween\, Mountain Music Festival WV\, Summer Fest Milwaukee\, Grateville\, and many other incredible events. \n$10 presale at www.tiptophsv.com $15 door. Tickets will be available at the door ona first come first serve basis.
URL:https://hvilleblast.com/event/the-captain-midnight-band/
LOCATION:Tip Top Cafe @ 125 Northwest Maple Avenue\, Huntsville\, AL\, United States
CATEGORIES:Arts & Culture,Dance,Downtown Huntsville,Live Music
ATTACH;FMTTYPE=image/jpeg:https://timelyapp-prod.s3.us-west-2.amazonaws.com/images/54704218/Tip%20Top%201_Y8f3.png
GEO:34.718428;-86.556439
END:VEVENT
BEGIN:VEVENT
DTSTART;TZID=America/Chicago:20260201T210000
DTEND;TZID=America/Chicago:20260202T130000
DTSTAMP:20260422T204952
CREATED:20260201T222505Z
LAST-MODIFIED:20260208T095504Z
UID:10022484-1769979600-1770037200@hvilleblast.com
SUMMARY:Spleenbreaker w/ Bitter Route
DESCRIPTION:Spllenbreaker is an alt rock band from the South of France coming to Huntsville.  They will be at Tip Top along with local band Bitter Route!  Doors open at 6:00 and Show starts at 9:00!  $7 door
URL:https://hvilleblast.com/event/spleenbreaker-w-bitter-route/
LOCATION:Tip Top Cafe @ 125 Northwest Maple Avenue\, Huntsville\, AL\, United States
CATEGORIES:Arts & Culture,Cultural,Dance,Downtown Huntsville,Live Music
ATTACH;FMTTYPE=image/jpeg:https://timelyapp-prod.s3.us-west-2.amazonaws.com/images/54704218/Spleenbreaker%20flyer_eeLg.png
GEO:34.718428;-86.556439
END:VEVENT
BEGIN:VEVENT
DTSTART;TZID=America/Chicago:20260121T200000
DTEND;TZID=America/Chicago:20260121T230000
DTSTAMP:20260422T204952
CREATED:20260122T044735Z
LAST-MODIFIED:20260125T131109Z
UID:10022404-1769025600-1769036400@hvilleblast.com
SUMMARY:Andy Lyle Hall
DESCRIPTION:Andy is recording a live album and has chosen Tip Top as a location. This is going to be a special night of one the most original artists you will see. He creates theatrical sounds in the vein of Pink Floyd in that his songs fall in the mystical land lying on the edge of reality. Wed Jan 21\, 8:00
URL:https://hvilleblast.com/event/andy-lyle-hall-2/
LOCATION:Tip Top Cafe @ 125 Northwest Maple Avenue\, Huntsville\, AL\, United States
CATEGORIES:Arts & Culture,Dance,Downtown Huntsville,Live Music
ATTACH;FMTTYPE=image/jpeg:https://timelyapp-prod.s3.us-west-2.amazonaws.com/images/54704218/1000001275_ocW2.jpg
GEO:34.718428;-86.556439
END:VEVENT
BEGIN:VEVENT
DTSTART;TZID=America/Chicago:20260109T200000
DTEND;TZID=America/Chicago:20260109T230000
DTSTAMP:20260422T204952
CREATED:20260108T162719Z
LAST-MODIFIED:20260109T062506Z
UID:10022009-1767988800-1767999600@hvilleblast.com
SUMMARY:Sol Parade
DESCRIPTION:Sol Parade hails from Chattanooga\, where they are known for their funk-driven rhythms and high-energy live performances. A psychedelic jam band blending originals with inventive covers\, their sound is rooted in groove\, exploration\, and connection. Come experience the extraordinary fusion of colors and sounds of Sol Parade\, where the universe comes alive through art and imagination.
URL:https://hvilleblast.com/event/sol-parade/
LOCATION:Tip Top Cafe @ 125 Northwest Maple Avenue\, Huntsville\, AL\, United States
CATEGORIES:Arts & Culture,Downtown Huntsville,Live Music
ATTACH;FMTTYPE=image/jpeg:https://timelyapp-prod.s3.us-west-2.amazonaws.com/images/54704218/603898530_122116552167058930_4242249870997757049_n_k1FJ.jpg
GEO:34.718428;-86.556439
END:VEVENT
BEGIN:VEVENT
DTSTART;TZID=America/Chicago:20251227T190000
DTEND;TZID=America/Chicago:20251227T220000
DTSTAMP:20260422T204952
CREATED:20260102T170836Z
LAST-MODIFIED:20260102T170836Z
UID:10021322-1766862000-1766872800@hvilleblast.com
SUMMARY:Beatles Night
DESCRIPTION:Local musicians reboot their iconic Beatles Night at the newly revived Tip Top Cafe! \nPerformances by Toy Shop members Antony Sharpe\, Andrew Sharpe\, and Newt Johnson; Huntsville legends Gus Hergert and Robby Eichman; plus surprise guests!
URL:https://hvilleblast.com/event/beatles-night/
LOCATION:Tip Top Cafe @ 125 Northwest Maple Avenue\, Huntsville\, AL\, United States
CATEGORIES:Live Music
ATTACH;FMTTYPE=image/jpeg:https://hvilleblast.com/wp-content/uploads/2025/12/601425936_10166544861888272_5956088784012778104_n.jpg
GEO:34.718428;-86.556439
END:VEVENT
BEGIN:VEVENT
DTSTART;TZID=America/Chicago:20251127T200000
DTEND;TZID=America/Chicago:20251127T230000
DTSTAMP:20260422T204952
CREATED:20251202T042947Z
LAST-MODIFIED:20251202T174515Z
UID:10020527-1764273600-1764284400@hvilleblast.com
SUMMARY:Otis Walker Blues Jam
DESCRIPTION:Otis Walker Blues Jam that started at St. Stephens Music Hall continues on the St. Stephens Stage at Tip Top Cafe every Thursday night. Bring your instrument and jam with Otis and the band.
URL:https://hvilleblast.com/event/otis-walker-blues-jam-28/
LOCATION:Tip Top Cafe @ 125 Northwest Maple Avenue\, Huntsville\, AL\, United States
CATEGORIES:Live Music
ATTACH;FMTTYPE=image/jpeg:https://timelyapp-prod.s3.us-west-2.amazonaws.com/images/54704218/Screenshot%202025-11-20%20145828_4rOk.png
GEO:34.718428;-86.556439
END:VEVENT
END:VCALENDAR