BEGIN:VCALENDAR
VERSION:2.0
PRODID:-//Hville Blast - ECPv6.15.20//NONSGML v1.0//EN
CALSCALE:GREGORIAN
METHOD:PUBLISH
X-WR-CALNAME:Hville Blast
X-ORIGINAL-URL:https://hvilleblast.com
X-WR-CALDESC:Events for Hville Blast
REFRESH-INTERVAL;VALUE=DURATION:PT1H
X-Robots-Tag:noindex
X-PUBLISHED-TTL:PT1H
BEGIN:VTIMEZONE
TZID:America/Chicago
BEGIN:DAYLIGHT
TZOFFSETFROM:-0600
TZOFFSETTO:-0500
TZNAME:CDT
DTSTART:20250309T080000
END:DAYLIGHT
BEGIN:STANDARD
TZOFFSETFROM:-0500
TZOFFSETTO:-0600
TZNAME:CST
DTSTART:20251102T070000
END:STANDARD
BEGIN:DAYLIGHT
TZOFFSETFROM:-0600
TZOFFSETTO:-0500
TZNAME:CDT
DTSTART:20260308T080000
END:DAYLIGHT
BEGIN:STANDARD
TZOFFSETFROM:-0500
TZOFFSETTO:-0600
TZNAME:CST
DTSTART:20261101T070000
END:STANDARD
BEGIN:DAYLIGHT
TZOFFSETFROM:-0600
TZOFFSETTO:-0500
TZNAME:CDT
DTSTART:20270314T080000
END:DAYLIGHT
BEGIN:STANDARD
TZOFFSETFROM:-0500
TZOFFSETTO:-0600
TZNAME:CST
DTSTART:20271107T070000
END:STANDARD
END:VTIMEZONE
BEGIN:VEVENT
DTSTART;TZID=America/Chicago:20260422T200000
DTEND;TZID=America/Chicago:20260422T230000
DTSTAMP:20260422T190816
CREATED:20260419T045817Z
LAST-MODIFIED:20260422T122804Z
UID:10024807-1776888000-1776898800@hvilleblast.com
SUMMARY:The Syndicate
DESCRIPTION:Sean Hopkins is one of the finest bass players in the country\, and he resides here is Huntsville.  He hosted a funk night in Nashville\, and is starting a new one at Tip Top.  The Syndicate is a funk/R&B jam session featuring some of the finest musicians in the Tennessee Valley.  Wed. April 22 8:00
URL:https://hvilleblast.com/event/the-syndicate/
LOCATION:Tip Top Cafe @ 125 Northwest Maple Avenue\, Huntsville\, AL\, United States
CATEGORIES:Arts & Culture,Dance,Downtown Huntsville,Free Events
ATTACH;FMTTYPE=image/jpeg:https://timelyapp-prod.s3.us-west-2.amazonaws.com/images/54704218/Promo%201_RQku.png
GEO:34.718428;-86.556439
END:VEVENT
END:VCALENDAR