BEGIN:VCALENDAR
VERSION:2.0
PRODID:-//Hville Blast - ECPv6.15.20//NONSGML v1.0//EN
CALSCALE:GREGORIAN
METHOD:PUBLISH
X-WR-CALNAME:Hville Blast
X-ORIGINAL-URL:https://hvilleblast.com
X-WR-CALDESC:Events for Hville Blast
REFRESH-INTERVAL;VALUE=DURATION:PT1H
X-Robots-Tag:noindex
X-PUBLISHED-TTL:PT1H
BEGIN:VTIMEZONE
TZID:America/Chicago
BEGIN:DAYLIGHT
TZOFFSETFROM:-0600
TZOFFSETTO:-0500
TZNAME:CDT
DTSTART:20240310T080000
END:DAYLIGHT
BEGIN:STANDARD
TZOFFSETFROM:-0500
TZOFFSETTO:-0600
TZNAME:CST
DTSTART:20241103T070000
END:STANDARD
BEGIN:DAYLIGHT
TZOFFSETFROM:-0600
TZOFFSETTO:-0500
TZNAME:CDT
DTSTART:20250309T080000
END:DAYLIGHT
BEGIN:STANDARD
TZOFFSETFROM:-0500
TZOFFSETTO:-0600
TZNAME:CST
DTSTART:20251102T070000
END:STANDARD
BEGIN:DAYLIGHT
TZOFFSETFROM:-0600
TZOFFSETTO:-0500
TZNAME:CDT
DTSTART:20260308T080000
END:DAYLIGHT
BEGIN:STANDARD
TZOFFSETFROM:-0500
TZOFFSETTO:-0600
TZNAME:CST
DTSTART:20261101T070000
END:STANDARD
END:VTIMEZONE
BEGIN:VEVENT
DTSTART;TZID=America/Chicago:20250928T160000
DTEND;TZID=America/Chicago:20250928T235900
DTSTAMP:20260422T174428
CREATED:20250927T215739Z
LAST-MODIFIED:20250928T221407Z
UID:10016736-1759075200-1759103940@hvilleblast.com
SUMMARY:Valley Conservatory Early Music Festival Concert
DESCRIPTION:The Valley Conservatory Early Music Festival (VCEMF) was started in 2013 to expose the community to early music and period instruments by providing lectures\, master classes and concerts. It is the only early music festival in the southeast region of the country and is an annual event that is held in September. This year’s festival concert will take place Sunday\, September 28\, 4:00pm at Trinity Baptist Church located at 1088 Hughes Road in Madison.  \nThe concert will feature the launch of the Valley Conservatory Baroque Orchestra performing Telemann’s Sonata in D Major TWV 44:1\, with soloist Peter Lott\, Trumpet and Telemann’s Concerto for 2 Oboes and Bassoon TWV 53:C1\, with soloist Jared Hauser\, Oboe\, Lara Lay\, Oboe and Sue Dura\, Bassoon.  \nThe concert also features the VCEM Festival Artists\, and the Madison Early Music Project. Other performances include works by Scarlatti and Johnson.  The concert is open to the public and encourages dialog between artists and audience.  Additional information is available at valleyconservatory.com or by calling 256-534-3131.
URL:https://hvilleblast.com/event/valley-conservatory-early-music-festival-concert/
LOCATION:Trinity Baptist Church @ 1088  Hughes RD\, Madison\, AL\, United States
CATEGORIES:Arts & Culture,Cultural,Festivals,Free Events,Live Music,Music Month Highlights
ATTACH;FMTTYPE=image/jpeg:https://timelyapp-prod.s3.us-west-2.amazonaws.com/images/54704218/Valley%20Conservatory%20Early%20Music%20Festival%202025_hf41.png
GEO:34.710815;-86.742478
END:VEVENT
END:VCALENDAR